BEGIN:VCALENDAR
VERSION:2.0
PRODID:-//Grow is a capacity building platform - ECPv6.15.20//NONSGML v1.0//EN
CALSCALE:GREGORIAN
METHOD:PUBLISH
X-WR-CALNAME:Grow is a capacity building platform
X-ORIGINAL-URL:https://growcapacity.info
X-WR-CALDESC:Events for Grow is a capacity building platform
REFRESH-INTERVAL;VALUE=DURATION:PT1H
X-Robots-Tag:noindex
X-PUBLISHED-TTL:PT1H
BEGIN:VTIMEZONE
TZID:America/Chicago
BEGIN:DAYLIGHT
TZOFFSETFROM:-0600
TZOFFSETTO:-0500
TZNAME:CDT
DTSTART:20220313T080000
END:DAYLIGHT
BEGIN:STANDARD
TZOFFSETFROM:-0500
TZOFFSETTO:-0600
TZNAME:CST
DTSTART:20221106T070000
END:STANDARD
BEGIN:DAYLIGHT
TZOFFSETFROM:-0600
TZOFFSETTO:-0500
TZNAME:CDT
DTSTART:20230312T080000
END:DAYLIGHT
BEGIN:STANDARD
TZOFFSETFROM:-0500
TZOFFSETTO:-0600
TZNAME:CST
DTSTART:20231105T070000
END:STANDARD
BEGIN:DAYLIGHT
TZOFFSETFROM:-0600
TZOFFSETTO:-0500
TZNAME:CDT
DTSTART:20240310T080000
END:DAYLIGHT
BEGIN:STANDARD
TZOFFSETFROM:-0500
TZOFFSETTO:-0600
TZNAME:CST
DTSTART:20241103T070000
END:STANDARD
END:VTIMEZONE
BEGIN:VEVENT
DTSTART;TZID=America/Chicago:20231101T080000
DTEND;TZID=America/Chicago:20231101T100000
DTSTAMP:20260424T230816
CREATED:20231010T152523Z
LAST-MODIFIED:20250416T161242Z
UID:10000013-1698825600-1698832800@growcapacity.info
SUMMARY:SAVI Data Literacy Skills Training (Central Indiana) – Module 1A: Frame the Problem
DESCRIPTION:This is part of the SAVI Data Literacy Skills Training Series – A 6 Module Series\nBefore you can begin using data to inform decisions\, identify what you are trying to accomplish and determine how data can help you get there. This will determine what kind of data you need. What you will learn: \n\nTo identify what your goal is\nTo determine how to use data to help you meet your goal\nHow to form questions that are measurable\nTo determine what you need from your data (are you comparing across time\, comparing to other geographies\, individual level data\, aggregated groups\, comparing different groups\, etc.).
URL:https://growcapacity.info/event/savi-data-literacy-skills-training-central-indiana-module-1a-frame-the-problem/
LOCATION:Online
CATEGORIES:Community Stakeholder,Donor-Funder,Nonprofit
ATTACH;FMTTYPE=image/webp:https://growcapacity.info/wp-content/uploads/2023/10/Savi-data-literacy-2.webp
END:VEVENT
END:VCALENDAR