BEGIN:VCALENDAR
VERSION:2.0
PRODID:-//Grow is a capacity building platform - ECPv6.15.20//NONSGML v1.0//EN
CALSCALE:GREGORIAN
METHOD:PUBLISH
X-WR-CALNAME:Grow is a capacity building platform
X-ORIGINAL-URL:https://growcapacity.info
X-WR-CALDESC:Events for Grow is a capacity building platform
REFRESH-INTERVAL;VALUE=DURATION:PT1H
X-Robots-Tag:noindex
X-PUBLISHED-TTL:PT1H
BEGIN:VTIMEZONE
TZID:America/Chicago
BEGIN:DAYLIGHT
TZOFFSETFROM:-0600
TZOFFSETTO:-0500
TZNAME:CDT
DTSTART:20220313T080000
END:DAYLIGHT
BEGIN:STANDARD
TZOFFSETFROM:-0500
TZOFFSETTO:-0600
TZNAME:CST
DTSTART:20221106T070000
END:STANDARD
BEGIN:DAYLIGHT
TZOFFSETFROM:-0600
TZOFFSETTO:-0500
TZNAME:CDT
DTSTART:20230312T080000
END:DAYLIGHT
BEGIN:STANDARD
TZOFFSETFROM:-0500
TZOFFSETTO:-0600
TZNAME:CST
DTSTART:20231105T070000
END:STANDARD
BEGIN:DAYLIGHT
TZOFFSETFROM:-0600
TZOFFSETTO:-0500
TZNAME:CDT
DTSTART:20240310T080000
END:DAYLIGHT
BEGIN:STANDARD
TZOFFSETFROM:-0500
TZOFFSETTO:-0600
TZNAME:CST
DTSTART:20241103T070000
END:STANDARD
END:VTIMEZONE
BEGIN:VEVENT
DTSTART;TZID=America/Chicago:20231214T110000
DTEND;TZID=America/Chicago:20231214T131500
DTSTAMP:20260424T174505
CREATED:20231017T154947Z
LAST-MODIFIED:20231017T154947Z
UID:10000018-1702551600-1702559700@growcapacity.info
SUMMARY:Your Impact Strategy Doesn't Stop at Your Grantmaking
DESCRIPTION:This webinar will highlight different methods for providing support beyond grantmaking\, and how to think through what can work for your philanthropy. \n\n\n\n\n\nThis is members-only content. Log in to access this page.
URL:https://growcapacity.info/event/your-impact-strategy-doesnt-stop-at-your-grantmaking/
LOCATION:Online
CATEGORIES:Donor-Funder
ATTACH;FMTTYPE=image/webp:https://growcapacity.info/wp-content/uploads/2023/10/IPA-Impact-Strategy.webp
END:VEVENT
BEGIN:VEVENT
DTSTART;TZID=America/Chicago:20231214T120000
DTEND;TZID=America/Chicago:20231214T140000
DTSTAMP:20260424T174505
CREATED:20231010T153747Z
LAST-MODIFIED:20250416T161242Z
UID:10000017-1702555200-1702562400@growcapacity.info
SUMMARY:SAVI Data Literacy Skills Training (Central Indiana) – Module 2A: Finding Existing Data
DESCRIPTION:This is part of the SAVI Data Literacy Skills Training Series – A 6 Module Series\n\n\n\n\nAnswering the questions necessary to achieve goals requires locating and using the right data and tools. This workshop covers the strengths\, weaknesses\, and costs of readily available data sets\, including SAVI\, so you have the information you need to locate the data that is right for you. Hands-on activities explore the many tools that SAVI provides for locating and exploring data. \nWHO SHOULD ATTEND? This workshop is perfect for anyone that wants to learn techniques for finding the right data to answer questions. \nWHAT YOU WILL LEARN \n\nBenefits and challenges associated with several types of data\nWhere to access readily available data sources\nHow to balance needs and priorities to choose the right dataset\nHow to choose a substitute dataset when the indicator you want to measure is not available\n\nUSEFUL KNOWLEDGE TO HAVE BEFORE ATTENDING \nNo prior knowledge is required\, but you may find it useful to attend the Module 1A: Framing the Problem workshop before attending this workshop. In that workshop you learn how to frame problems with specific and measurable questions that can help you meet your goals.
URL:https://growcapacity.info/event/savi-data-literacy-skills-training-central-indiana-module-2a-finding-existing-data/
LOCATION:Online
CATEGORIES:Community Stakeholder,Donor-Funder,Nonprofit
ATTACH;FMTTYPE=image/webp:https://growcapacity.info/wp-content/uploads/2023/10/Savi-data-literacy-2.webp
END:VEVENT
END:VCALENDAR