BEGIN:VCALENDAR
VERSION:2.0
PRODID:-//Grow is a capacity building platform - ECPv6.15.20//NONSGML v1.0//EN
CALSCALE:GREGORIAN
METHOD:PUBLISH
X-ORIGINAL-URL:https://growcapacity.info
X-WR-CALDESC:Events for Grow is a capacity building platform
REFRESH-INTERVAL;VALUE=DURATION:PT1H
X-Robots-Tag:noindex
X-PUBLISHED-TTL:PT1H
BEGIN:VTIMEZONE
TZID:America/Chicago
BEGIN:DAYLIGHT
TZOFFSETFROM:-0600
TZOFFSETTO:-0500
TZNAME:CDT
DTSTART:20230312T080000
END:DAYLIGHT
BEGIN:STANDARD
TZOFFSETFROM:-0500
TZOFFSETTO:-0600
TZNAME:CST
DTSTART:20231105T070000
END:STANDARD
BEGIN:DAYLIGHT
TZOFFSETFROM:-0600
TZOFFSETTO:-0500
TZNAME:CDT
DTSTART:20240310T080000
END:DAYLIGHT
BEGIN:STANDARD
TZOFFSETFROM:-0500
TZOFFSETTO:-0600
TZNAME:CST
DTSTART:20241103T070000
END:STANDARD
BEGIN:DAYLIGHT
TZOFFSETFROM:-0600
TZOFFSETTO:-0500
TZNAME:CDT
DTSTART:20250309T080000
END:DAYLIGHT
BEGIN:STANDARD
TZOFFSETFROM:-0500
TZOFFSETTO:-0600
TZNAME:CST
DTSTART:20251102T070000
END:STANDARD
END:VTIMEZONE
BEGIN:VEVENT
DTSTART;TZID=America/Chicago:20240626T100000
DTEND;TZID=America/Chicago:20240626T110000
DTSTAMP:20260424T073618
CREATED:20231211T181819Z
LAST-MODIFIED:20231220T160602Z
UID:10000045-1719396000-1719399600@growcapacity.info
SUMMARY:Data-Informed Giving
DESCRIPTION:Do you feel overwhelmed by data? Are you interested in understanding what to look for in evaluation strategies that organizations you donate to are using to improve their programming and communicate their impact? Are you interested in knowing what to look for and what questions to ask? If the answer to these or similar questions is yes\, please join us for a training on data-informed giving! You’ll learn how to use data to drive impact. You’ll learn the 4 components of a data-informed organization. You’ll learn the why behind using data\, and leave with templates and resources that will help you and nonprofit organizations! \nClick Here to Register
URL:https://growcapacity.info/event/data-informed-giving-2/
LOCATION:Online
CATEGORIES:Community Stakeholder,Donor-Funder
ATTACH;FMTTYPE=image/webp:https://growcapacity.info/wp-content/uploads/2023/12/Data-Informed-Giving2.webp
END:VEVENT
END:VCALENDAR