BEGIN:VCALENDAR
VERSION:2.0
PRODID:-//Grow is a capacity building platform - ECPv6.15.20//NONSGML v1.0//EN
CALSCALE:GREGORIAN
METHOD:PUBLISH
X-WR-CALNAME:Grow is a capacity building platform
X-ORIGINAL-URL:https://growcapacity.info
X-WR-CALDESC:Events for Grow is a capacity building platform
REFRESH-INTERVAL;VALUE=DURATION:PT1H
X-Robots-Tag:noindex
X-PUBLISHED-TTL:PT1H
BEGIN:VTIMEZONE
TZID:America/Chicago
BEGIN:DAYLIGHT
TZOFFSETFROM:-0600
TZOFFSETTO:-0500
TZNAME:CDT
DTSTART:20230312T080000
END:DAYLIGHT
BEGIN:STANDARD
TZOFFSETFROM:-0500
TZOFFSETTO:-0600
TZNAME:CST
DTSTART:20231105T070000
END:STANDARD
BEGIN:DAYLIGHT
TZOFFSETFROM:-0600
TZOFFSETTO:-0500
TZNAME:CDT
DTSTART:20240310T080000
END:DAYLIGHT
BEGIN:STANDARD
TZOFFSETFROM:-0500
TZOFFSETTO:-0600
TZNAME:CST
DTSTART:20241103T070000
END:STANDARD
BEGIN:DAYLIGHT
TZOFFSETFROM:-0600
TZOFFSETTO:-0500
TZNAME:CDT
DTSTART:20250309T080000
END:DAYLIGHT
BEGIN:STANDARD
TZOFFSETFROM:-0500
TZOFFSETTO:-0600
TZNAME:CST
DTSTART:20251102T070000
END:STANDARD
END:VTIMEZONE
BEGIN:VEVENT
DTSTART;TZID=America/Chicago:20240910T090000
DTEND;TZID=America/Chicago:20241022T120000
DTSTAMP:20260423T105735
CREATED:20240816T203754Z
LAST-MODIFIED:20240816T203754Z
UID:10000120-1725958800-1729598400@growcapacity.info
SUMMARY:Leadership Coaching Bootcamp (non-degree seeking): Four-Session Series
DESCRIPTION:Price: $395\nDates: September 10\, September 24\, October 8\, October 22\nTime: 9:00 a.m. – 12:00 p.m.Location: J. Henry Schroeder Boardroom\, Library Second FloorInstructor(s): Timothy A. Dickel\, PhD \nLeadership coaching is an effective approach to develop employees through customized development plans\, setting expectations\, providing regular feedback\, and having one on one conversations. The goal of this program is to apply a coaching approach to leadership that will build up the capacity of managers and supervisors to improve the performance of their direct reports. \nSESSION 1: \n\nIntroduction to leadership theory\nCharacteristics of effective leaders\nWhat is coaching? What is not coaching?\n\nSESSION 2: \n\nIntroduction to behavioral change\nHow leaders can help change behaviors\n\nSESSION 3: \n\nApplying effective leadership and behavioral change to coaching\nFramework for leadership coaching\n\nSESSION 4: \n\nApplication of leadership coaching\nProviding effective feedback\nTools for leadership coaching\n\nA 10% discount is available to organizations sending six or more participants. Call 812-488-1046 for more details. \nDr. Timothy A. (Tad) Dickel serves as the Executive in Residence in Leadership and is the interim faculty director of the Master of Science in Leadership program at the University of Evansville. In addition\, he is the President of T.A. Dickel Group\, LLC and serves as a leadership and strategy consultant for businesses\, universities\, and nonprofits. \nRegister Here
URL:https://growcapacity.info/event/leadership-coaching-bootcamp-non-degree-seeking-four-session-series/
LOCATION:University of Evansville\, 1800 Lincoln Ave\, Evansville\, IN\, 47714\, United States
CATEGORIES:Community Stakeholder,Community Stakeholders,Donor-Funder,Donor-Funders,Nonprofit
ATTACH;FMTTYPE=image/webp:https://growcapacity.info/wp-content/uploads/2024/04/UE-Leadership-Coaching-Bootcamp.webp
END:VEVENT
BEGIN:VEVENT
DTSTART;TZID=America/Chicago:20240916T080000
DTEND;TZID=America/Chicago:20240916T100000
DTSTAMP:20260423T105735
CREATED:20240911T183923Z
LAST-MODIFIED:20240911T183923Z
UID:10000146-1726473600-1726480800@growcapacity.info
SUMMARY:SAVI Data Literacy Skills Training – Module 3B: Using SAVI Data in Other GIS Tools
DESCRIPTION:This VIRTUAL workshop will help you apply the skills learned in other workshops to your own real-world\, data-informed project. The workshop instructor will reach out to you prior to the workshop to discuss your project and to help you identify the data and other information you will need to bring to this workshop to be successful. \nThis offering is hosted by The Polis Center\, the creators of SAVI. Through this offering\, they will use the Central Indiana map\, but the lessons remain the same for Southern Indiana region. \nSAVI provides a powerful collection of tools and resources that help you use data to make decisions. By leveraging other Geographic Information System (GIS) tools along with SAVI\, you can do much more. Would you like to use SAVI maps in combination with other map data? Would you like to create your own web maps and share them with others? Would you like to analyze your data to find patterns and relationships? Would you like to know how to obtain these tools for your organization? This workshop demonstrates how GIS tools\, such as ArcGIS Online\, can help you do these things and more. \n\n\n\n\nWHO SHOULD ATTEND? \nThis webinar is intended for anyone that wants to know how GIS can help them serve communities. \nWHAT YOU WILL LEARN \nMapping\, analysis\, and data sharing capabilities of geographic information systems tools such as ArcGIS Online. \nHow to obtain access to GIS tools such as ArcGIS Online. \nUSEFUL KNOWLEDGE TO HAVE BEFORE ATTENDING \nNo prior knowledge is required\, but you may find it useful to attend the Module 1A: Framing the Problem workshop prior to this one so that you have a basic understanding of the data and tools available in SAVI. \n\n\n\n\nRegister Here
URL:https://growcapacity.info/event/savi-data-literacy-skills-training-module-3b-using-savi-data-in-other-gis-tools/
LOCATION:Online
CATEGORIES:Community Stakeholder,Donor-Funder,Nonprofit
ATTACH;FMTTYPE=image/webp:https://growcapacity.info/wp-content/uploads/2024/01/Savi-data-literacy.webp
END:VEVENT
BEGIN:VEVENT
DTSTART;TZID=America/Chicago:20240916T130000
DTEND;TZID=America/Chicago:20240916T143000
DTSTAMP:20260423T105735
CREATED:20240326T204657Z
LAST-MODIFIED:20240910T135523Z
UID:10000109-1726491600-1726497000@growcapacity.info
SUMMARY:SAVI Super User 6-part data Literacy Series\, Module 2A
DESCRIPTION:Description of SAVI Super User Learning Series\nParticipants will have the confidence to use SAVI and to provide limited technical assistance to others on the mechanics of SAVI\, as well as the basics of data literacy\, pitfalls\, sense-making\, storytelling\, and informed decision-making. \nWho should attend?\nIdeal participants are those that are looking to have a more in-depth understanding of SAVI mechanics\, basics of data literacy\, pitfalls\, sensemaking\, storytelling and informed decision making. \nUseful knowledge before attending?\nSome experience working with data and familiarity with SAVI may be helpful. For those who wish to gain a deeper understanding of SAVI beforehand\, attending a SAVI 101 session is highly recommended. \nAll training offerings will be virtual. A link will be sent via email to registrants & calendar invitations. \n* Following each session\, attendees will be asked to complete a brief survey.  The information will help Grow improve the support and education provided for SAVI. \nSeries Dates:  \nModule 1A\, Ask the Right Questions: September 10\, 1:00 PM – 2:00 PM CT\nModule 2A\, Find Existing Data: September 16\, 1:00 PM – 2:30 PM CT\nModule 2B\, Avoid Data Pitfalls: September 24\, 1:00 PM – 2:30 PM CT\nModule 3A\, Analyze & Visualize with Charts\, October 2\, 1:00 PM – 3:00 PM CT\nModule 4A\, Writing Tips & Platforms\, October 10\, 1:00 PM – 3:00 PM CT\nModule 4B\, Make Decisions with Data\, October 15\, 1:00 PM – 3:00 PM CT \nRegistration is closed for this series. Please email mcraven@growcapacity.org if you are interested in the 2025 offering. 
URL:https://growcapacity.info/event/savi-super-user-6-part-data-literacy-series-module-2a/
LOCATION:Online
CATEGORIES:Community Stakeholder,Community Stakeholders,Donor-Funder,Donor-Funders,Nonprofit
ATTACH;FMTTYPE=image/webp:https://growcapacity.info/wp-content/uploads/2023/10/Savi-data-literacy-1.webp
END:VEVENT
END:VCALENDAR