BEGIN:VCALENDAR
VERSION:2.0
PRODID:-//Grow is a capacity building platform - ECPv6.15.20//NONSGML v1.0//EN
CALSCALE:GREGORIAN
METHOD:PUBLISH
X-WR-CALNAME:Grow is a capacity building platform
X-ORIGINAL-URL:https://growcapacity.info
X-WR-CALDESC:Events for Grow is a capacity building platform
REFRESH-INTERVAL;VALUE=DURATION:PT1H
X-Robots-Tag:noindex
X-PUBLISHED-TTL:PT1H
BEGIN:VTIMEZONE
TZID:America/Chicago
BEGIN:DAYLIGHT
TZOFFSETFROM:-0600
TZOFFSETTO:-0500
TZNAME:CDT
DTSTART:20230312T080000
END:DAYLIGHT
BEGIN:STANDARD
TZOFFSETFROM:-0500
TZOFFSETTO:-0600
TZNAME:CST
DTSTART:20231105T070000
END:STANDARD
BEGIN:DAYLIGHT
TZOFFSETFROM:-0600
TZOFFSETTO:-0500
TZNAME:CDT
DTSTART:20240310T080000
END:DAYLIGHT
BEGIN:STANDARD
TZOFFSETFROM:-0500
TZOFFSETTO:-0600
TZNAME:CST
DTSTART:20241103T070000
END:STANDARD
BEGIN:DAYLIGHT
TZOFFSETFROM:-0600
TZOFFSETTO:-0500
TZNAME:CDT
DTSTART:20250309T080000
END:DAYLIGHT
BEGIN:STANDARD
TZOFFSETFROM:-0500
TZOFFSETTO:-0600
TZNAME:CST
DTSTART:20251102T070000
END:STANDARD
END:VTIMEZONE
BEGIN:VEVENT
DTSTART;TZID=America/Chicago:20240910T090000
DTEND;TZID=America/Chicago:20241022T120000
DTSTAMP:20260421T011349
CREATED:20240816T203754Z
LAST-MODIFIED:20240816T203754Z
UID:10000120-1725958800-1729598400@growcapacity.info
SUMMARY:Leadership Coaching Bootcamp (non-degree seeking): Four-Session Series
DESCRIPTION:Price: $395\nDates: September 10\, September 24\, October 8\, October 22\nTime: 9:00 a.m. – 12:00 p.m.Location: J. Henry Schroeder Boardroom\, Library Second FloorInstructor(s): Timothy A. Dickel\, PhD \nLeadership coaching is an effective approach to develop employees through customized development plans\, setting expectations\, providing regular feedback\, and having one on one conversations. The goal of this program is to apply a coaching approach to leadership that will build up the capacity of managers and supervisors to improve the performance of their direct reports. \nSESSION 1: \n\nIntroduction to leadership theory\nCharacteristics of effective leaders\nWhat is coaching? What is not coaching?\n\nSESSION 2: \n\nIntroduction to behavioral change\nHow leaders can help change behaviors\n\nSESSION 3: \n\nApplying effective leadership and behavioral change to coaching\nFramework for leadership coaching\n\nSESSION 4: \n\nApplication of leadership coaching\nProviding effective feedback\nTools for leadership coaching\n\nA 10% discount is available to organizations sending six or more participants. Call 812-488-1046 for more details. \nDr. Timothy A. (Tad) Dickel serves as the Executive in Residence in Leadership and is the interim faculty director of the Master of Science in Leadership program at the University of Evansville. In addition\, he is the President of T.A. Dickel Group\, LLC and serves as a leadership and strategy consultant for businesses\, universities\, and nonprofits. \nRegister Here
URL:https://growcapacity.info/event/leadership-coaching-bootcamp-non-degree-seeking-four-session-series/
LOCATION:University of Evansville\, 1800 Lincoln Ave\, Evansville\, IN\, 47714\, United States
CATEGORIES:Community Stakeholder,Community Stakeholders,Donor-Funder,Donor-Funders,Nonprofit
ATTACH;FMTTYPE=image/webp:https://growcapacity.info/wp-content/uploads/2024/04/UE-Leadership-Coaching-Bootcamp.webp
END:VEVENT
BEGIN:VEVENT
DTSTART;TZID=America/Chicago:20240919T113000
DTEND;TZID=America/Chicago:20241031T133000
DTSTAMP:20260421T011350
CREATED:20240816T204036Z
LAST-MODIFIED:20240816T204036Z
UID:10000139-1726745400-1730381400@growcapacity.info
SUMMARY:Project Management Workshop – Practical Application of Project Management Principles: Five-Session Series
DESCRIPTION:Price: $395Date: Tuesday\, September 19Time: 11:30 a.m. – 1:30 p.m.Location: University Libraries\, LI 203Instructor(s): Jesse Kauffman\, President\, Everyday Business Resilience Group\, LLC \nThis workshop series will focus on an overview of the Project Management Body of Knowledge and key Project Management concepts\, tools\, and methodologies and how to apply them to real world business situations. \nThis series begins on September 19\, 2024\, and meets again on September 26\, October 3\, October 24\, and October 31. \n\nWeek 1 – Project Management Introduction and System Overview\nWeek 2 – Project Management Body of Knowledge Introduction and Performance Domains\nWeek 3 – Project Management Tailoring\nWeek 4 – Project Management Models\, Methods\, and Artifacts\nWeek 5 – Course Wrap-up\n\nA 10% discount is available to organizations sending six or more participants. Call 812-488-1046 for more details. \nJesse Kauffman is the Lead Consultant for Everyday Business Resilience Group\, providing Business Continuity and Project Management services to local and global businesses alike. \nRegister Here
URL:https://growcapacity.info/event/project-management-workshop-practical-application-of-project-management-principles-five-session-series-2/
LOCATION:University of Evansville\, 1800 Lincoln Ave\, Evansville\, IN\, 47714\, United States
CATEGORIES:Community Stakeholder,Community Stakeholders,Donor-Funder,Donor-Funders,Nonprofit
ATTACH;FMTTYPE=image/webp:https://growcapacity.info/wp-content/uploads/2024/04/UE-Project-Management-Workshop.webp
END:VEVENT
BEGIN:VEVENT
DTSTART;TZID=America/Chicago:20241022T120000
DTEND;TZID=America/Chicago:20241022T140000
DTSTAMP:20260421T011350
CREATED:20240617T163303Z
LAST-MODIFIED:20240617T163303Z
UID:10000136-1729598400-1729605600@growcapacity.info
SUMMARY:SAVI Data Literacy Skills Training – Module 4B: Make Decisions with Data
DESCRIPTION:This VIRTUAL workshop will help you apply the skills learned in other workshops to your own real-world\, data-informed project. The workshop instructor will reach out to you prior to the workshop to discuss your project and to help you identify the data and other information you will need to bring to this workshop to be successful. \nThis offering is hosted by The Polis Center\, the creators of SAVI. Through this offering\, they will use the Central Indiana map\, but the lessons remain the same for Southern Indiana region. \n\n\nWHO SHOULD ATTEND? \nAnyone who wants to complete a data-driven project they are working on\, with assistance on how to apply their data skills to real-world solutions and informed decision making. \nWHAT WILL YOU LEARN? \n\nApply your critical data skills to decision-making\nLearn the limits of data in decision-making\nIncorporate qualitative information to improve decisions\n\nUSEFUL KNOWLEDGE TO HAVE BEFORE ATTENDING \nPrior to attending this workshop you should complete Module 1A: Framing the Problem\,   Module 2A: Finding Existing Data and Module 3A: Analyze and Visualize with Charts. \n\nRegister Here
URL:https://growcapacity.info/event/savi-data-literacy-skills-training-module-4b-make-decisions-with-data/
LOCATION:Online
CATEGORIES:Community Stakeholder,Donor-Funder,Nonprofit
ATTACH;FMTTYPE=image/webp:https://growcapacity.info/wp-content/uploads/2024/01/Savi-data-literacy.webp
END:VEVENT
END:VCALENDAR