BEGIN:VCALENDAR
VERSION:2.0
PRODID:-//Grow is a capacity building platform - ECPv6.15.20//NONSGML v1.0//EN
CALSCALE:GREGORIAN
METHOD:PUBLISH
X-ORIGINAL-URL:https://growcapacity.info
X-WR-CALDESC:Events for Grow is a capacity building platform
REFRESH-INTERVAL;VALUE=DURATION:PT1H
X-Robots-Tag:noindex
X-PUBLISHED-TTL:PT1H
BEGIN:VTIMEZONE
TZID:America/Chicago
BEGIN:DAYLIGHT
TZOFFSETFROM:-0600
TZOFFSETTO:-0500
TZNAME:CDT
DTSTART:20230312T080000
END:DAYLIGHT
BEGIN:STANDARD
TZOFFSETFROM:-0500
TZOFFSETTO:-0600
TZNAME:CST
DTSTART:20231105T070000
END:STANDARD
BEGIN:DAYLIGHT
TZOFFSETFROM:-0600
TZOFFSETTO:-0500
TZNAME:CDT
DTSTART:20240310T080000
END:DAYLIGHT
BEGIN:STANDARD
TZOFFSETFROM:-0500
TZOFFSETTO:-0600
TZNAME:CST
DTSTART:20241103T070000
END:STANDARD
BEGIN:DAYLIGHT
TZOFFSETFROM:-0600
TZOFFSETTO:-0500
TZNAME:CDT
DTSTART:20250309T080000
END:DAYLIGHT
BEGIN:STANDARD
TZOFFSETFROM:-0500
TZOFFSETTO:-0600
TZNAME:CST
DTSTART:20251102T070000
END:STANDARD
END:VTIMEZONE
BEGIN:VEVENT
DTSTART;TZID=America/Chicago:20241112T083000
DTEND;TZID=America/Chicago:20241112T103000
DTSTAMP:20260421T165155
CREATED:20231211T181803Z
LAST-MODIFIED:20240819T173058Z
UID:10000040-1731400200-1731407400@growcapacity.info
SUMMARY:Using Data to Inform Program Improvement
DESCRIPTION:This is a 4-part virtual workshop series with the ability to participate in the training subjects that interest you and your organization. Participants will learn the 4 components of a data-informed organization\, learning how to set up processes and structure\, as well as the why behind using the data as an asset for program improvement\, and external strategies shaping next steps instead of simply an obligation of compliance. Best practice approaches will be shared\, gaining templates\, and resources for practical use. USING DATA TO INFORM PROGRAM IMPROVEMENT will focus on helping participants understand how to use their data to inform program improvement. This training will be presented by Transform Consulting Group. \nRegister Here
URL:https://growcapacity.info/event/using-data-to-inform-program-improvement-2/
LOCATION:IN
CATEGORIES:Nonprofit
ATTACH;FMTTYPE=image/webp:https://growcapacity.info/wp-content/uploads/2023/12/Using-Data-.webp
END:VEVENT
BEGIN:VEVENT
DTSTART;TZID=America/Chicago:20241112T110000
DTEND;TZID=America/Chicago:20241112T130000
DTSTAMP:20260421T165155
CREATED:20241017T215152Z
LAST-MODIFIED:20241017T215152Z
UID:10000149-1731409200-1731416400@growcapacity.info
SUMMARY:Building for Impact: Facility and Finance Planning Strategies for Nonprofits
DESCRIPTION:Join us for an engaging session where you’ll learn about the resources available to nonprofit organizations and how CDFI Friendly Evansville Region and IFF can support your mission. This is a fantastic opportunity to connect with fellow nonprofits\, share insights\, and explore funding options. \nLunch will be provided\, so come hungry and ready to engage! Registration is limited. \nPlease RSVP to CDFI by 11/12/2024 at this link IFF Lunch & Learn — CDFI Friendly Evansville Region to ensure we have enough materials and food for everyone. \nWe look forward to seeing you there!
URL:https://growcapacity.info/event/building-for-impact-facility-and-finance-planning-strategies-for-nonprofits/
LOCATION:Welborn Community Room\, 20 NW Third St.\, Suite 1500\, Evansville\, 47708\, United States
CATEGORIES:Nonprofit
ATTACH;FMTTYPE=image/webp:https://growcapacity.info/wp-content/uploads/2024/10/CDFI-Event.webp
ORGANIZER;CN="CDFI Friendly Evansville Region and IFF":MAILTO:Info@CDFIFriendlyEvansville.org
END:VEVENT
BEGIN:VEVENT
DTSTART;TZID=America/Chicago:20241112T130000
DTEND;TZID=America/Chicago:20241114T153000
DTSTAMP:20260421T165155
CREATED:20241022T174051Z
LAST-MODIFIED:20241022T174051Z
UID:10000151-1731416400-1731598200@growcapacity.info
SUMMARY:QuickBooks Made Easy for Nonprofits: Desktop Version - 3-Part Series
DESCRIPTION:This program is offered through our learning partners at \n \nThis three-day series focuses on QuickBooks materials – all nonprofit-focused! \nWhen: 3-Part Training Webinar Series for QuickBooks Desktop: \nDay 1: Tuesday\, November 12\n2:00 p.m. – 4:30 p.m. EST; \nDay 2: Wednesday\, November 13\n2:00 p.m. – 4:30 p.m. EST \nDay 3: Thursday\, November 14\n2:00 p.m. – 4:30 p.m. EST \nPrice: $149 Per Day or $299 for all three days!\nEarn 7.5 hours of CPE credit! (2.5 each day)\nAll Participants will receive log-in information prior to the webinar! \n*This training is for the Desktop version of QuickBooks* \nCenter for Nonprofit Excellence members receive $70 off with the coupon code CNPE70 when placing their order for all 3 days. \nCenter for Nonprofit Excellence members receive $40 off with the coupon code CNPE40 when placing their order for a single-day ticket. \nSee the event link below to register and review the agenda:\nhttps://quickbooksmadeeasy.com/event/fundamentals-3-day-series-november-2024-desktop-version/ \nIf you are looking for the class about the online version of Quickbooks\, please go here: https://quickbooksmadeeasy.com/event/fundamentals-3-day-series-november-2024-online-version-2/ \nInstructor: \nGregg S. Bossen\, CPA created QuickBooks Made Easy for Nonprofits in 2000\, and has since been teaching QuickBooks seminars around the country for various groups\, conducting webinars\, providing technical support to hundreds of clients\, one-one-one consulting\, and offering industry-specific streamable training. Gregg’s teaching style is funny and entertaining\, and his energy and knowledge of Nonprofits make his classes a unique experience. Gregg has taught new users as well as other CPAs\, who are themselves considered experts in the software. In total\, he has taught over 4\,500 seminars to more than 65\,000 students. He currently teaches for over 30 Nonprofit State Associations\, as well as annually at Scaling New Heights and QuickBooks Connect.
URL:https://growcapacity.info/event/quickbooks-made-easy-for-nonprofits-desktop-version-3-part-series/
LOCATION:Online
CATEGORIES:Nonprofit
ATTACH;FMTTYPE=image/webp:https://growcapacity.info/wp-content/uploads/2024/10/QuickBooks-Made-Easy-for-Nonprofits-Desktop.webp
END:VEVENT
END:VCALENDAR