BEGIN:VCALENDAR
VERSION:2.0
PRODID:-//Grow is a capacity building platform - ECPv6.15.20//NONSGML v1.0//EN
CALSCALE:GREGORIAN
METHOD:PUBLISH
X-ORIGINAL-URL:https://growcapacity.info
X-WR-CALDESC:Events for Grow is a capacity building platform
REFRESH-INTERVAL;VALUE=DURATION:PT1H
X-Robots-Tag:noindex
X-PUBLISHED-TTL:PT1H
BEGIN:VTIMEZONE
TZID:America/Indiana/Indianapolis
BEGIN:DAYLIGHT
TZOFFSETFROM:-0500
TZOFFSETTO:-0400
TZNAME:EDT
DTSTART:20250309T070000
END:DAYLIGHT
BEGIN:STANDARD
TZOFFSETFROM:-0400
TZOFFSETTO:-0500
TZNAME:EST
DTSTART:20251102T060000
END:STANDARD
BEGIN:DAYLIGHT
TZOFFSETFROM:-0500
TZOFFSETTO:-0400
TZNAME:EDT
DTSTART:20260308T070000
END:DAYLIGHT
BEGIN:STANDARD
TZOFFSETFROM:-0400
TZOFFSETTO:-0500
TZNAME:EST
DTSTART:20261101T060000
END:STANDARD
BEGIN:DAYLIGHT
TZOFFSETFROM:-0500
TZOFFSETTO:-0400
TZNAME:EDT
DTSTART:20270314T070000
END:DAYLIGHT
BEGIN:STANDARD
TZOFFSETFROM:-0400
TZOFFSETTO:-0500
TZNAME:EST
DTSTART:20271107T060000
END:STANDARD
END:VTIMEZONE
BEGIN:VTIMEZONE
TZID:America/Chicago
BEGIN:DAYLIGHT
TZOFFSETFROM:-0600
TZOFFSETTO:-0500
TZNAME:CDT
DTSTART:20250309T080000
END:DAYLIGHT
BEGIN:STANDARD
TZOFFSETFROM:-0500
TZOFFSETTO:-0600
TZNAME:CST
DTSTART:20251102T070000
END:STANDARD
BEGIN:DAYLIGHT
TZOFFSETFROM:-0600
TZOFFSETTO:-0500
TZNAME:CDT
DTSTART:20260308T080000
END:DAYLIGHT
BEGIN:STANDARD
TZOFFSETFROM:-0500
TZOFFSETTO:-0600
TZNAME:CST
DTSTART:20261101T070000
END:STANDARD
BEGIN:DAYLIGHT
TZOFFSETFROM:-0600
TZOFFSETTO:-0500
TZNAME:CDT
DTSTART:20270314T080000
END:DAYLIGHT
BEGIN:STANDARD
TZOFFSETFROM:-0500
TZOFFSETTO:-0600
TZNAME:CST
DTSTART:20271107T070000
END:STANDARD
END:VTIMEZONE
BEGIN:VEVENT
DTSTART;TZID=America/Indiana/Indianapolis:20260608T140000
DTEND;TZID=America/Indiana/Indianapolis:20260608T160000
DTSTAMP:20260425T151351
CREATED:20260414T184304Z
LAST-MODIFIED:20260414T184304Z
UID:10000310-1780927200-1780934400@growcapacity.info
SUMMARY:Unlocking the Power of Online GIS: Integrating Data and Creating Multimedia Stories
DESCRIPTION:This session will explore how GIS technology can help you bring data to life. Learn how to integrate data from multiple sources—including SAVI—create interactive maps and multimedia stories and uncover patterns and relationships through spatial analysis. If you’re curious about how tools like ArcGIS Online can support your organization’s storytelling and data-driven decision making\, this workshop is for you. Live demonstrations of ArcGIS Online’s capabilities will be included. \nWHO SHOULD ATTEND?  \nThis webinar is intended for anyone that wants to know how GIS can help them serve communities.  \nWHAT YOU WILL LEARN  \n\nMapping\, analysis\, and data sharing capabilities of geographic information systems tools such as ArcGIS Online. \n\n\nHow to obtain access to GIS tools such as ArcGIS Online. \n\nUSEFUL KNOWLEDGE TO HAVE BEFORE ATTENDING  \nNo prior knowledge is required. 
URL:https://growcapacity.info/event/unlocking-the-power-of-online-gis-integrating-data-and-creating-multimedia-stories-3/
LOCATION:IN
CATEGORIES:Nonprofit
ATTACH;FMTTYPE=image/png:https://growcapacity.info/wp-content/uploads/2025/10/ArcGIS.webp
END:VEVENT
BEGIN:VEVENT
DTSTART;VALUE=DATE:20260609
DTEND;VALUE=DATE:20260612
DTSTAMP:20260425T151351
CREATED:20251110T205709Z
LAST-MODIFIED:20251110T205709Z
UID:10000244-1780963200-1781222399@growcapacity.info
SUMMARY:Community Leadership Program
DESCRIPTION:Servant leadership is ideology upon which Leadership Everyone was built. Each program offered by our staff is specifically designed to develop the servant leader that lies within each of the participants. Offering varying structures of the Community Leadership Program\, Leadership Everyone wishes to help you find your servant leadership potential. With the guidance of our staff and the retrospective insight from class members\, you will partake in an immersive experience. \nThe Leadership Everyone staff encourages you to explore the various program options and dates. If any questions arise\, please feel free to contact our office.
URL:https://growcapacity.info/event/community-leadership-program-summer-2026/
LOCATION:The Barn Abbey\, 504 North St\, New Harmony\, IN\, 47631\, United States
CATEGORIES:Community Stakeholder,Community Stakeholders,Nonprofit
ATTACH;FMTTYPE=image/webp:https://growcapacity.info/wp-content/uploads/2023/12/Community-Leadership-Program.webp
END:VEVENT
BEGIN:VEVENT
DTSTART;TZID=America/Indiana/Indianapolis:20260609T120000
DTEND;TZID=America/Indiana/Indianapolis:20260609T130000
DTSTAMP:20260425T151351
CREATED:20260205T185002Z
LAST-MODIFIED:20260205T185002Z
UID:10000293-1781006400-1781010000@growcapacity.info
SUMMARY:Driving Impact Through Governance: Strategies for Sustainable Success
DESCRIPTION:Effective governance is the bridge between strong leadership and meaningful\, measurable outcomes for an organization’s mission. This session explores how boards can move beyond policies and procedures to actively shape long-term impact. Participants will learn how to translate governance principles into strategic action\, ensuring decisions at the board table ripple through programs\, partnerships\, and community results. Through discussion and applied examples\, attendees will consider how to align governance practices with organizational values\, performance indicators\, and sustainability goals. \nLearning Objectives \n\nConnect board governance practices to organizational outcomes and community impact\nUse data and evaluation to inform governance decisions and measure progress\nIdentify strategies for aligning board work with mission\, vision\, and strategic priorities\n\nSpeaker \nVernetta Walker \nCEO\, Vernetta Walker and Associates
URL:https://growcapacity.info/event/driving-impact-through-governance-strategies-for-sustainable-success/
LOCATION:Online
CATEGORIES:Community Stakeholder,Nonprofit
ATTACH;FMTTYPE=image/webp:https://growcapacity.info/wp-content/uploads/2026/02/IYI-Driving-Impact-Through-Governance.webp
END:VEVENT
BEGIN:VEVENT
DTSTART;TZID=America/Chicago:20260610T090000
DTEND;TZID=America/Chicago:20260610T123000
DTSTAMP:20260425T151351
CREATED:20260113T193151Z
LAST-MODIFIED:20260319T205330Z
UID:10000277-1781082000-1781094600@growcapacity.info
SUMMARY:Unlocking Evaluation Success with Program Theory & Logic Models
DESCRIPTION:Program theory provides a roadmap for understanding how programs are supposed to work and how activities should lead to intended outcomes. Conversely\, when program theory is not well-defined\, problems will inevitably emerge that weaken both the program and its evaluation. This session provides an opportunity to dig deeper into program theory and strengthening evaluation efforts through helping clients identify\, clarify\, and communicate program theory. In this workshop session\, we’ll explore: \n·        What program theory is and how clearly articulating it can strengthen program delivery and management practices. \n·        How to communicate program theory through several strategies including basic and detailed logic models. \n·        Tools and templates that can be used to help staff and leaders develop\, revise\, and articulate program theory.
URL:https://growcapacity.info/event/unlocking-evaluation-success-2026/
LOCATION:Welborn Community Room\, 20 NW Third St.\, Suite 1500\, Evansville\, 47708\, United States
CATEGORIES:Donor-Funder,Nonprofit
ATTACH;FMTTYPE=image/webp:https://growcapacity.info/wp-content/uploads/2026/01/Grow-Limelight.webp
END:VEVENT
END:VCALENDAR