BEGIN:VCALENDAR
VERSION:2.0
PRODID:-//Grow is a capacity building platform - ECPv6.15.20//NONSGML v1.0//EN
CALSCALE:GREGORIAN
METHOD:PUBLISH
X-WR-CALNAME:Grow is a capacity building platform
X-ORIGINAL-URL:https://growcapacity.info
X-WR-CALDESC:Events for Grow is a capacity building platform
REFRESH-INTERVAL;VALUE=DURATION:PT1H
X-Robots-Tag:noindex
X-PUBLISHED-TTL:PT1H
BEGIN:VTIMEZONE
TZID:America/Chicago
BEGIN:DAYLIGHT
TZOFFSETFROM:-0600
TZOFFSETTO:-0500
TZNAME:CDT
DTSTART:20230312T080000
END:DAYLIGHT
BEGIN:STANDARD
TZOFFSETFROM:-0500
TZOFFSETTO:-0600
TZNAME:CST
DTSTART:20231105T070000
END:STANDARD
BEGIN:DAYLIGHT
TZOFFSETFROM:-0600
TZOFFSETTO:-0500
TZNAME:CDT
DTSTART:20240310T080000
END:DAYLIGHT
BEGIN:STANDARD
TZOFFSETFROM:-0500
TZOFFSETTO:-0600
TZNAME:CST
DTSTART:20241103T070000
END:STANDARD
BEGIN:DAYLIGHT
TZOFFSETFROM:-0600
TZOFFSETTO:-0500
TZNAME:CDT
DTSTART:20250309T080000
END:DAYLIGHT
BEGIN:STANDARD
TZOFFSETFROM:-0500
TZOFFSETTO:-0600
TZNAME:CST
DTSTART:20251102T070000
END:STANDARD
END:VTIMEZONE
BEGIN:VEVENT
DTSTART;TZID=America/Chicago:20240206T073000
DTEND;TZID=America/Chicago:20240208T170000
DTSTAMP:20260424T085758
CREATED:20231218T184751Z
LAST-MODIFIED:20240920T155251Z
UID:10000057-1707204600-1707411600@growcapacity.info
SUMMARY:Community Leadership Program
DESCRIPTION:Leadership Everyone’s Community Leadership Program is a three-day intensive program (with a half-day follow-up session) in which a diverse group of community members come together to discover their individual strengths\, learn new skills\, gain diverse perspectives\, and create a vision for our community’s future. Knowledge and experience gained during the program are then applied in the attendees’ personal and professional lives. Graduates of the program are actively and continuously engaged with a network of other alumni and community members and organizations\, using their strengths and passions to create community change. Alumni are provided opportunities through LE to engage in community activities\, such as through nonprofit Engagement Fairs where individuals are matched with organizations they can serve.
URL:https://growcapacity.info/event/community-leadership-program/
LOCATION:IN
CATEGORIES:Community Stakeholder,Donor-Funder,Nonprofit
ATTACH;FMTTYPE=image/webp:https://growcapacity.info/wp-content/uploads/2023/12/Community-Leadership-Program.webp
END:VEVENT
BEGIN:VEVENT
DTSTART;TZID=America/Chicago:20240212T120000
DTEND;TZID=America/Chicago:20240212T140000
DTSTAMP:20260424T085758
CREATED:20240125T194737Z
LAST-MODIFIED:20240125T194737Z
UID:10000079-1707739200-1707746400@growcapacity.info
SUMMARY:SAVI Data Literacy Skills Training (Central Indiana) – Module 1A: Frame the Problem
DESCRIPTION:Before you can begin using data to inform decisions\, identify what you are trying to accomplish and determine how data can help you get there. This will determine what kind of data you need. What you will learn: \n\nTo identify what your goal is\nTo determine how to use data to help you meet your goal\nHow to form questions that are measurable\nTo determine what you need from your data (are you comparing across time\, comparing to other geographies\, individual level data\, aggregated groups\, comparing different groups\, etc.).\n\nRegister Here
URL:https://growcapacity.info/event/savi-data-literacy-skills-training-central-indiana-module-1a-frame-the-problem-2-2/
LOCATION:Online
CATEGORIES:Community Stakeholder,Donor-Funder,Nonprofit
ATTACH;FMTTYPE=image/webp:https://growcapacity.info/wp-content/uploads/2023/10/Savi-data-literacy-2.webp
END:VEVENT
BEGIN:VEVENT
DTSTART;TZID=America/Chicago:20240214T074500
DTEND;TZID=America/Chicago:20240214T090000
DTSTAMP:20260424T085758
CREATED:20231218T184734Z
LAST-MODIFIED:20240920T151616Z
UID:10000048-1707896700-1707901200@growcapacity.info
SUMMARY:Evansville Area Fundraising Council Program
DESCRIPTION:The EAFC meets the second Wednesday of January\, February\, March\, April\, May\, September\, October\, November & December. All regular meetings begin with networking at 7:45 a.m. and the presentation begins at 8:00 a.m. The format varies between in-person and virtual\, depending on the presentation. Membership details are provided on the EAFC website.
URL:https://growcapacity.info/event/evansville-area-fundraising-council-program-3/
LOCATION:Welborn Community Room\, 20 NW Third St.\, Suite 1500\, Evansville\, 47708\, United States
CATEGORIES:Nonprofit
ATTACH;FMTTYPE=image/webp:https://growcapacity.info/wp-content/uploads/2023/12/Evansville-Area-Fundraising-Council-Program-1.webp
END:VEVENT
BEGIN:VEVENT
DTSTART;TZID=America/Chicago:20240214T140000
DTEND;TZID=America/Chicago:20240214T150000
DTSTAMP:20260424T085758
CREATED:20231211T181750Z
LAST-MODIFIED:20231218T170913Z
UID:10000034-1707919200-1707922800@growcapacity.info
SUMMARY:SAVI 101: Introduction to Grow & SAVI Data Tools
DESCRIPTION:Participants will learn the basic mechanics of SAVI tools and feel excited to engage with the SAVI data system on the Grow platform. The presentation will be delivered by The Polis Center team from Indiana University – Indianapolis or the local Grow team. Who should attend? Anyone new to utilizing SAVI or a user who is interested in learning the mechanics of the system. Whether you are in the nonprofit\, donor-funder\, business sector or a curious citizen\, this introductory lesson to SAVI is for you. *In each offering\, Grow staff spend up to 10 min providing a high-level intro to Grow. Useful knowledge before attending? Visiting growcapacity.info and entering into SAVI may help with a basic understanding of the concepts presented but is not required for attending. **Following each session\, attendees will be asked to complete a brief survey. The information will help Grow improve the support and education provided for SAVI. \nClick here to register
URL:https://growcapacity.info/event/savi-101-introduction-to-grow-savi-data-tools-4/
LOCATION:Online
CATEGORIES:Community Stakeholder,Donor-Funder,Nonprofit
ATTACH;FMTTYPE=image/webp:https://growcapacity.info/wp-content/uploads/2023/10/Savi-101.webp
END:VEVENT
BEGIN:VEVENT
DTSTART;TZID=America/Chicago:20240226T120000
DTEND;TZID=America/Chicago:20240226T140000
DTSTAMP:20260424T085758
CREATED:20240125T194500Z
LAST-MODIFIED:20240219T165904Z
UID:10000082-1708948800-1708956000@growcapacity.info
SUMMARY:SAVI Data Literacy Skills Training – Module 2A: Finding Existing Data
DESCRIPTION:This VIRTUAL workshop will help you apply the skills learned in other workshops to your own real-world\, data-informed project. The workshop instructor will reach out to you prior to the workshop to discuss your project and to help you identify the data and other information you will need to bring to this workshop to be successful. \nThis offering is hosted by The Polis Center\, the creators of SAVI. Through this offering\, they will use the Central Indiana map\, but the lessons remain the same for Southern Indiana region. \nAnswering the questions necessary to achieve goals requires locating and using the right data and tools. This workshop covers the strengths\, weaknesses\, and costs of readily available data sets\, including SAVI\, so you have the information you need to locate the data that is right for you. Hands-on activities explore the many tools that SAVI provides for locating and exploring data.\n\n\n\n\nWHO SHOULD ATTEND? This workshop is perfect for anyone that wants to learn techniques for finding the right data to answer questions. \nWHAT YOU WILL LEARN \n\nBenefits and challenges associated with several types of data\nWhere to access readily available data sources\nHow to balance needs and priorities to choose the right dataset\nHow to choose a substitute dataset when the indicator you want to measure is not available\n\nUSEFUL KNOWLEDGE TO HAVE BEFORE ATTENDING \nNo prior knowledge is required\, but you may find it useful to attend the Module 1A: Framing the Problem workshop before attending this workshop. In that workshop you learn how to frame problems with specific and measurable questions that can help you meet your goals. \nRegister Here
URL:https://growcapacity.info/event/savi-data-literacy-skills-training-central-indiana-module-2a-finding-existing-data-2/
LOCATION:Online
CATEGORIES:Community Stakeholder,Donor-Funder,Nonprofit
ATTACH;FMTTYPE=image/webp:https://growcapacity.info/wp-content/uploads/2024/01/Savi-data-literacy.webp
END:VEVENT
BEGIN:VEVENT
DTSTART;TZID=America/Chicago:20240227T083000
DTEND;TZID=America/Chicago:20240227T120000
DTSTAMP:20260424T085758
CREATED:20231218T184752Z
LAST-MODIFIED:20240105T154359Z
UID:10000060-1709022600-1709035200@growcapacity.info
SUMMARY:Sustain Abilities
DESCRIPTION:This joint participation facilitates embedding the learnings into both staff and the full board. Each successive year builds on the basic topics covered in the year prior with the intention of building board culture and staff/board alignment. There are 4 “advancing” levels\, with an “alumni” opportunity which is an opportunity for agencies previously engaged to begin again if leadership has changed or if other members of leadership have been identified for attendance to assist the organization with embedding the learning. Two members (board president or designated board member and ED)\, partner through this cohort-based learning experience\, building communication effectiveness and implementation strength. In Sustain Abilities\, the focus is on more engaged boards\, building board culture\, deeper donor relationships\, with a financial plan developed by the end of the program\, working toward long-term sustainability. Such things as capital campaign readiness assessment\, donor communications\, and planned giving are discussed. The deliverables at the end of the program are a richer understanding of the success factors and an action plan for incorporating them into the board and staff “DNA”. (Outcome measurement provided by JDLA).
URL:https://growcapacity.info/event/sustain-abilities/
LOCATION:Welborn Community Room\, 20 NW Third St.\, Suite 1500\, Evansville\, 47708\, United States
CATEGORIES:Community Stakeholder,Nonprofit
ATTACH;FMTTYPE=image/webp:https://growcapacity.info/wp-content/uploads/2023/12/SustainAbilities.webp
END:VEVENT
BEGIN:VEVENT
DTSTART;TZID=America/Chicago:20240229T083000
DTEND;TZID=America/Chicago:20240229T113000
DTSTAMP:20260424T085758
CREATED:20231218T184752Z
LAST-MODIFIED:20240105T214246Z
UID:10000061-1709195400-1709206200@growcapacity.info
SUMMARY:Sustain Abilities
DESCRIPTION:This joint participation facilitates embedding the learnings into both staff and the full board. Each successive year builds on the basic topics covered in the year prior with the intention of building board culture and staff/board alignment. There are 4 “advancing” levels\, with an “alumni” opportunity which is an opportunity for agencies previously engaged to begin again if leadership has changed or if other members of leadership have been identified for attendance to assist the organization with embedding the learning. Two members (board president or designated board member and ED)\, partner through this cohort-based learning experience\, building communication effectiveness and implementation strength. In Sustain Abilities\, the focus is on more engaged boards\, building board culture\, deeper donor relationships\, with a financial plan developed by the end of the program\, working toward long-term sustainability. Such things as capital campaign readiness assessment\, donor communications\, and planned giving are discussed. The deliverables at the end of the program are a richer understanding of the success factors and an action plan for incorporating them into the board and staff “DNA”. (Outcome measurement provided by JDLA).
URL:https://growcapacity.info/event/sustain-abilities-2/
LOCATION:Online
CATEGORIES:Community Stakeholder,Nonprofit
ATTACH;FMTTYPE=image/webp:https://growcapacity.info/wp-content/uploads/2023/12/SustainAbilities.webp
END:VEVENT
END:VCALENDAR