BEGIN:VCALENDAR
VERSION:2.0
PRODID:-//Grow is a capacity building platform - ECPv6.15.20//NONSGML v1.0//EN
CALSCALE:GREGORIAN
METHOD:PUBLISH
X-WR-CALNAME:Grow is a capacity building platform
X-ORIGINAL-URL:https://growcapacity.info
X-WR-CALDESC:Events for Grow is a capacity building platform
REFRESH-INTERVAL;VALUE=DURATION:PT1H
X-Robots-Tag:noindex
X-PUBLISHED-TTL:PT1H
BEGIN:VTIMEZONE
TZID:America/Chicago
BEGIN:DAYLIGHT
TZOFFSETFROM:-0600
TZOFFSETTO:-0500
TZNAME:CDT
DTSTART:20230312T080000
END:DAYLIGHT
BEGIN:STANDARD
TZOFFSETFROM:-0500
TZOFFSETTO:-0600
TZNAME:CST
DTSTART:20231105T070000
END:STANDARD
BEGIN:DAYLIGHT
TZOFFSETFROM:-0600
TZOFFSETTO:-0500
TZNAME:CDT
DTSTART:20240310T080000
END:DAYLIGHT
BEGIN:STANDARD
TZOFFSETFROM:-0500
TZOFFSETTO:-0600
TZNAME:CST
DTSTART:20241103T070000
END:STANDARD
BEGIN:DAYLIGHT
TZOFFSETFROM:-0600
TZOFFSETTO:-0500
TZNAME:CDT
DTSTART:20250309T080000
END:DAYLIGHT
BEGIN:STANDARD
TZOFFSETFROM:-0500
TZOFFSETTO:-0600
TZNAME:CST
DTSTART:20251102T070000
END:STANDARD
END:VTIMEZONE
BEGIN:VEVENT
DTSTART;TZID=America/Chicago:20240405T090000
DTEND;TZID=America/Chicago:20240405T163000
DTSTAMP:20260423T235731
CREATED:20240115T165621Z
LAST-MODIFIED:20240115T215930Z
UID:10000078-1712307600-1712334600@growcapacity.info
SUMMARY:Beginner's Guide to Grant Writing in Gibson County
DESCRIPTION:For more than 20 years\, the award-winning Beginner’s Guide to Grant Writing program has been helping Hoosiers improve their communities by leveraging grants of all sizes. Participants of the Beginner’s Guide to Grant Writing workshop draft and polish a grant proposal and learn how to navigate the grant process. Both beginners and experienced grant writers learn to develop ideas into winning proposals\, identify and build relationships with potential funders\, and speak and write confidently about how their proposal will make an impact. \nBeginner’s Guide to Grant Writing is a 2-day in-person workshop hosted by Purdue Extension in counties around the state. At the end of Day 1\, participants will have a proposal outline and all the resources they need to develop it into a full proposal. On Day 2\, participants practice reviewing a grant proposal\, interacting with a funder\, and searching for funding. \nWorkshop participants across the state have leveraged millions of dollars in grant funding to improve the quality of life. Thanks to their success\, Indiana is home to new community playgrounds\, expanded social services\, inclusive arts initiatives\, natural resource enhancements\, renovated historical buildings\, and innovative educational offerings and so much more! Our trainers can also provide customized training to existing groups with a shared focus. \nPROGRAM TAKEAWAYS\nDay One: \n\nDevelop your grant writing skills from the ground up\nBring your project idea and be ready to write\nCreate a comprehensive proposal outline by the end of Day One\nAccess resources to transform your outline into a fully developed proposal\n\nDay Two: \n\nStep into the role of a reviewer\nLearn effective strategies for finding funding opportunities\nPolish your proposal with expert guidance\nSubmit your proposal for a robust professional review\nNo matter the scale of your project\, this workshop equips you with the knowledge and tools to submit proposals confidently.\n\nDates and Times: \n\nDay 1 – Friday\, April 5\, 2024\, 9:00 am to 4:30 pm Central\nDay 2 – Friday\, May 3\, 2024\, 9:00 am to 4:30 pm Central\n\nLocation: \nFort Branch Library\, The Lois Kessel Meeting Room\n107 E. Locust Street\, Fort Branch\, IN 47648 \n  \nClick Here to Register\n  \nRegistration Information: Please register by Friday\, March 29\, 2024.\nFor more information\, feel free to contact Abby Heidenreich at 812-385-3491 or aheidenr@purdue.edu\, or Kym Schwinkendorf at kschwink@purdue.edu or 219-386-5232. \nNote: If you require a reasonable accommodation to participate in this program\, please contact Abby Heidenreich in advance at 812-385-3491 or aheidenr@purdue.edu.
URL:https://growcapacity.info/event/beginners-guide-to-grant-writing-in-gibson-county/
LOCATION:Fort Branch Library\, 107 E. Locust Street\, Fort Branch\, IN\, 47648\, United States
CATEGORIES:Nonprofit
ATTACH;FMTTYPE=image/webp:https://growcapacity.info/wp-content/uploads/2024/01/Beginners-Guide-to-Grant-Writing.webp
END:VEVENT
BEGIN:VEVENT
DTSTART;TZID=America/Chicago:20240410T074500
DTEND;TZID=America/Chicago:20240410T090000
DTSTAMP:20260423T235731
CREATED:20231218T184734Z
LAST-MODIFIED:20240920T151356Z
UID:10000050-1712735100-1712739600@growcapacity.info
SUMMARY:Evansville Area Fundraising Council Program
DESCRIPTION:The EAFC meets the second Wednesday of January\, February\, March\, April\, May\, September\, October\, November & December. All regular meetings begin with networking at 7:45 a.m. and the presentation begins at 8:00 a.m. The format varies between in-person and virtual\, depending on the presentation. Membership details are provided on the EAFC website.
URL:https://growcapacity.info/event/evansville-area-fundraising-council-program-5/
LOCATION:Welborn Community Room\, 20 NW Third St.\, Suite 1500\, Evansville\, 47708\, United States
CATEGORIES:Nonprofit
ATTACH;FMTTYPE=image/webp:https://growcapacity.info/wp-content/uploads/2023/12/Evansville-Area-Fundraising-Council-Program-1.webp
END:VEVENT
BEGIN:VEVENT
DTSTART;TZID=America/Chicago:20240415T120000
DTEND;TZID=America/Chicago:20240415T140000
DTSTAMP:20260423T235731
CREATED:20240125T200100Z
LAST-MODIFIED:20240219T165238Z
UID:10000086-1713182400-1713189600@growcapacity.info
SUMMARY:SAVI Data Literacy Skills Training – Module 3B: Using SAVI Data in Other GIS Tools
DESCRIPTION:This VIRTUAL workshop will help you apply the skills learned in other workshops to your own real-world\, data-informed project. The workshop instructor will reach out to you prior to the workshop to discuss your project and to help you identify the data and other information you will need to bring to this workshop to be successful. \nThis offering is hosted by The Polis Center\, the creators of SAVI. Through this offering\, they will use the Central Indiana map\, but the lessons remain the same for Southern Indiana region. \nSAVI provides a powerful collection of tools and resources that help you use data to make decisions. By leveraging other Geographic Information System (GIS) tools along with SAVI\, you can do much more. Would you like to use SAVI maps in combination with other map data? Would you like to create your own web maps and share them with others? Would you like to analyze your data to find patterns and relationships? Would you like to know how to obtain these tools for your organization? This workshop demonstrates how GIS tools\, such as ArcGIS Online\, can help you do these things and more. \n\n\n\n\nWHO SHOULD ATTEND? \nThis webinar is intended for anyone that wants to know how GIS can help them serve communities. \nWHAT YOU WILL LEARN \nMapping\, analysis\, and data sharing capabilities of geographic information systems tools such as ArcGIS Online. \nHow to obtain access to GIS tools such as ArcGIS Online. \nUSEFUL KNOWLEDGE TO HAVE BEFORE ATTENDING \nNo prior knowledge is required\, but you may find it useful to attend the Module 1A: Framing the Problem workshop prior to this one so that you have a basic understanding of the data and tools available in SAVI. \n\n\n\n\nRegister Here
URL:https://growcapacity.info/event/savi-data-literacy-skills-training-central-indiana-module-3b-using-savi-data-in-other-gis-tools-2/
LOCATION:Online
CATEGORIES:Community Stakeholder,Donor-Funder,Nonprofit
ATTACH;FMTTYPE=image/webp:https://growcapacity.info/wp-content/uploads/2024/01/Savi-data-literacy.webp
END:VEVENT
BEGIN:VEVENT
DTSTART;TZID=America/Chicago:20240416T083000
DTEND;TZID=America/Chicago:20240416T120000
DTSTAMP:20260423T235731
CREATED:20231218T184806Z
LAST-MODIFIED:20231218T194107Z
UID:10000063-1713256200-1713268800@growcapacity.info
SUMMARY:Sustain Abilities
DESCRIPTION:This joint participation facilitates embedding the learnings into both staff and the full board. Each successive year builds on the basic topics covered in the year prior with the intention of building board culture and staff/board alignment. There are 4 “advancing” levels\, with an “alumni” opportunity which is an opportunity for agencies previously engaged to begin again if leadership has changed or if other members of leadership have been identified for attendance to assist the organization with embedding the learning. Two members (board president or designated board member and ED)\, partner through this cohort-based learning experience\, building communication effectiveness and implementation strength. In Sustain Abilities\, the focus is on more engaged boards\, building board culture\, deeper donor relationships\, with a financial plan developed by the end of the program\, working toward long-term sustainability. Such things as capital campaign readiness assessment\, donor communications\, and planned giving are discussed. The deliverables at the end of the program are a richer understanding of the success factors and an action plan for incorporating them into the board and staff “DNA”. (Outcome measurement provided by JDLA).
URL:https://growcapacity.info/event/sustain-abilities-4/
LOCATION:Welborn Community Room\, 20 NW Third St.\, Suite 1500\, Evansville\, 47708\, United States
CATEGORIES:Community Stakeholder,Nonprofit
ATTACH;FMTTYPE=image/webp:https://growcapacity.info/wp-content/uploads/2023/12/SustainAbilities.webp
END:VEVENT
BEGIN:VEVENT
DTSTART;TZID=America/Chicago:20240417T083000
DTEND;TZID=America/Chicago:20240418T163000
DTSTAMP:20260423T235731
CREATED:20231218T184836Z
LAST-MODIFIED:20240207T174953Z
UID:10000072-1713342600-1713457800@growcapacity.info
SUMMARY:Next Generation Leadership Academy (6-Part Series)
DESCRIPTION:Next Generation Leadership Academy is a customized executive level education partnership with IU O’Neill School of Public and Environmental Affairs. This 6-linked module\, focusing on competency development in the areas of leading a nonprofit is designed for new Executive Directors and next generation leaders (having 53 in our community who have benefitted since 2016). \nThere is a registration deadline\, spots are available but limited. For registration and further information\, please visit the Welborn Baptist Foundation website.
URL:https://growcapacity.info/event/next-generation-leadership-academy/
LOCATION:Welborn Community Room\, 20 NW Third St.\, Suite 1500\, Evansville\, 47708\, United States
CATEGORIES:Nonprofit
ATTACH;FMTTYPE=image/webp:https://growcapacity.info/wp-content/uploads/2023/12/Next-Gen-Leadership-Academy.webp
END:VEVENT
BEGIN:VEVENT
DTSTART;TZID=America/Chicago:20240417T143000
DTEND;TZID=America/Chicago:20240417T153000
DTSTAMP:20260423T235731
CREATED:20231211T181751Z
LAST-MODIFIED:20240920T155508Z
UID:10000036-1713364200-1713367800@growcapacity.info
SUMMARY:SAVI 101: Introduction to Grow & SAVI Data Tools
DESCRIPTION:Participants will learn the basic mechanics of SAVI tools and feel excited to engage with the SAVI data system on the Grow platform. The presentation will be delivered by The Polis Center team from Indiana University – Indianapolis or the local Grow team. Who should attend? Anyone new to utilizing SAVI or a user who is interested in learning the mechanics of the system. Whether you are in the nonprofit\, donor-funder\, business sector or a curious citizen\, this introductory lesson to SAVI is for you. *In each offering\, Grow staff spend up to 10 min providing a high-level intro to Grow. Useful knowledge before attending? Visiting growcapacity.info and entering into SAVI may help with a basic understanding of the concepts presented but is not required for attending. **Following each session\, attendees will be asked to complete a brief survey. The information will help Grow improve the support and education provided for SAVI. \nClick here to register
URL:https://growcapacity.info/event/savi-101-introduction-to-grow-savi-data-tools-6/
LOCATION:Online
CATEGORIES:Community Stakeholder,Donor-Funder,Nonprofit
ATTACH;FMTTYPE=image/webp:https://growcapacity.info/wp-content/uploads/2023/10/Savi-101.webp
END:VEVENT
BEGIN:VEVENT
DTSTART;TZID=America/Chicago:20240422T100000
DTEND;TZID=America/Chicago:20240422T113000
DTSTAMP:20260423T235731
CREATED:20231218T184807Z
LAST-MODIFIED:20231218T194148Z
UID:10000064-1713780000-1713785400@growcapacity.info
SUMMARY:Sustain Abilities
DESCRIPTION:This joint participation facilitates embedding the learnings into both staff and the full board. Each successive year builds on the basic topics covered in the year prior with the intention of building board culture and staff/board alignment. There are 4 “advancing” levels\, with an “alumni” opportunity which is an opportunity for agencies previously engaged to begin again if leadership has changed or if other members of leadership have been identified for attendance to assist the organization with embedding the learning. Two members (board president or designated board member and ED)\, partner through this cohort-based learning experience\, building communication effectiveness and implementation strength. In Sustain Abilities\, the focus is on more engaged boards\, building board culture\, deeper donor relationships\, with a financial plan developed by the end of the program\, working toward long-term sustainability. Such things as capital campaign readiness assessment\, donor communications\, and planned giving are discussed. The deliverables at the end of the program are a richer understanding of the success factors and an action plan for incorporating them into the board and staff “DNA”. (Outcome measurement provided by JDLA).
URL:https://growcapacity.info/event/sustain-abilities-5/
LOCATION:Online
CATEGORIES:Community Stakeholder,Nonprofit
ATTACH;FMTTYPE=image/webp:https://growcapacity.info/wp-content/uploads/2023/12/SustainAbilities.webp
END:VEVENT
BEGIN:VEVENT
DTSTART;TZID=America/Chicago:20240422T120000
DTEND;TZID=America/Chicago:20240422T140000
DTSTAMP:20260423T235731
CREATED:20240125T213155Z
LAST-MODIFIED:20240219T165814Z
UID:10000088-1713787200-1713794400@growcapacity.info
SUMMARY:SAVI Data Literacy Skills Training – Module 4A: Tell Stories with Data
DESCRIPTION:This VIRTUAL workshop will help you apply the skills learned in other workshops to your own real-world\, data-informed project. The workshop instructor will reach out to you prior to the workshop to discuss your project and to help you identify the data and other information you will need to bring to this workshop to be successful. \nThis offering is hosted by The Polis Center\, the creators of SAVI. Through this offering\, they will use the Central Indiana map\, but the lessons remain the same for Southern Indiana region. \nThis workshop teaches the next steps of persuasively communicating what you have learned after gaining initial insight from data. You will learn the skills to put your analysis in the context of a compelling narrative and to build your argument logically and convincingly. Whatever your audience\, weaving the data into a story is what communicates your findings to others\, whether it be a small data set\, large data set\, or multiple data sets. \nWHO SHOULD ATTEND? \nAnyone interested in taking the next step from understanding their data and visualizing it\, to telling a cohesive story to others about their data. \nWHAT WILL YOU LEARN? \n\nTo find the compelling narrative in your data\nTo connect facts that build a compelling argument\nTo use compelling graphics to communicate your point\nTo tailor your delivery to your audiences needs\n\nUSEFUL KNOWLEDGE TO HAVE BEFORE ATTENDING \nNo prior knowledge is required\, but you may find it useful to attend the Module 1A: Framing the Problem workshop prior to this one. In that workshop you learn how to frame problems so that you have specific and measurable questions that can help you meet your goals. You may also want to consider attending the Module 2A: Finding Existing Data workshop which explores where to find existing data and how to choose the right data source for answering your questions. \nRegister Here
URL:https://growcapacity.info/event/savi-data-literacy-skills-training-central-indiana-module-4a-tell-stories-with-data-2/
LOCATION:Online
CATEGORIES:Community Stakeholder,Donor-Funder,Nonprofit
ATTACH;FMTTYPE=image/webp:https://growcapacity.info/wp-content/uploads/2024/01/Savi-data-literacy.webp
END:VEVENT
BEGIN:VEVENT
DTSTART;TZID=America/Chicago:20240423T113000
DTEND;TZID=America/Chicago:20240423T133000
DTSTAMP:20260423T235731
CREATED:20240412T155848Z
LAST-MODIFIED:20240412T155848Z
UID:10000115-1713871800-1713879000@growcapacity.info
SUMMARY:Project Management Workshop – Practical Application of Project Management Principles: Five-Session Series
DESCRIPTION:Price: $395Date: Tuesday\, April 23\, 2024Time: 11:30 a.m. – 1:30 p.m.Location: University Libraries\, LI 203Instructor(s): Jesse Kauffman\, President\, Everyday Business Resilience Group\, LLC \nThis workshop series will focus on an overview of the Project Management Body of Knowledge and key Project Management concepts\, tools\, and methodologies and how to apply them to real world business situations. \nThis series begins on April 23\, 2024\, and meets again on April 30\, May 7\, May 14\, and May 21. \n\nWeek 1 – Project Management Introduction and System Overview\nWeek 2 – Project Management Body of Knowledge Introduction and Performance Domains\nWeek 3 – Project Management Tailoring\nWeek 4 – Project Management Models\, Methods\, and Artifacts\nWeek 5 – Course Wrap-up\n\nA 10% discount is available to organizations sending six or more participants. Call 812-488-1046 for more details. \nJesse Kauffman is the Lead Consultant for Everyday Business Resilience Group\, providing Business Continuity and Project Management services to local and global businesses alike. \nRegister Here
URL:https://growcapacity.info/event/project-management-workshop-practical-application-of-project-management-principles-five-session-series/2024-04-23/
LOCATION:University of Evansville\, 1800 Lincoln Ave\, Evansville\, IN\, 47714\, United States
CATEGORIES:Community Stakeholder,Community Stakeholders,Donor-Funder,Donor-Funders,Nonprofit
ATTACH;FMTTYPE=image/webp:https://growcapacity.info/wp-content/uploads/2024/04/UE-Project-Management-Workshop.webp
END:VEVENT
BEGIN:VEVENT
DTSTART;TZID=America/Chicago:20240424T083000
DTEND;TZID=America/Chicago:20240424T120000
DTSTAMP:20260423T235732
CREATED:20231218T184836Z
LAST-MODIFIED:20240419T143029Z
UID:10000073-1713947400-1713960000@growcapacity.info
SUMMARY:Next Generation Leadership Academy Alumni Continuing Education
DESCRIPTION:Are you an alumni participant of the Next Generation Leadership Academy? Stay connected and updated on important topics in the field. Contact Welborn Baptist Foundation for registration and details. \nHaven’t participated in the Next Generation Leadership Academy yet?  It is a customized\, local executive level education partnership with IU O’Neill School of Public and Environmental Affairs. This 6-linked module\, focusing on competency development in the areas of leading a nonprofit and is designed for new Executive Directors and next generation leaders (having 53 in our community who have benefitted since 2016).  Click here to learn more.
URL:https://growcapacity.info/event/next-generation-leadership-academy-2/
LOCATION:Welborn Community Room\, 20 NW Third St.\, Suite 1500\, Evansville\, 47708\, United States
CATEGORIES:Nonprofit
ATTACH;FMTTYPE=image/webp:https://growcapacity.info/wp-content/uploads/2023/12/Next-Gen-Leadership-Academy-Cont-Ed.webp
END:VEVENT
BEGIN:VEVENT
DTSTART;TZID=America/Chicago:20240425T083000
DTEND;TZID=America/Chicago:20240425T123000
DTSTAMP:20260423T235732
CREATED:20231218T184837Z
LAST-MODIFIED:20240920T155142Z
UID:10000076-1714033800-1714048200@growcapacity.info
SUMMARY:Board Champions™ 101
DESCRIPTION:The Board Champions ™ 101-level program provides a critical overview of nonprofit leadership and Board governance. Leaders will explore the vital tactical elements of roles of the Board in nonprofit leadership as well as specific responsibilities of governance. The program provides participants with leading practices in Board excellence along with practical application and understanding of the realities of nonprofit governance. Participants leave prepared and inspired to assume a greater leadership role in helping build a flourishing community. Specific topics covered include but are not limited to:  4 vital roles of the Board; The nonprofit lifecycle; Lanes of success – boundaries between Board and staff; Traditional Board leadership structures and decision making; Fiduciary duties of Board members; How to evaluate potential Board service opportunities. This will be offered as an open offering. Seating will be limited. Contracted consultant partner\, Greg Nielsen of Nielsen Training & Consulting\, LLC.
URL:https://growcapacity.info/event/board-champions-101/
LOCATION:Welborn Community Room\, 20 NW Third St.\, Suite 1500\, Evansville\, 47708\, United States
CATEGORIES:Community Stakeholders,Donor-Funders
END:VEVENT
BEGIN:VEVENT
DTSTART;TZID=America/Chicago:20240429T120000
DTEND;TZID=America/Chicago:20240429T140000
DTSTAMP:20260423T235732
CREATED:20240125T213505Z
LAST-MODIFIED:20240219T165351Z
UID:10000090-1714392000-1714399200@growcapacity.info
SUMMARY:SAVI Data Literacy Skills Training – Module 4B: Make Decisions with Data
DESCRIPTION:This VIRTUAL workshop will help you apply the skills learned in other workshops to your own real-world\, data-informed project. The workshop instructor will reach out to you prior to the workshop to discuss your project and to help you identify the data and other information you will need to bring to this workshop to be successful. \nThis offering is hosted by The Polis Center\, the creators of SAVI. Through this offering\, they will use the Central Indiana map\, but the lessons remain the same for Southern Indiana region. \nThis workshop will help you apply the skills learned in other workshops to your own real-world\, data-informed project. The workshop instructor will reach out to you prior to the workshop to discuss your project and to help you identify the data and other information you will need to bring to this workshop to be successful. \n\n\nWHO SHOULD ATTEND? \nAnyone who wants to complete a data-driven project they are working on\, with assistance on how to apply their data skills to real-world solutions and informed decision making. \nWHAT WILL YOU LEARN? \n\nApply your critical data skills to decision-making\nLearn the limits of data in decision-making\nIncorporate qualitative information to improve decisions\n\nUSEFUL KNOWLEDGE TO HAVE BEFORE ATTENDING \nPrior to attending this workshop you should complete Module 1A: Framing the Problem\,   Module 2A: Finding Existing Data and Module 3A: Analyze and Visualize with Charts. \n\nRegister Here
URL:https://growcapacity.info/event/savi-data-literacy-skills-training-central-indiana-module-4b-make-decisions-with-data-2/
LOCATION:Online
CATEGORIES:Community Stakeholder,Donor-Funder,Nonprofit
ATTACH;FMTTYPE=image/webp:https://growcapacity.info/wp-content/uploads/2024/01/Savi-data-literacy.webp
END:VEVENT
BEGIN:VEVENT
DTSTART;TZID=America/Chicago:20240430T113000
DTEND;TZID=America/Chicago:20240430T133000
DTSTAMP:20260423T235732
CREATED:20240412T155848Z
LAST-MODIFIED:20240412T155848Z
UID:10000116-1714476600-1714483800@growcapacity.info
SUMMARY:Project Management Workshop – Practical Application of Project Management Principles: Five-Session Series
DESCRIPTION:Price: $395Date: Tuesday\, April 23\, 2024Time: 11:30 a.m. – 1:30 p.m.Location: University Libraries\, LI 203Instructor(s): Jesse Kauffman\, President\, Everyday Business Resilience Group\, LLC \nThis workshop series will focus on an overview of the Project Management Body of Knowledge and key Project Management concepts\, tools\, and methodologies and how to apply them to real world business situations. \nThis series begins on April 23\, 2024\, and meets again on April 30\, May 7\, May 14\, and May 21. \n\nWeek 1 – Project Management Introduction and System Overview\nWeek 2 – Project Management Body of Knowledge Introduction and Performance Domains\nWeek 3 – Project Management Tailoring\nWeek 4 – Project Management Models\, Methods\, and Artifacts\nWeek 5 – Course Wrap-up\n\nA 10% discount is available to organizations sending six or more participants. Call 812-488-1046 for more details. \nJesse Kauffman is the Lead Consultant for Everyday Business Resilience Group\, providing Business Continuity and Project Management services to local and global businesses alike. \nRegister Here
URL:https://growcapacity.info/event/project-management-workshop-practical-application-of-project-management-principles-five-session-series/2024-04-30/
LOCATION:University of Evansville\, 1800 Lincoln Ave\, Evansville\, IN\, 47714\, United States
CATEGORIES:Community Stakeholder,Community Stakeholders,Donor-Funder,Donor-Funders,Nonprofit
ATTACH;FMTTYPE=image/webp:https://growcapacity.info/wp-content/uploads/2024/04/UE-Project-Management-Workshop.webp
END:VEVENT
END:VCALENDAR