BEGIN:VCALENDAR
VERSION:2.0
PRODID:-//Grow is a capacity building platform - ECPv6.15.20//NONSGML v1.0//EN
CALSCALE:GREGORIAN
METHOD:PUBLISH
X-WR-CALNAME:Grow is a capacity building platform
X-ORIGINAL-URL:https://growcapacity.info
X-WR-CALDESC:Events for Grow is a capacity building platform
REFRESH-INTERVAL;VALUE=DURATION:PT1H
X-Robots-Tag:noindex
X-PUBLISHED-TTL:PT1H
BEGIN:VTIMEZONE
TZID:America/Chicago
BEGIN:DAYLIGHT
TZOFFSETFROM:-0600
TZOFFSETTO:-0500
TZNAME:CDT
DTSTART:20230312T080000
END:DAYLIGHT
BEGIN:STANDARD
TZOFFSETFROM:-0500
TZOFFSETTO:-0600
TZNAME:CST
DTSTART:20231105T070000
END:STANDARD
BEGIN:DAYLIGHT
TZOFFSETFROM:-0600
TZOFFSETTO:-0500
TZNAME:CDT
DTSTART:20240310T080000
END:DAYLIGHT
BEGIN:STANDARD
TZOFFSETFROM:-0500
TZOFFSETTO:-0600
TZNAME:CST
DTSTART:20241103T070000
END:STANDARD
BEGIN:DAYLIGHT
TZOFFSETFROM:-0600
TZOFFSETTO:-0500
TZNAME:CDT
DTSTART:20250309T080000
END:DAYLIGHT
BEGIN:STANDARD
TZOFFSETFROM:-0500
TZOFFSETTO:-0600
TZNAME:CST
DTSTART:20251102T070000
END:STANDARD
END:VTIMEZONE
BEGIN:VEVENT
DTSTART;TZID=America/Chicago:20240501T093000
DTEND;TZID=America/Chicago:20240501T110000
DTSTAMP:20260423T235717
CREATED:20231211T181804Z
LAST-MODIFIED:20240411T181843Z
UID:10000042-1714555800-1714561200@growcapacity.info
SUMMARY:Using Data in Grant Writing
DESCRIPTION:Using Data in Grant Writing will help participants understand how to identify\, gather\, and use relevant data to support a successful grant application. Publicly available secondary data can help nonprofit organizations show the need for their programs and services. Data that organizations collect on their program implementation can help demonstrate how effectively they can meet the community need. We will give examples of how organizations can use data in the narrative of their grant application. Participants will learn how using data can help them make a successful case for funding. This training will be presented by Transform Consulting Group. \n  \nClick Here to Register
URL:https://growcapacity.info/event/using-data-in-grant-writing/
LOCATION:Online
CATEGORIES:Community Stakeholder,Donor-Funder,Nonprofit
ATTACH;FMTTYPE=image/webp:https://growcapacity.info/wp-content/uploads/2023/10/Data-in-Grantwriting.webp
END:VEVENT
BEGIN:VEVENT
DTSTART;TZID=America/Chicago:20240502T083000
DTEND;TZID=America/Chicago:20240502T123000
DTSTAMP:20260423T235717
CREATED:20231218T184736Z
LAST-MODIFIED:20240826T181735Z
UID:10000053-1714638600-1714653000@growcapacity.info
SUMMARY:Giving For Impact
DESCRIPTION:Level I\, Session II\nGiving for Impact – Evansville   |   Impact matters because simply doing good work does not equal changed lives \nAs a donor\, do you ever question whether your donations are having the impact you expect?  Do you often feel like you are just writing checks to organizations because they asked or because it makes you feel good? \nOver the past eight years\, our program\, Giving for Impact\, has made a tremendous difference in how people donate and partner with nonprofits. \nThe sole purpose of our training is to equip attendees with knowledge and help in developing relationships with the nonprofit community.  The training encourages individuals to learn more about who they are as donors by teaching them to identify their personal mission\, vision\, and core values to create charitable impact.  As a donor\, they will be equipped to know how to find fulfillment in their giving. \nOnce an individual understands who they are as a donor\, the program will build on that understanding by equipping them with knowledge of what a strong nonprofit organization looks like.  Donors will learn how to ask the right questions when meeting with a nonprofit and how to determine if they are actually making a difference.  Participants will learn what a healthy nonprofit partnership looks like and be able to create their own personal plan and philosophy of giving. \nGiving for Impact is a great training program for individual donors as well as family foundations\, financial advisors\, wealth managers\, CPA’s\, estate planners\, attorneys or trust advisors. Regardless if you donate $50.00 per year or $50\,000.00 per year\, Giving for Impact is for anyone who desires to have a clearer understanding of themselves as a donor and has a desire to make a greater impact through their giving. \nJamie D. Levy\, from JDLevy & Associates\, an international speaker\, consultant\, and adjunct professor at Indiana University School of Philanthropy\, IU Fund Raising School\, and IU Paul H. O’Neill School of Public and Environment Affairs (IU SPEA)\, will guide you through understanding the strategies involved in making wise decisions regarding your philanthropic giving.  To learn more about Mr. Levy and JDLevy & Associates visit their website www.JDLevyAssociates.com \nThis training is supported through donations from Jim and Carol Havens\, JDLevy & Associates\, Community Foundation Alliance\, and the Welborn Baptist Foundation.  These donations allow Giving for Impact to offer this series at no cost to you. \nIf you have questions or would like additional information please do not hesitate to contact: Carol Havens havenscs@gmail.com  812-453-8654  Cara Steinkuhl carasteinkuhl@gmail.com 812-455-4321 or Jamie Levy jlevy@jdlevyassociates.com \nInterested\, desire to learn more\, or want to register? Contact the event organizations here
URL:https://growcapacity.info/event/giving-for-impact-2/
LOCATION:Welborn Community Room\, 20 NW Third St.\, Suite 1500\, Evansville\, 47708\, United States
CATEGORIES:Community Stakeholder,Donor-Funder,Nonprofit
ATTACH;FMTTYPE=image/webp:https://growcapacity.info/wp-content/uploads/2023/12/Giving-For-Impact.webp
END:VEVENT
BEGIN:VEVENT
DTSTART;TZID=America/Chicago:20240507T083000
DTEND;TZID=America/Chicago:20240507T123000
DTSTAMP:20260423T235717
CREATED:20231218T184807Z
LAST-MODIFIED:20231218T194423Z
UID:10000065-1715070600-1715085000@growcapacity.info
SUMMARY:Sustain Abilities
DESCRIPTION:This joint participation facilitates embedding the learnings into both staff and the full board. Each successive year builds on the basic topics covered in the year prior with the intention of building board culture and staff/board alignment. There are 4 “advancing” levels\, with an “alumni” opportunity which is an opportunity for agencies previously engaged to begin again if leadership has changed or if other members of leadership have been identified for attendance to assist the organization with embedding the learning. Two members (board president or designated board member and ED)\, partner through this cohort-based learning experience\, building communication effectiveness and implementation strength. In Sustain Abilities\, the focus is on more engaged boards\, building board culture\, deeper donor relationships\, with a financial plan developed by the end of the program\, working toward long-term sustainability. Such things as capital campaign readiness assessment\, donor communications\, and planned giving are discussed. The deliverables at the end of the program are a richer understanding of the success factors and an action plan for incorporating them into the board and staff “DNA”. (Outcome measurement provided by JDLA).
URL:https://growcapacity.info/event/sustain-abilities-6/
LOCATION:Welborn Community Room\, 20 NW Third St.\, Suite 1500\, Evansville\, 47708\, United States
CATEGORIES:Community Stakeholder,Nonprofit
ATTACH;FMTTYPE=image/webp:https://growcapacity.info/wp-content/uploads/2023/12/SustainAbilities.webp
END:VEVENT
BEGIN:VEVENT
DTSTART;TZID=America/Chicago:20240507T113000
DTEND;TZID=America/Chicago:20240507T133000
DTSTAMP:20260423T235717
CREATED:20240412T155848Z
LAST-MODIFIED:20240412T155848Z
UID:10000117-1715081400-1715088600@growcapacity.info
SUMMARY:Project Management Workshop – Practical Application of Project Management Principles: Five-Session Series
DESCRIPTION:Price: $395Date: Tuesday\, April 23\, 2024Time: 11:30 a.m. – 1:30 p.m.Location: University Libraries\, LI 203Instructor(s): Jesse Kauffman\, President\, Everyday Business Resilience Group\, LLC \nThis workshop series will focus on an overview of the Project Management Body of Knowledge and key Project Management concepts\, tools\, and methodologies and how to apply them to real world business situations. \nThis series begins on April 23\, 2024\, and meets again on April 30\, May 7\, May 14\, and May 21. \n\nWeek 1 – Project Management Introduction and System Overview\nWeek 2 – Project Management Body of Knowledge Introduction and Performance Domains\nWeek 3 – Project Management Tailoring\nWeek 4 – Project Management Models\, Methods\, and Artifacts\nWeek 5 – Course Wrap-up\n\nA 10% discount is available to organizations sending six or more participants. Call 812-488-1046 for more details. \nJesse Kauffman is the Lead Consultant for Everyday Business Resilience Group\, providing Business Continuity and Project Management services to local and global businesses alike. \nRegister Here
URL:https://growcapacity.info/event/project-management-workshop-practical-application-of-project-management-principles-five-session-series/2024-05-07/
LOCATION:University of Evansville\, 1800 Lincoln Ave\, Evansville\, IN\, 47714\, United States
CATEGORIES:Community Stakeholder,Community Stakeholders,Donor-Funder,Donor-Funders,Nonprofit
ATTACH;FMTTYPE=image/webp:https://growcapacity.info/wp-content/uploads/2024/04/UE-Project-Management-Workshop.webp
END:VEVENT
BEGIN:VEVENT
DTSTART;TZID=America/Chicago:20240509T113000
DTEND;TZID=America/Chicago:20240509T130000
DTSTAMP:20260423T235717
CREATED:20240416T143350Z
LAST-MODIFIED:20240416T143350Z
UID:10000121-1715254200-1715259600@growcapacity.info
SUMMARY:Current Market Trends
DESCRIPTION:Current Market Trends\nLunch-N-Learn\nThursday\, May 9\, 2024\n11:30am – 1:00pm\nEvansville Country Club\nCurrent Market Trends Flyer \nPlease join us over lunch for an opportunity to network and hear current trends across five different industries. \nRSVP to Register Today — Seating is Limited \nIT & CyberSecurity \nARE YOU ALREADY SECURE?\nBrian Burkett is the Business Development Manager for Lieberman Technologies\, a local firm founded in 1977 that provides a wide array of technology solutions including managed services\, cybersecurity\, custom software\, and web development. Lieberman Technologies is all about long-lasting\, mutually beneficial relationships\, prioritizing understanding their clients’ needs\, and making the same recommendations for them as they would for themselves if they were in the same situation. Brian believes in the importance of community service and is involved with several organizations\, including the Evansville Rotary and Evansville Economic Partnership. \nBrand/Marketing Communications \nMANAGING BRAND IN CHANGING TIMES\nEllen Browning is Brand Strategist and Creative Director at Ellen Browning Design & Associates. Ellen brings 20+ years of industry experience and 10+ years as a Professor of Visual Communications. Originating in Chicago\, Illinois\, Ellen Browning Design & Associates is an award-winning brand\, marketing communication\, and design firm. They successfully partner with clients in the education\, financial services\, health-care\, manufacturing\, and not-for-profit industries\, to name a few. Ellen Browning Design & Associates is audience-focused\, strategy- driven\, collaborative\, and experienced at establishing\, building\, and growing brands and collaborating with organizations of various sizes. \nEmployee Benefits Insurance \nTHE AMERICAN EMPLOYER MUST STEP UP TO CONTROL RISING HEALTHCARE COST\nJonathon Estes is an Employee Benefits advisor for Houchens Insurance Group\, the 46th largest independent insurance agency in the nation. Jonathon has been in healthcare for the last 20+ Years bringing innovative solutions to local groups that have proven to reduce healthcare costs by 20-40% while also improving benefits for employees. Jonathon is a forward-thinking antagonist of the traditional healthcare system where his objective is to help employer populations achieve better health outcomes. In 2019\, Jonathon joined a national movement of professionals driven to help systemically change the way healthcare coverage is purchased by employers throughout the country. The organization is known as Health Rosetta. \nBusiness Continuity \nUNPREDICTABLE CRISIS; A BUSINESS IMPACT ANALYSIS PREPARES ORGANIZATIONS\nJesse Kauffman is the President and Lead Consultant for Everyday Business Resilience Group. Jesse is a 17+ year veteran of the manufacturing world\, with expertise in Business Continuity Planning\, Crisis Management\, and Project Management. A mechanical engineer by training\, his wide-ranging career has spanned many well-known companies in the Evansville area\, including AstraZeneca\, Mead Johnson Nutrition\, Project Associates\, Inc.\, Whirlpool\, and Ilpea/Holm Industries. He now focuses on Business Continuity and Project Management training\, coaching\, and education with his company\, Everyday Business Resilience Group\, helping companies and organizations from small and local to large and global improve their resilience and their project execution. \nFinancial Services \nHOW TWO YEARS OF FINANCIAL UNCERTAINTY HAS CHANGED FINANCIAL PLANNING\nJonathon Dierlam\, a Financial Advisor at Rick Watkins Financial Services\, is committed to helping clients achieve their financial goals. Jonathan has 15+ years of industry experience and works with both individuals and small/medium-size businesses. Advisors at Rick Watkins Financial\, believe a plan is a powerful tool. Reaching your long-term financial objectives hinges on having the right plan — which fits your unique circumstances and grows with you.
URL:https://growcapacity.info/event/current-market-trends/
LOCATION:Evansville County Club\, 3810 Stringtown Rd\, Evansville\, IN\, 47711\, United States
CATEGORIES:Community Stakeholder,Community Stakeholders,Donor-Funder,Donor-Funders,Nonprofit
ATTACH;FMTTYPE=image/webp:https://growcapacity.info/wp-content/uploads/2024/04/Current-Market-Trends-2024.webp
END:VEVENT
BEGIN:VEVENT
DTSTART;TZID=America/Chicago:20240513T120000
DTEND;TZID=America/Chicago:20240513T140000
DTSTAMP:20260423T235717
CREATED:20240219T165452Z
LAST-MODIFIED:20240219T165453Z
UID:10000081-1715601600-1715608800@growcapacity.info
SUMMARY:SAVI Data Literacy Skills Training – Module 1A: Frame the Problem
DESCRIPTION:This VIRTUAL workshop will help you apply the skills learned in other workshops to your own real-world\, data-informed project. The workshop instructor will reach out to you prior to the workshop to discuss your project and to help you identify the data and other information you will need to bring to this workshop to be successful. \nThis offering is hosted by The Polis Center\, the creators of SAVI. Through this offering\, they will use the Central Indiana map\, but the lessons remain the same for Southern Indiana region. \nBefore you can begin using data to inform decisions\, identify what you are trying to accomplish and determine how data can help you get there. This will determine what kind of data you need. What you will learn: \n\nTo identify what your goal is\nTo determine how to use data to help you meet your goal\nHow to form questions that are measurable\nTo determine what you need from your data (are you comparing across time\, comparing to other geographies\, individual level data\, aggregated groups\, comparing different groups\, etc.).\n\nRegister Here
URL:https://growcapacity.info/event/savi-data-literacy-skills-training-central-indiana-module-1a-frame-the-problem-3-2/
LOCATION:Online
CATEGORIES:Community Stakeholder,Donor-Funder,Nonprofit
ATTACH;FMTTYPE=image/webp:https://growcapacity.info/wp-content/uploads/2024/01/Savi-data-literacy.webp
END:VEVENT
BEGIN:VEVENT
DTSTART;TZID=America/Chicago:20240514T083000
DTEND;TZID=America/Chicago:20240515T163000
DTSTAMP:20260423T235717
CREATED:20240207T165617Z
LAST-MODIFIED:20240502T193604Z
UID:10000093-1715675400-1715790600@growcapacity.info
SUMMARY:Next Generation Leadership Academy (6-Part Series)
DESCRIPTION:Next Generation Leadership Academy is a customized executive level education partnership with IU O’Neill School of Public and Environmental Affairs. This 6-linked module\, focusing on competency development in the areas of leading a nonprofit is designed for new Executive Directors and next generation leaders (having 53 in our community who have benefitted since 2016). \nThere is a registration deadline\, spots are available but limited. For registration and further information\, please visit the Welborn Baptist Foundation website.
URL:https://growcapacity.info/event/next-generation-leadership-academy-6/
LOCATION:Welborn Community Room\, 20 NW Third St.\, Suite 1500\, Evansville\, 47708\, United States
CATEGORIES:Nonprofit
ATTACH;FMTTYPE=image/webp:https://growcapacity.info/wp-content/uploads/2023/12/Next-Gen-Leadership-Academy.webp
END:VEVENT
BEGIN:VEVENT
DTSTART;TZID=America/Chicago:20240514T113000
DTEND;TZID=America/Chicago:20240514T133000
DTSTAMP:20260423T235717
CREATED:20240412T155848Z
LAST-MODIFIED:20240412T155848Z
UID:10000118-1715686200-1715693400@growcapacity.info
SUMMARY:Project Management Workshop – Practical Application of Project Management Principles: Five-Session Series
DESCRIPTION:Price: $395Date: Tuesday\, April 23\, 2024Time: 11:30 a.m. – 1:30 p.m.Location: University Libraries\, LI 203Instructor(s): Jesse Kauffman\, President\, Everyday Business Resilience Group\, LLC \nThis workshop series will focus on an overview of the Project Management Body of Knowledge and key Project Management concepts\, tools\, and methodologies and how to apply them to real world business situations. \nThis series begins on April 23\, 2024\, and meets again on April 30\, May 7\, May 14\, and May 21. \n\nWeek 1 – Project Management Introduction and System Overview\nWeek 2 – Project Management Body of Knowledge Introduction and Performance Domains\nWeek 3 – Project Management Tailoring\nWeek 4 – Project Management Models\, Methods\, and Artifacts\nWeek 5 – Course Wrap-up\n\nA 10% discount is available to organizations sending six or more participants. Call 812-488-1046 for more details. \nJesse Kauffman is the Lead Consultant for Everyday Business Resilience Group\, providing Business Continuity and Project Management services to local and global businesses alike. \nRegister Here
URL:https://growcapacity.info/event/project-management-workshop-practical-application-of-project-management-principles-five-session-series/2024-05-14/
LOCATION:University of Evansville\, 1800 Lincoln Ave\, Evansville\, IN\, 47714\, United States
CATEGORIES:Community Stakeholder,Community Stakeholders,Donor-Funder,Donor-Funders,Nonprofit
ATTACH;FMTTYPE=image/webp:https://growcapacity.info/wp-content/uploads/2024/04/UE-Project-Management-Workshop.webp
END:VEVENT
BEGIN:VEVENT
DTSTART;TZID=America/Chicago:20240515T140000
DTEND;TZID=America/Chicago:20240515T150000
DTSTAMP:20260423T235717
CREATED:20231211T181751Z
LAST-MODIFIED:20240920T155453Z
UID:10000037-1715781600-1715785200@growcapacity.info
SUMMARY:SAVI 101: Introduction to Grow & SAVI Data Tools
DESCRIPTION:Participants will learn the basic mechanics of SAVI tools and feel excited to engage with the SAVI data system on the Grow platform. The presentation will be delivered by The Polis Center team from Indiana University – Indianapolis or the local Grow team. Who should attend? Anyone new to utilizing SAVI or a user who is interested in learning the mechanics of the system. Whether you are in the nonprofit\, donor-funder\, business sector or a curious citizen\, this introductory lesson to SAVI is for you. *In each offering\, Grow staff spend up to 10 min providing a high-level intro to Grow. Useful knowledge before attending? Visiting growcapacity.info and entering into SAVI may help with a basic understanding of the concepts presented but is not required for attending. **Following each session\, attendees will be asked to complete a brief survey. The information will help Grow improve the support and education provided for SAVI. \nClick here to register
URL:https://growcapacity.info/event/savi-101-introduction-to-grow-savi-data-tools-7/
LOCATION:Online
CATEGORIES:Community Stakeholder,Donor-Funder,Nonprofit
ATTACH;FMTTYPE=image/webp:https://growcapacity.info/wp-content/uploads/2023/10/Savi-101.webp
END:VEVENT
BEGIN:VEVENT
DTSTART;TZID=America/Chicago:20240516T113000
DTEND;TZID=America/Chicago:20240516T130000
DTSTAMP:20260423T235717
CREATED:20240412T155112Z
LAST-MODIFIED:20240412T155112Z
UID:10000114-1715859000-1715864400@growcapacity.info
SUMMARY:Leadership Communication Skills
DESCRIPTION:Price: $45Date: May 16\, 2024Time: 11:30 a.m. to 1:00 p.m.Location: Ridgway University Center\, Eykamp Hall\, Room 252Instructor(s): Timothy A. Dickel\, PhD \nEffective leaders understand the importance of communication. Participants will explore and apply elements of successful communication\, including adapting communication styles\, open body language\, active listening\, and open-ended questions. \nDr. Timothy A. (Tad) Dickel serves as the Executive in Residence in Leadership and is the interim faculty director of the Master of Science in Leadership program at the University of Evansville. In addition\, he is the President of T.A. Dickel Group\, LLC and serves as a leadership and strategy consultant for businesses\, universities\, and nonprofits. \nRegister Here
URL:https://growcapacity.info/event/leadership-communication-skills/
LOCATION:University of Evansville\, 1800 Lincoln Ave\, Evansville\, IN\, 47714\, United States
CATEGORIES:Community Stakeholder,Community Stakeholders,Donor-Funder,Donor-Funders,Nonprofit
ATTACH;FMTTYPE=image/webp:https://growcapacity.info/wp-content/uploads/2024/04/UE-Leadership-Communication-Skills.webp
END:VEVENT
BEGIN:VEVENT
DTSTART;TZID=America/Chicago:20240521T113000
DTEND;TZID=America/Chicago:20240521T133000
DTSTAMP:20260423T235717
CREATED:20240412T155848Z
LAST-MODIFIED:20240412T155848Z
UID:10000119-1716291000-1716298200@growcapacity.info
SUMMARY:Project Management Workshop – Practical Application of Project Management Principles: Five-Session Series
DESCRIPTION:Price: $395Date: Tuesday\, April 23\, 2024Time: 11:30 a.m. – 1:30 p.m.Location: University Libraries\, LI 203Instructor(s): Jesse Kauffman\, President\, Everyday Business Resilience Group\, LLC \nThis workshop series will focus on an overview of the Project Management Body of Knowledge and key Project Management concepts\, tools\, and methodologies and how to apply them to real world business situations. \nThis series begins on April 23\, 2024\, and meets again on April 30\, May 7\, May 14\, and May 21. \n\nWeek 1 – Project Management Introduction and System Overview\nWeek 2 – Project Management Body of Knowledge Introduction and Performance Domains\nWeek 3 – Project Management Tailoring\nWeek 4 – Project Management Models\, Methods\, and Artifacts\nWeek 5 – Course Wrap-up\n\nA 10% discount is available to organizations sending six or more participants. Call 812-488-1046 for more details. \nJesse Kauffman is the Lead Consultant for Everyday Business Resilience Group\, providing Business Continuity and Project Management services to local and global businesses alike. \nRegister Here
URL:https://growcapacity.info/event/project-management-workshop-practical-application-of-project-management-principles-five-session-series/2024-05-21/
LOCATION:University of Evansville\, 1800 Lincoln Ave\, Evansville\, IN\, 47714\, United States
CATEGORIES:Community Stakeholder,Community Stakeholders,Donor-Funder,Donor-Funders,Nonprofit
ATTACH;FMTTYPE=image/webp:https://growcapacity.info/wp-content/uploads/2024/04/UE-Project-Management-Workshop.webp
END:VEVENT
BEGIN:VEVENT
DTSTART;TZID=America/Chicago:20240527T120000
DTEND;TZID=America/Chicago:20240527T140000
DTSTAMP:20260423T235717
CREATED:20240219T165600Z
LAST-MODIFIED:20240219T165600Z
UID:10000083-1716811200-1716818400@growcapacity.info
SUMMARY:SAVI Data Literacy Skills Training – Module 2A: Finding Existing Data
DESCRIPTION:This VIRTUAL workshop will help you apply the skills learned in other workshops to your own real-world\, data-informed project. The workshop instructor will reach out to you prior to the workshop to discuss your project and to help you identify the data and other information you will need to bring to this workshop to be successful. \nThis offering is hosted by The Polis Center\, the creators of SAVI. Through this offering\, they will use the Central Indiana map\, but the lessons remain the same for Southern Indiana region. \nAnswering the questions necessary to achieve goals requires locating and using the right data and tools. This workshop covers the strengths\, weaknesses\, and costs of readily available data sets\, including SAVI\, so you have the information you need to locate the data that is right for you. Hands-on activities explore the many tools that SAVI provides for locating and exploring data.\n\n\n\n\nWHO SHOULD ATTEND? This workshop is perfect for anyone that wants to learn techniques for finding the right data to answer questions. \nWHAT YOU WILL LEARN \n\nBenefits and challenges associated with several types of data\nWhere to access readily available data sources\nHow to balance needs and priorities to choose the right dataset\nHow to choose a substitute dataset when the indicator you want to measure is not available\n\nUSEFUL KNOWLEDGE TO HAVE BEFORE ATTENDING \nNo prior knowledge is required\, but you may find it useful to attend the Module 1A: Framing the Problem workshop before attending this workshop. In that workshop you learn how to frame problems with specific and measurable questions that can help you meet your goals. \nRegister Here
URL:https://growcapacity.info/event/savi-data-literacy-skills-training-central-indiana-module-2a-finding-existing-data-3-2/
LOCATION:Online
CATEGORIES:Community Stakeholder,Donor-Funder,Nonprofit
ATTACH;FMTTYPE=image/webp:https://growcapacity.info/wp-content/uploads/2024/01/Savi-data-literacy.webp
END:VEVENT
BEGIN:VEVENT
DTSTART;TZID=America/Chicago:20240530T083000
DTEND;TZID=America/Chicago:20240530T113000
DTSTAMP:20260423T235717
CREATED:20231218T184807Z
LAST-MODIFIED:20231218T194444Z
UID:10000066-1717057800-1717068600@growcapacity.info
SUMMARY:Sustain Abilities
DESCRIPTION:This joint participation facilitates embedding the learnings into both staff and the full board. Each successive year builds on the basic topics covered in the year prior with the intention of building board culture and staff/board alignment. There are 4 “advancing” levels\, with an “alumni” opportunity which is an opportunity for agencies previously engaged to begin again if leadership has changed or if other members of leadership have been identified for attendance to assist the organization with embedding the learning. Two members (board president or designated board member and ED)\, partner through this cohort-based learning experience\, building communication effectiveness and implementation strength. In Sustain Abilities\, the focus is on more engaged boards\, building board culture\, deeper donor relationships\, with a financial plan developed by the end of the program\, working toward long-term sustainability. Such things as capital campaign readiness assessment\, donor communications\, and planned giving are discussed. The deliverables at the end of the program are a richer understanding of the success factors and an action plan for incorporating them into the board and staff “DNA”. (Outcome measurement provided by JDLA).
URL:https://growcapacity.info/event/sustain-abilities-7/
LOCATION:Welborn Community Room\, 20 NW Third St.\, Suite 1500\, Evansville\, 47708\, United States
CATEGORIES:Community Stakeholder,Nonprofit
ATTACH;FMTTYPE=image/webp:https://growcapacity.info/wp-content/uploads/2023/12/SustainAbilities.webp
END:VEVENT
END:VCALENDAR