BEGIN:VCALENDAR
VERSION:2.0
PRODID:-//Grow is a capacity building platform - ECPv6.15.20//NONSGML v1.0//EN
CALSCALE:GREGORIAN
METHOD:PUBLISH
X-ORIGINAL-URL:https://growcapacity.info
X-WR-CALDESC:Events for Grow is a capacity building platform
REFRESH-INTERVAL;VALUE=DURATION:PT1H
X-Robots-Tag:noindex
X-PUBLISHED-TTL:PT1H
BEGIN:VTIMEZONE
TZID:America/Chicago
BEGIN:DAYLIGHT
TZOFFSETFROM:-0600
TZOFFSETTO:-0500
TZNAME:CDT
DTSTART:20230312T080000
END:DAYLIGHT
BEGIN:STANDARD
TZOFFSETFROM:-0500
TZOFFSETTO:-0600
TZNAME:CST
DTSTART:20231105T070000
END:STANDARD
BEGIN:DAYLIGHT
TZOFFSETFROM:-0600
TZOFFSETTO:-0500
TZNAME:CDT
DTSTART:20240310T080000
END:DAYLIGHT
BEGIN:STANDARD
TZOFFSETFROM:-0500
TZOFFSETTO:-0600
TZNAME:CST
DTSTART:20241103T070000
END:STANDARD
BEGIN:DAYLIGHT
TZOFFSETFROM:-0600
TZOFFSETTO:-0500
TZNAME:CDT
DTSTART:20250309T080000
END:DAYLIGHT
BEGIN:STANDARD
TZOFFSETFROM:-0500
TZOFFSETTO:-0600
TZNAME:CST
DTSTART:20251102T070000
END:STANDARD
END:VTIMEZONE
BEGIN:VEVENT
DTSTART;TZID=America/Chicago:20240805T101500
DTEND;TZID=America/Chicago:20240805T120000
DTSTAMP:20260424T021310
CREATED:20231211T181749Z
LAST-MODIFIED:20240920T154536Z
UID:10000030-1722852900-1722859200@growcapacity.info
SUMMARY:Financial Management for Nonprofit Leaders: A Financial Literacy Series
DESCRIPTION:This training series on financial management is designed to equip individuals and organizations with the necessary skills to understand\, interpret and navigate financial reports and processes. The series covers a wide range of topics including financial statements\, budgeting\, financial planning\, and sustainability. Participants will learn about the roles and responsibilities of board members\, executive directors\, and other leaders in the budgeting process. The training will also provide insights into financial literacy and how to prevent fiscal fraud\, which are critical for any nonprofit organization’s success. With a focus on practical and applicable knowledge\, the training series aims to empower nonprofits with the tools they need to make informed financial decisions\, ensure financial stability\, and maximize their impact. By the end of the series\, participants will have a solid foundation in financial management\, enabling them to better understand their organization’s financial health\, identify areas for improvement\, and take appropriate actions to achieve their financial goals. This training series will be presented by Fiscalign. \n  \nRegistration for this event has closed. Stay tuned for 2025 offerings!
URL:https://growcapacity.info/event/financial-management-for-nonprofit-leaders-a-financial-literacy-series-2/
LOCATION:Online
CATEGORIES:Nonprofit
ATTACH;FMTTYPE=image/webp:https://growcapacity.info/wp-content/uploads/2023/12/Financial-Management2.webp
END:VEVENT
BEGIN:VEVENT
DTSTART;TZID=America/Chicago:20240808T083000
DTEND;TZID=America/Chicago:20240809T160000
DTSTAMP:20260424T021310
CREATED:20231218T184736Z
LAST-MODIFIED:20231218T194651Z
UID:10000056-1723105800-1723219200@growcapacity.info
SUMMARY:Global Leadership Summit
DESCRIPTION:More than an event\, The Global Leadership Summit is a resource to be leveraged for community transformation through the leadership of diverse sectors. Our partnership with Tristate Leaders advances the outcomes of building the leadership capacity of our local nonprofit sector with reduced participation costs\, allowing for fresh\, actionable leadership content in expert-level training\, networking and collaboration potential and opportunity for year-long\, personal and organizational development through GLS resources. We also see alignment with the anticipated community outcome of more people impacting their environment as an outgrowth of their Christian faith. Local viewing options and locations to come. Stay tuned!
URL:https://growcapacity.info/event/global-leadership-summit/
LOCATION:[to be determined]
CATEGORIES:Community Stakeholder,Donor-Funder,Nonprofit
ATTACH;FMTTYPE=image/webp:https://growcapacity.info/wp-content/uploads/2023/12/GLS.webp
END:VEVENT
BEGIN:VEVENT
DTSTART;TZID=America/Chicago:20240812T080000
DTEND;TZID=America/Chicago:20240812T100000
DTSTAMP:20260424T021310
CREATED:20240617T162300Z
LAST-MODIFIED:20240617T163637Z
UID:10000130-1723449600-1723456800@growcapacity.info
SUMMARY:SAVI Data Literacy Skills Training – Module 2A: Finding Existing Data
DESCRIPTION:This VIRTUAL workshop will help you apply the skills learned in other workshops to your own real-world\, data-informed project. The workshop instructor will reach out to you prior to the workshop to discuss your project and to help you identify the data and other information you will need to bring to this workshop to be successful. \nThis offering is hosted by The Polis Center\, the creators of SAVI. Through this offering\, they will use the Central Indiana map\, but the lessons remain the same for Southern Indiana region. \nAnswering the questions necessary to achieve goals requires locating and using the right data and tools. This workshop covers the strengths\, weaknesses\, and costs of readily available data sets\, including SAVI\, so you have the information you need to locate the data that is right for you. Hands-on activities explore the many tools that SAVI provides for locating and exploring data.\n\n\n\n\nWHO SHOULD ATTEND? This workshop is perfect for anyone that wants to learn techniques for finding the right data to answer questions. \nWHAT YOU WILL LEARN \n\nBenefits and challenges associated with several types of data\nWhere to access readily available data sources\nHow to balance needs and priorities to choose the right dataset\nHow to choose a substitute dataset when the indicator you want to measure is not available\n\nUSEFUL KNOWLEDGE TO HAVE BEFORE ATTENDING \nNo prior knowledge is required\, but you may find it useful to attend the Module 1A: Framing the Problem workshop before attending this workshop. In that workshop you learn how to frame problems with specific and measurable questions that can help you meet your goals. \nRegister Here
URL:https://growcapacity.info/event/savi-data-literacy-skills-training-module-2a-finding-existing-data/
LOCATION:Online
CATEGORIES:Community Stakeholder,Donor-Funder,Nonprofit
ATTACH;FMTTYPE=image/webp:https://growcapacity.info/wp-content/uploads/2024/01/Savi-data-literacy.webp
END:VEVENT
BEGIN:VEVENT
DTSTART;TZID=America/Chicago:20240814T100000
DTEND;TZID=America/Chicago:20240814T110000
DTSTAMP:20260424T021310
CREATED:20231218T184822Z
LAST-MODIFIED:20231218T194709Z
UID:10000069-1723629600-1723633200@growcapacity.info
SUMMARY:Sustain Abilities
DESCRIPTION:This joint participation facilitates embedding the learnings into both staff and the full board. Each successive year builds on the basic topics covered in the year prior with the intention of building board culture and staff/board alignment. There are 4 “advancing” levels\, with an “alumni” opportunity which is an opportunity for agencies previously engaged to begin again if leadership has changed or if other members of leadership have been identified for attendance to assist the organization with embedding the learning. Two members (board president or designated board member and ED)\, partner through this cohort-based learning experience\, building communication effectiveness and implementation strength. In Sustain Abilities\, the focus is on more engaged boards\, building board culture\, deeper donor relationships\, with a financial plan developed by the end of the program\, working toward long-term sustainability. Such things as capital campaign readiness assessment\, donor communications\, and planned giving are discussed. The deliverables at the end of the program are a richer understanding of the success factors and an action plan for incorporating them into the board and staff “DNA”. (Outcome measurement provided by JDLA).
URL:https://growcapacity.info/event/sustain-abilities-10/
LOCATION:Online
CATEGORIES:Community Stakeholder,Nonprofit
ATTACH;FMTTYPE=image/webp:https://growcapacity.info/wp-content/uploads/2023/12/SustainAbilities.webp
END:VEVENT
BEGIN:VEVENT
DTSTART;TZID=America/Chicago:20240819T120000
DTEND;TZID=America/Chicago:20240819T140000
DTSTAMP:20260424T021310
CREATED:20240617T162615Z
LAST-MODIFIED:20240617T163743Z
UID:10000132-1724068800-1724076000@growcapacity.info
SUMMARY:SAVI Data Literacy Skills Training – Module 2B: Avoid Data Pitfalls
DESCRIPTION:This VIRTUAL workshop will help you apply the skills learned in other workshops to your own real-world\, data-informed project. The workshop instructor will reach out to you prior to the workshop to discuss your project and to help you identify the data and other information you will need to bring to this workshop to be successful. \nThis offering is hosted by The Polis Center\, the creators of SAVI. Through this offering\, they will use the Central Indiana map\, but the lessons remain the same for Southern Indiana region. \nData is most powerful when you understand its limits. This module will give you the knowledge to think critically about data\, making you aware of what can cause noise in data and how to use data effectively despite these limitations.\n\n\nWHAT YOU WILL LEARN \n\nHow policy changes can affect the numbers\nHow factors outside your analysis can impact the data\nHow to judge the accuracy and reliability of data\n\n\n\nRegister Here
URL:https://growcapacity.info/event/savi-data-literacy-skills-training-module-2b-avoid-data-pitfalls/
LOCATION:Online
CATEGORIES:Community Stakeholder,Donor-Funder,Nonprofit
ATTACH;FMTTYPE=image/webp:https://growcapacity.info/wp-content/uploads/2024/01/Savi-data-literacy.webp
END:VEVENT
BEGIN:VEVENT
DTSTART;TZID=America/Chicago:20240821T083000
DTEND;TZID=America/Chicago:20240822T163000
DTSTAMP:20260424T021310
CREATED:20240207T170041Z
LAST-MODIFIED:20240207T174120Z
UID:10000097-1724229000-1724344200@growcapacity.info
SUMMARY:Next Generation Leadership Academy (6-Part Series)
DESCRIPTION:Next Generation Leadership Academy is a customized executive level education partnership with IU O’Neill School of Public and Environmental Affairs. This 6-linked module\, focusing on competency development in the areas of leading a nonprofit is designed for new Executive Directors and next generation leaders (having 53 in our community who have benefitted since 2016). \nThere is a registration deadline\, spots are available but limited. For registration and further information\, please visit the Welborn Baptist Foundation website.
URL:https://growcapacity.info/event/next-generation-leadership-academy-8/
LOCATION:Welborn Community Room\, 20 NW Third St.\, Suite 1500\, Evansville\, 47708\, United States
CATEGORIES:Nonprofit
ATTACH;FMTTYPE=image/webp:https://growcapacity.info/wp-content/uploads/2023/12/Next-Gen-Leadership-Academy.webp
END:VEVENT
BEGIN:VEVENT
DTSTART;TZID=America/Chicago:20240821T140000
DTEND;TZID=America/Chicago:20240821T150000
DTSTAMP:20260424T021310
CREATED:20240313T213907Z
LAST-MODIFIED:20240920T155425Z
UID:10000104-1724248800-1724252400@growcapacity.info
SUMMARY:SAVI 101: Introduction to Grow & SAVI Data Tools
DESCRIPTION:Participants will learn the basic mechanics of SAVI tools and feel excited to engage with the SAVI data system on the Grow platform. The presentation will be delivered by The Polis Center team from Indiana University – Indianapolis or the local Grow team. Who should attend? Anyone new to utilizing SAVI or a user who is interested in learning the mechanics of the system. Whether you are in the nonprofit\, donor-funder\, business sector or a curious citizen\, this introductory lesson to SAVI is for you. *In each offering\, Grow staff spend up to 10 min providing a high-level intro to Grow. Useful knowledge before attending? Visiting growcapacity.info and entering into SAVI may help with a basic understanding of the concepts presented but is not required for attending. **Following each session\, attendees will be asked to complete a brief survey. The information will help Grow improve the support and education provided for SAVI. \nClick here to register
URL:https://growcapacity.info/event/savi-101-introduction-to-grow-savi-data-tools-10/
LOCATION:Online
CATEGORIES:Community Stakeholder,Donor-Funder,Nonprofit
ATTACH;FMTTYPE=image/webp:https://growcapacity.info/wp-content/uploads/2023/10/Savi-101.webp
END:VEVENT
BEGIN:VEVENT
DTSTART;TZID=America/Chicago:20240826T080000
DTEND;TZID=America/Chicago:20240826T100000
DTSTAMP:20260424T021310
CREATED:20231010T150100Z
LAST-MODIFIED:20240617T163851Z
UID:10000008-1724659200-1724666400@growcapacity.info
SUMMARY:SAVI Data Literacy Skills Training – Module 3A: Analyze & Visualize with Charts
DESCRIPTION:This VIRTUAL workshop will help you apply the skills learned in other workshops to your own real-world\, data-informed project. The workshop instructor will reach out to you prior to the workshop to discuss your project and to help you identify the data and other information you will need to bring to this workshop to be successful. \nThis offering is hosted by The Polis Center\, the creators of SAVI. Through this offering\, they will use the Central Indiana map\, but the lessons remain the same for Southern Indiana region. \nCharts are a powerful tool for analyzing and communicating information through tables\, graphs or diagrams. This workshop provides you with the skills you need to get the most value from charts. Hands-on activities show you how to apply several types of charts for static and interactive data visualizations. \nWHO SHOULD ATTEND?\nThis workshop should be taken by anyone interested in interpreting and visualizing data to address a research question or communicate data findings. Even if you already know how to make charts\, this workshop can improve your ability to design charts that can do the best job of depicting your data. \nWHAT WILL YOU LEARN? \n\nThe fundamentals: what to think about before making a chart\nPrinciples for choosing and designing a chart\nHow to create static data visualizations with Microsoft Excel and a demonstration of other interactive visualization tools such as Datawrapper\n\nUSEFUL KNOWLEDGE TO HAVE BEFORE ATTENDING \nNo prior knowledge is required\, but you may find it useful to attend the Module 1A: Framing the Problem workshop prior to this one. In that workshop you learn how to frame problems so that you have specific and measurable questions that can help you meet your goals. You may also want to consider attending the Module 2A: Finding Existing Data workshop which explores where to find existing data and how to choose the right data source for answering your questions. \nRegister Here
URL:https://growcapacity.info/event/savi-super-user-learning-series-module-3a-analyze-visualize-with-charts/
LOCATION:Online
CATEGORIES:Community Stakeholder,Donor-Funder,Nonprofit
ATTACH;FMTTYPE=image/webp:https://growcapacity.info/wp-content/uploads/2024/01/Savi-data-literacy.webp
END:VEVENT
BEGIN:VEVENT
DTSTART;TZID=America/Chicago:20240827T083000
DTEND;TZID=America/Chicago:20240827T113000
DTSTAMP:20260424T021310
CREATED:20240425T143829Z
LAST-MODIFIED:20240826T182341Z
UID:10000123-1724747400-1724758200@growcapacity.info
SUMMARY:Giving for Impact - Henderson\, Session 2 of 2
DESCRIPTION:Giving For Impact is a training seminar series that deepens donors’ understanding of philanthropy and the importance of their engagement and relationships with charitable organizations. Participants will gain valuable insight and clarity on their passions\, values\, and motivations for giving and how that understanding can fuel impactful giving.\nGiving for Impact – Henderson Flyer \nGiving For Impact – Henderson will: \n\nEmpower and equip individuals and families to create a greater impact through their giving\nBe a catalyst for change within nonprofit organizations to more deeply value and care for donor relationships\nBuild relationships with participants and promote shared learning amount donors\n\nParticipant Activities and Resources: \n\nComprehensive Resources: Toolkits\, Guides\, Videos\, Templates\, Giving for Impact Book\nDeveloped Personal Giving Philosophy and Impact Plan\nReceive Tri-State newsletter from Giving for Impact – Evansville featuring area NPOs and and opportunities to give\n\nThis training is offered at no cost to our community and is underwritten by Welborn Baptist Foundation\, Ameriprise Financial and the Havens Family Foundation. \nTo RSVP\, contact speter@jdlevyassociates.com \n2024 Session Info \nIntake surveys for Session 1 are due by May 21st\, 2024 \nSession 1\nJuly 23rd\, 2024\n8:30 AM – 11:30 AM CT\nFirst Baptist Church \nSession 2\nAugust 27th\, 2024\n8:30 AM – 11:30 AM CT\nFirst Baptist Church
URL:https://growcapacity.info/event/giving-for-impact-henderson-session-2-of-2/
LOCATION:First Baptist Church\, 307 Center St\, Henderson\, KY\, 42420\, United States
CATEGORIES:Community Stakeholders,Donor-Funder
ATTACH;FMTTYPE=image/webp:https://growcapacity.info/wp-content/uploads/2024/04/Giving-for-Impact-Henderson-Session-2.webp
END:VEVENT
BEGIN:VEVENT
DTSTART;TZID=America/Chicago:20240829T083000
DTEND;TZID=America/Chicago:20240829T120000
DTSTAMP:20260424T021310
CREATED:20231218T184822Z
LAST-MODIFIED:20231218T194738Z
UID:10000070-1724920200-1724932800@growcapacity.info
SUMMARY:Sustain Abilities
DESCRIPTION:This joint participation facilitates embedding the learnings into both staff and the full board. Each successive year builds on the basic topics covered in the year prior with the intention of building board culture and staff/board alignment. There are 4 “advancing” levels\, with an “alumni” opportunity which is an opportunity for agencies previously engaged to begin again if leadership has changed or if other members of leadership have been identified for attendance to assist the organization with embedding the learning. Two members (board president or designated board member and ED)\, partner through this cohort-based learning experience\, building communication effectiveness and implementation strength. In Sustain Abilities\, the focus is on more engaged boards\, building board culture\, deeper donor relationships\, with a financial plan developed by the end of the program\, working toward long-term sustainability. Such things as capital campaign readiness assessment\, donor communications\, and planned giving are discussed. The deliverables at the end of the program are a richer understanding of the success factors and an action plan for incorporating them into the board and staff “DNA”. (Outcome measurement provided by JDLA).
URL:https://growcapacity.info/event/sustain-abilities-11/
LOCATION:Online
CATEGORIES:Community Stakeholder,Nonprofit
ATTACH;FMTTYPE=image/webp:https://growcapacity.info/wp-content/uploads/2023/12/SustainAbilities.webp
END:VEVENT
END:VCALENDAR