BEGIN:VCALENDAR
VERSION:2.0
PRODID:-//Grow is a capacity building platform - ECPv6.15.20//NONSGML v1.0//EN
CALSCALE:GREGORIAN
METHOD:PUBLISH
X-ORIGINAL-URL:https://growcapacity.info
X-WR-CALDESC:Events for Grow is a capacity building platform
REFRESH-INTERVAL;VALUE=DURATION:PT1H
X-Robots-Tag:noindex
X-PUBLISHED-TTL:PT1H
BEGIN:VTIMEZONE
TZID:America/Chicago
BEGIN:DAYLIGHT
TZOFFSETFROM:-0600
TZOFFSETTO:-0500
TZNAME:CDT
DTSTART:20230312T080000
END:DAYLIGHT
BEGIN:STANDARD
TZOFFSETFROM:-0500
TZOFFSETTO:-0600
TZNAME:CST
DTSTART:20231105T070000
END:STANDARD
BEGIN:DAYLIGHT
TZOFFSETFROM:-0600
TZOFFSETTO:-0500
TZNAME:CDT
DTSTART:20240310T080000
END:DAYLIGHT
BEGIN:STANDARD
TZOFFSETFROM:-0500
TZOFFSETTO:-0600
TZNAME:CST
DTSTART:20241103T070000
END:STANDARD
BEGIN:DAYLIGHT
TZOFFSETFROM:-0600
TZOFFSETTO:-0500
TZNAME:CDT
DTSTART:20250309T080000
END:DAYLIGHT
BEGIN:STANDARD
TZOFFSETFROM:-0500
TZOFFSETTO:-0600
TZNAME:CST
DTSTART:20251102T070000
END:STANDARD
END:VTIMEZONE
BEGIN:VEVENT
DTSTART;TZID=America/Chicago:20240905T083000
DTEND;TZID=America/Chicago:20240905T123000
DTSTAMP:20260423T221505
CREATED:20240502T142921Z
LAST-MODIFIED:20240621T202924Z
UID:10000124-1725525000-1725539400@growcapacity.info
SUMMARY:Sustain Abilities Community Session
DESCRIPTION:Date and Time: Thursday\, September 5\, 2024\, 8:30 AM – 12:30 PM CT \nLocation: Virtual\, Zoom link will be sent upon registration \nInstructed by: Jamie Levy from Jamie Levy & Associates \nDetails of the event:  \nHave you have ever been interested in taking part in a Jamie Levy & Associates presentation on Philanthropic Sustainability? Have you wondered what you could learn in the Sustain Abilities series offered through the Welborn Baptist Foundation? This is a free\, 1-session opportunity! \nThe Community Impact Training Session is an Open Session\, to be held on 9-5-24\, 8:30 – 12:30 PM Central Time. This is a VIRTUAL session\, open to any board members of your board\, staff members or volunteers who desire an introduction to philanthropy.  This session provides a condensed version of what participants experience in the Welborn Baptist Foundation’s Sustain Abilities 1.0 experience. This session can also serve as a “refresher” for those who have taken part in Sustain Abilities before. We see this as an opportunity to invite organizations\, not yet a part of Sustain Abilities\, to gain an understanding of philanthropic sustainability and the culture of building “advocates”. We encourage you to not only take part in it but have discussions around the content and use when onboarding new volunteers or board members. \nSustain Abilities is a program offered to nonprofits through the Welborn Baptist Foundation\, Nonprofit Excellence focus area.   \nRegister Here
URL:https://growcapacity.info/event/sustain-abilities-community-session/
LOCATION:Online
CATEGORIES:Nonprofit
ATTACH;FMTTYPE=image/webp:https://growcapacity.info/wp-content/uploads/2024/05/SA-Community-Session.webp
END:VEVENT
BEGIN:VEVENT
DTSTART;TZID=America/Chicago:20240919T083000
DTEND;TZID=America/Chicago:20240919T110000
DTSTAMP:20260423T221505
CREATED:20231211T181749Z
LAST-MODIFIED:20240920T154456Z
UID:10000031-1726734600-1726743600@growcapacity.info
SUMMARY:Financial Management for Nonprofit Leaders: A Financial Literacy Series
DESCRIPTION:This training series on financial management is designed to equip individuals and organizations with the necessary skills to understand\, interpret and navigate financial reports and processes. The series covers a wide range of topics including financial statements\, budgeting\, financial planning\, and sustainability. Participants will learn about the roles and responsibilities of board members\, executive directors\, and other leaders in the budgeting process. The training will also provide insights into financial literacy and how to prevent fiscal fraud\, which are critical for any nonprofit organization’s success. With a focus on practical and applicable knowledge\, the training series aims to empower nonprofits with the tools they need to make informed financial decisions\, ensure financial stability\, and maximize their impact. By the end of the series\, participants will have a solid foundation in financial management\, enabling them to better understand their organization’s financial health\, identify areas for improvement\, and take appropriate actions to achieve their financial goals. This training series will be presented by Fiscalign. \n  \nRegistration for this event has closed. Stay tuned for 2025 offerings!\n 
URL:https://growcapacity.info/event/financial-management-for-nonprofit-leaders-a-financial-literacy-series-3/
LOCATION:Welborn Community Room\, 20 NW Third St.\, Suite 1500\, Evansville\, 47708\, United States
CATEGORIES:Nonprofit
ATTACH;FMTTYPE=image/webp:https://growcapacity.info/wp-content/uploads/2023/12/Financial-Management2.webp
END:VEVENT
END:VCALENDAR