BEGIN:VCALENDAR
VERSION:2.0
PRODID:-//Grow is a capacity building platform - ECPv6.15.20//NONSGML v1.0//EN
CALSCALE:GREGORIAN
METHOD:PUBLISH
X-WR-CALNAME:Grow is a capacity building platform
X-ORIGINAL-URL:https://growcapacity.info
X-WR-CALDESC:Events for Grow is a capacity building platform
REFRESH-INTERVAL;VALUE=DURATION:PT1H
X-Robots-Tag:noindex
X-PUBLISHED-TTL:PT1H
BEGIN:VTIMEZONE
TZID:America/Chicago
BEGIN:DAYLIGHT
TZOFFSETFROM:-0600
TZOFFSETTO:-0500
TZNAME:CDT
DTSTART:20240310T080000
END:DAYLIGHT
BEGIN:STANDARD
TZOFFSETFROM:-0500
TZOFFSETTO:-0600
TZNAME:CST
DTSTART:20241103T070000
END:STANDARD
BEGIN:DAYLIGHT
TZOFFSETFROM:-0600
TZOFFSETTO:-0500
TZNAME:CDT
DTSTART:20250309T080000
END:DAYLIGHT
BEGIN:STANDARD
TZOFFSETFROM:-0500
TZOFFSETTO:-0600
TZNAME:CST
DTSTART:20251102T070000
END:STANDARD
BEGIN:DAYLIGHT
TZOFFSETFROM:-0600
TZOFFSETTO:-0500
TZNAME:CDT
DTSTART:20260308T080000
END:DAYLIGHT
BEGIN:STANDARD
TZOFFSETFROM:-0500
TZOFFSETTO:-0600
TZNAME:CST
DTSTART:20261101T070000
END:STANDARD
END:VTIMEZONE
BEGIN:VEVENT
DTSTART;TZID=America/Chicago:20250910T083000
DTEND;TZID=America/Chicago:20250910T103000
DTSTAMP:20260425T144916
CREATED:20241119T202806Z
LAST-MODIFIED:20250618T213430Z
UID:10000158-1757493000-1757500200@growcapacity.info
SUMMARY:Evaluation 101
DESCRIPTION:This is a 4-part virtual workshop series with the ability to participate in the training subjects that interest you and your organization. Participants will learn the 4 components of a data-informed organization\, learning how to set up processes and structure\, as well as the why behind using the data as an asset for program improvement\, and external strategies shaping next steps instead of simply an obligation of compliance. Best practice approaches will be shared\, gaining templates\, and resources for practical use. \nEVALUATION 101 will review key competencies and elements to introduce participants to evaluation concepts. This training will be presented by Transform Consulting Group.
URL:https://growcapacity.info/event/evaluation-101-2/
LOCATION:Online
CATEGORIES:Nonprofit
ATTACH;FMTTYPE=image/webp:https://growcapacity.info/wp-content/uploads/2023/12/Evaluation-1012.webp
END:VEVENT
BEGIN:VEVENT
DTSTART;TZID=America/Chicago:20250918T083000
DTEND;TZID=America/Chicago:20250918T103000
DTSTAMP:20260425T144916
CREATED:20250114T144318Z
LAST-MODIFIED:20250307T205325Z
UID:10000207-1758184200-1758191400@growcapacity.info
SUMMARY:Giving For Impact – Alumni
DESCRIPTION:As a donor\, do you ever question whether your donations are having the impact you expect?  Do you often feel like you are just writing checks to organizations because they asked or because it makes you feel good? \nOver the past eight years\, our program\, Giving for Impact\, has made a tremendous difference in how people donate and partner with nonprofits. \nThe sole purpose of our training is to equip attendees with knowledge and help in developing relationships with the nonprofit community.  The training encourages individuals to learn more about who they are as donors by teaching them to identify their personal mission\, vision\, and core values to create charitable impact.  As a donor\, they will be equipped to know how to find fulfillment in their giving. \nOnce an individual understands who they are as a donor\, the program will build on that understanding by equipping them with knowledge of what a strong nonprofit organization looks like.  Donors will learn how to ask the right questions when meeting with a nonprofit and how to determine if they are actually making a difference.  Participants will learn what a healthy nonprofit partnership looks like and be able to create their own personal plan and philosophy of giving. \nGiving for Impact is a great training program for individual donors as well as family foundations\, financial advisors\, wealth managers\, CPA’s\, estate planners\, attorneys or trust advisors. Regardless if you donate $50.00 per year or $50\,000.00 per year\, Giving for Impact is for anyone who desires to have a clearer understanding of themselves as a donor and has a desire to make a greater impact through their giving. \nJamie D. Levy\, from JDLevy & Associates\, an international speaker\, consultant\, and adjunct professor at Indiana University School of Philanthropy\, IU Fund Raising School\, and IU Paul H. O’Neill School of Public and Environment Affairs (IU SPEA)\, will guide you through understanding the strategies involved in making wise decisions regarding your philanthropic giving.  To learn more about Mr. Levy and JDLevy & Associates visit their website www.JDLevyAssociates.com \nThis training is supported through donations from Jim and Carol Havens\, JDLevy & Associates\, Community Foundation Alliance\, and the Welborn Baptist Foundation.  These donations allow Giving for Impact to offer this series at no cost to you. \nIf you have questions or would like additional information please do not hesitate to contact: Carol Havens havenscs@gmail.com  812-453-8654  Cara Steinkuhl carasteinkuhl@gmail.com 812-455-4321 or Jamie Levy jlevy@jdlevyassociates.com
URL:https://growcapacity.info/event/giving-for-impact-alumni/
LOCATION:Online
CATEGORIES:Community Stakeholder,Donor-Funder,Nonprofit
ATTACH;FMTTYPE=image/webp:https://growcapacity.info/wp-content/uploads/2023/12/Giving-For-Impact.webp
END:VEVENT
BEGIN:VEVENT
DTSTART;TZID=America/Chicago:20250929T120000
DTEND;TZID=America/Chicago:20250929T143000
DTSTAMP:20260425T144916
CREATED:20241119T202823Z
LAST-MODIFIED:20250307T205318Z
UID:10000167-1759147200-1759156200@growcapacity.info
SUMMARY:SAVI Super User Data Literacy Series (Part 1 of 5)
DESCRIPTION:Participants will have the confidence to use SAVI and to provide limited technical assistance to others on the mechanics of SAVI\, as well as the basics of data literacy\, pitfalls\, sense-making\, storytelling\, and informed decision-making.
URL:https://growcapacity.info/event/savi-super-user-literacy-series-part-1-of-5/
LOCATION:Online
CATEGORIES:Community Stakeholder,Donor-Funder,Nonprofit
ATTACH;FMTTYPE=image/webp:https://growcapacity.info/wp-content/uploads/2023/10/Savi-data-literacy-1.webp
END:VEVENT
END:VCALENDAR