BEGIN:VCALENDAR
VERSION:2.0
PRODID:-//Grow is a capacity building platform - ECPv6.15.20//NONSGML v1.0//EN
CALSCALE:GREGORIAN
METHOD:PUBLISH
X-ORIGINAL-URL:https://growcapacity.info
X-WR-CALDESC:Events for Grow is a capacity building platform
REFRESH-INTERVAL;VALUE=DURATION:PT1H
X-Robots-Tag:noindex
X-PUBLISHED-TTL:PT1H
BEGIN:VTIMEZONE
TZID:America/Chicago
BEGIN:DAYLIGHT
TZOFFSETFROM:-0600
TZOFFSETTO:-0500
TZNAME:CDT
DTSTART:20240310T080000
END:DAYLIGHT
BEGIN:STANDARD
TZOFFSETFROM:-0500
TZOFFSETTO:-0600
TZNAME:CST
DTSTART:20241103T070000
END:STANDARD
BEGIN:DAYLIGHT
TZOFFSETFROM:-0600
TZOFFSETTO:-0500
TZNAME:CDT
DTSTART:20250309T080000
END:DAYLIGHT
BEGIN:STANDARD
TZOFFSETFROM:-0500
TZOFFSETTO:-0600
TZNAME:CST
DTSTART:20251102T070000
END:STANDARD
BEGIN:DAYLIGHT
TZOFFSETFROM:-0600
TZOFFSETTO:-0500
TZNAME:CDT
DTSTART:20260308T080000
END:DAYLIGHT
BEGIN:STANDARD
TZOFFSETFROM:-0500
TZOFFSETTO:-0600
TZNAME:CST
DTSTART:20261101T070000
END:STANDARD
END:VTIMEZONE
BEGIN:VTIMEZONE
TZID:America/Indiana/Indianapolis
BEGIN:DAYLIGHT
TZOFFSETFROM:-0500
TZOFFSETTO:-0400
TZNAME:EDT
DTSTART:20240310T070000
END:DAYLIGHT
BEGIN:STANDARD
TZOFFSETFROM:-0400
TZOFFSETTO:-0500
TZNAME:EST
DTSTART:20241103T060000
END:STANDARD
BEGIN:DAYLIGHT
TZOFFSETFROM:-0500
TZOFFSETTO:-0400
TZNAME:EDT
DTSTART:20250309T070000
END:DAYLIGHT
BEGIN:STANDARD
TZOFFSETFROM:-0400
TZOFFSETTO:-0500
TZNAME:EST
DTSTART:20251102T060000
END:STANDARD
BEGIN:DAYLIGHT
TZOFFSETFROM:-0500
TZOFFSETTO:-0400
TZNAME:EDT
DTSTART:20260308T070000
END:DAYLIGHT
BEGIN:STANDARD
TZOFFSETFROM:-0400
TZOFFSETTO:-0500
TZNAME:EST
DTSTART:20261101T060000
END:STANDARD
END:VTIMEZONE
BEGIN:VEVENT
DTSTART;TZID=America/Chicago:20251103T120000
DTEND;TZID=America/Chicago:20251103T133000
DTSTAMP:20260425T073104
CREATED:20241119T202838Z
LAST-MODIFIED:20250307T204942Z
UID:10000172-1762171200-1762176600@growcapacity.info
SUMMARY:SAVI Super User Data Literacy Series (Part 5 of 5)
DESCRIPTION:Participants will have the confidence to use SAVI and to provide limited technical assistance to others on the mechanics of SAVI\, as well as the basics of data literacy\, pitfalls\, sense-making\, storytelling\, and informed decision-making.
URL:https://growcapacity.info/event/savi-super-user-literacy-series-part-5-of-5/
LOCATION:Online
CATEGORIES:Community Stakeholder,Donor-Funder,Nonprofit
ATTACH;FMTTYPE=image/webp:https://growcapacity.info/wp-content/uploads/2023/10/Savi-data-literacy-1.webp
END:VEVENT
BEGIN:VEVENT
DTSTART;TZID=America/Chicago:20251104T093000
DTEND;TZID=America/Chicago:20251104T110000
DTSTAMP:20260425T073104
CREATED:20241119T202822Z
LAST-MODIFIED:20250307T204904Z
UID:10000163-1762248600-1762254000@growcapacity.info
SUMMARY:Using Data in Grant Writing
DESCRIPTION:Using Data in Grant Writing will help participants understand how to identify\, gather\, and use relevant data to support a successful grant application. Publicly available secondary data can help nonprofit organizations show the need for their programs and services. Data that organizations collect on their program implementation can help demonstrate how effectively they can meet the community need. We will give examples of how organizations can use data in the narrative of their grant application. Participants will learn how using data can help them make a successful case for funding. This training will be presented by Transform Consulting Group.
URL:https://growcapacity.info/event/using-data-in-grant-writing-4/
LOCATION:Online
CATEGORIES:Community Stakeholder,Donor-Funder,Nonprofit
ATTACH;FMTTYPE=image/webp:https://growcapacity.info/wp-content/uploads/2023/10/Data-in-Grantwriting.webp
END:VEVENT
BEGIN:VEVENT
DTSTART;TZID=America/Chicago:20251105T083000
DTEND;TZID=America/Chicago:20251105T100000
DTSTAMP:20260425T073104
CREATED:20241119T202806Z
LAST-MODIFIED:20251016T202103Z
UID:10000159-1762331400-1762336800@growcapacity.info
SUMMARY:How To Create Evaluation Processes and Procedures
DESCRIPTION:This is a 4-part virtual workshop series with the ability to participate in the training subjects that interest you and your organization. Participants will learn the 4 components of a data-informed organization\, learning how to set up processes and structure\, as well as the why behind using the data as an asset for program improvement\, and external strategies shaping next steps instead of simply an obligation of compliance. Best practice approaches will be shared\, gaining templates\, and resources for practical use. HOW TO CREATE EVALUATION PROCESSES AND PROCEDURES will cover the importance of data systems and procedures and how to develop them. This training will be presented by Transform Consulting Group. \nRegister Here
URL:https://growcapacity.info/event/how-to-create-evaluation-processes-and-procedures/
LOCATION:Online
CATEGORIES:Nonprofit
ATTACH;FMTTYPE=image/webp:https://growcapacity.info/wp-content/uploads/2023/12/Create-Evaluation-Processes.webp
END:VEVENT
BEGIN:VEVENT
DTSTART;TZID=America/Chicago:20251105T130000
DTEND;TZID=America/Chicago:20251105T160000
DTSTAMP:20260425T073104
CREATED:20251008T174034Z
LAST-MODIFIED:20251008T174034Z
UID:10000238-1762347600-1762358400@growcapacity.info
SUMMARY:Excel Intermediate Workshop: Work Smarter with Data
DESCRIPTION:Ready to level up? This workshop takes your Excel skills beyond the basics and focuses on tools that streamline your work and improve accuracy. You’ll learn how to manage larger data sets\, use conditional formatting\, work with multiple worksheets\, and apply functions like IF\, VLOOKUP\, and COUNTIF. By the end\, you’ll be able to make your spreadsheets more powerful and insightful\, saving time and reducing errors in your day-to-day tasks. \nKey skills you’ll gain:  \n\nWorking with formulas for more complex calculations\nLinking and managing data across multiple sheets via 3D references\, external references as well as using hyperlinks to link worksheets to other Microsoft office documents\nUsing logical and lookup functions to extract insights\nApplying conditional formatting for quick data analysis\nLearn how to Nest functions with rounding your solutions & and/or/if\nLearn how to utilize Excel Tables to expedite formatting and perform calculations\nLearn how to filter your data via multiple tools\n\nThis offering can be part of a 3 part series on Excel. 
URL:https://growcapacity.info/event/excel-intermediate-workshop/
LOCATION:University of Evansville\, 1800 Lincoln Ave\, Evansville\, IN\, 47714\, United States
CATEGORIES:Community Stakeholder,Donor-Funder,Nonprofit
ATTACH;FMTTYPE=image/png:https://growcapacity.info/wp-content/uploads/2025/10/Excel-Intermediate-Workshop.webp
END:VEVENT
BEGIN:VEVENT
DTSTART;TZID=America/Chicago:20251112T083000
DTEND;TZID=America/Chicago:20251112T123000
DTSTAMP:20260425T073104
CREATED:20241119T202807Z
LAST-MODIFIED:20250603T204640Z
UID:10000160-1762936200-1762950600@growcapacity.info
SUMMARY:Using Data to Inform Program Improvement & Becoming a Data-Informed Organization
DESCRIPTION:This is a 4-part virtual workshop series with the ability to participate in the training subjects that interest you and your organization. Participants will learn the 4 components of a data-informed organization\, learning how to set up processes and structure\, as well as the why behind using the data as an asset for program improvement\, and external strategies shaping next steps instead of simply an obligation of compliance. Best practice approaches will be shared\, gaining templates\, and resources for practical use. USING DATA TO INFORM PROGRAM IMPROVEMENT will focus on helping participants understand how to use their data to inform program improvement. This training will be presented by Transform Consulting Group. BECOMING A DATA-INFORMED ORGANIZATION session will focus on helping participants understand the why behind using data so they can view data as an asset for shaping next steps instead of simply an obligation to remain compliant.
URL:https://growcapacity.info/event/using-data-to-inform-program-improvement-3/
LOCATION:Welborn Community Room\, 20 NW Third St.\, Suite 1500\, Evansville\, 47708\, United States
CATEGORIES:Nonprofit
ATTACH;FMTTYPE=image/webp:https://growcapacity.info/wp-content/uploads/2023/12/Using-Data-.webp
END:VEVENT
BEGIN:VEVENT
DTSTART;TZID=America/Indiana/Indianapolis:20251112T130000
DTEND;TZID=America/Indiana/Indianapolis:20251112T143000
DTSTAMP:20260425T073104
CREATED:20250327T154544Z
LAST-MODIFIED:20250327T154544Z
UID:10000223-1762952400-1762957800@growcapacity.info
SUMMARY:The Value of Place: How to Enhance your Teaching and Research with Free Mapping and Spatial Analysis Tools Webinar
DESCRIPTION:This webinar showcases a range of powerful desktop and online mapping and spatial analysis tools\, data\, and other resources designed to enhance higher education teaching\, service\, and research activities. These resources are versatile and applicable across numerous disciplines\, including health\, public safety\, public policy\, economics\, history\, archaeology\, geography\, planning\, informatics\, and more. \nA key feature of the webinar is SAVI\, an online platform offering free interactive mapping and analysis tools\, downloadable databases\, reports\, and data literacy workshops. SAVI provides access to thousands of data variables detailing the socio-economic characteristics of Indiana communities over multiple decades. Data themes include demographic trends\, social determinants of health\, social services\, crime\, education\, and more. The webinar will also present examples of how SAVI resources have been utilized to support university research and teaching. \nAdditionally\, the webinar introduces ArcGIS Online\, a tool for creating customized\, interactive maps and dashboards that can enrich course content and support research. Participants will also learn about the extensive array of Indiana demographic and environmental geospatial data resources and training available to faculty and students.
URL:https://growcapacity.info/event/the-value-of-place-how-to-enhance-your-teaching-and-research-with-free-mapping-and-spatial-analysis-tools-webinar-2/
CATEGORIES:Community Stakeholder,Donor-Funder,Nonprofit
ATTACH;FMTTYPE=image/webp:https://growcapacity.info/wp-content/uploads/2025/03/The-Value-of-Place-Webinar.webp
END:VEVENT
BEGIN:VEVENT
DTSTART;TZID=America/Chicago:20251119T130000
DTEND;TZID=America/Chicago:20251119T160000
DTSTAMP:20260425T073104
CREATED:20251008T174410Z
LAST-MODIFIED:20251008T174410Z
UID:10000239-1763557200-1763568000@growcapacity.info
SUMMARY:Excel Advanced Workshop: Unlock the Full Potential
DESCRIPTION:Transform Excel into a powerful data analysis tool. This advanced workshop is designed for professionals who already work comfortably in Excel and want to master its most powerful features. You’ll learn how to build PivotTables and PivotCharts\, create advanced formulas\, use data validation and scenario tools\, and leverage macros for automation. With these advanced techniques\, you’ll be able to analyze and present data in ways that drive smarter decisions. \nKey skills you’ll gain: \n\nCreating and customizing PivotTables and PivotCharts\nDesigning advanced formulas with nested functions\nUsing data analysis tools like What-If Analysis and Solver\nAutomating repetitive tasks with macros\nLeverage validation tools to control the data entered in your worksheet\, including the use of drop-down lists\nLearn how to protect and lock cell contents for safe and secure collaboration\n\nThis offering can be part of a 3 part series on Excel. 
URL:https://growcapacity.info/event/excel-advanced-workshop/
LOCATION:University of Evansville\, 1800 Lincoln Ave\, Evansville\, IN\, 47714\, United States
CATEGORIES:Community Stakeholder,Donor-Funder,Nonprofit
ATTACH;FMTTYPE=image/webp:https://growcapacity.info/wp-content/uploads/2025/10/Excel-Advanced-Workshop.webp
END:VEVENT
END:VCALENDAR