BEGIN:VCALENDAR
VERSION:2.0
PRODID:-//Grow is a capacity building platform - ECPv6.15.20//NONSGML v1.0//EN
CALSCALE:GREGORIAN
METHOD:PUBLISH
X-WR-CALNAME:Grow is a capacity building platform
X-ORIGINAL-URL:https://growcapacity.info
X-WR-CALDESC:Events for Grow is a capacity building platform
REFRESH-INTERVAL;VALUE=DURATION:PT1H
X-Robots-Tag:noindex
X-PUBLISHED-TTL:PT1H
BEGIN:VTIMEZONE
TZID:America/Indiana/Indianapolis
BEGIN:DAYLIGHT
TZOFFSETFROM:-0500
TZOFFSETTO:-0400
TZNAME:EDT
DTSTART:20250309T070000
END:DAYLIGHT
BEGIN:STANDARD
TZOFFSETFROM:-0400
TZOFFSETTO:-0500
TZNAME:EST
DTSTART:20251102T060000
END:STANDARD
BEGIN:DAYLIGHT
TZOFFSETFROM:-0500
TZOFFSETTO:-0400
TZNAME:EDT
DTSTART:20260308T070000
END:DAYLIGHT
BEGIN:STANDARD
TZOFFSETFROM:-0400
TZOFFSETTO:-0500
TZNAME:EST
DTSTART:20261101T060000
END:STANDARD
BEGIN:DAYLIGHT
TZOFFSETFROM:-0500
TZOFFSETTO:-0400
TZNAME:EDT
DTSTART:20270314T070000
END:DAYLIGHT
BEGIN:STANDARD
TZOFFSETFROM:-0400
TZOFFSETTO:-0500
TZNAME:EST
DTSTART:20271107T060000
END:STANDARD
END:VTIMEZONE
BEGIN:VTIMEZONE
TZID:America/Chicago
BEGIN:DAYLIGHT
TZOFFSETFROM:-0600
TZOFFSETTO:-0500
TZNAME:CDT
DTSTART:20250309T080000
END:DAYLIGHT
BEGIN:STANDARD
TZOFFSETFROM:-0500
TZOFFSETTO:-0600
TZNAME:CST
DTSTART:20251102T070000
END:STANDARD
BEGIN:DAYLIGHT
TZOFFSETFROM:-0600
TZOFFSETTO:-0500
TZNAME:CDT
DTSTART:20260308T080000
END:DAYLIGHT
BEGIN:STANDARD
TZOFFSETFROM:-0500
TZOFFSETTO:-0600
TZNAME:CST
DTSTART:20261101T070000
END:STANDARD
BEGIN:DAYLIGHT
TZOFFSETFROM:-0600
TZOFFSETTO:-0500
TZNAME:CDT
DTSTART:20270314T080000
END:DAYLIGHT
BEGIN:STANDARD
TZOFFSETFROM:-0500
TZOFFSETTO:-0600
TZNAME:CST
DTSTART:20271107T070000
END:STANDARD
END:VTIMEZONE
BEGIN:VEVENT
DTSTART;TZID=America/Indiana/Indianapolis:20260504T140000
DTEND;TZID=America/Indiana/Indianapolis:20260504T160000
DTSTAMP:20260424T230841
CREATED:20260414T183801Z
LAST-MODIFIED:20260414T183801Z
UID:10000306-1777903200-1777910400@growcapacity.info
SUMMARY:SAVI Data Literacy – SAVI Data\, Tools\, and Other Resources
DESCRIPTION:SAVI offers a vast collection of health\, public safety\, education\, and many other demographic characteristics about Indiana communities\, with emphasis on central and southwest Indiana counties. This workshop explores the many powerful tools and datasets available in SAVI.  It also provides insights into how they can help you find\, explore\, and leverage these data to make informed decisions.  \nWHO SHOULD ATTEND?\nThis workshop is perfect for anyone that wants to learn about SAVI resources.  \nWHAT YOU WILL LEARN\n\nHow to use SAVI tools to find and explore data \nHow to balance needs and priorities to choose the right dataset \nHow to leverage SAVI supported research to inform your decision making \n\nUSEFUL KNOWLEDGE TO HAVE BEFORE ATTENDING \nNone required. 
URL:https://growcapacity.info/event/savi-data-literacy-savi-data-tools-and-other-resources-2/
CATEGORIES:Nonprofit
ATTACH;FMTTYPE=image/webp:https://growcapacity.info/wp-content/uploads/2025/11/Savi-data-literacy-SAVI-Data-Tools-and-Other-Resources.webp
END:VEVENT
BEGIN:VEVENT
DTSTART;TZID=America/Chicago:20260506T093000
DTEND;TZID=America/Chicago:20260506T113000
DTSTAMP:20260424T230841
CREATED:20260227T213402Z
LAST-MODIFIED:20260227T213402Z
UID:10000299-1778059800-1778067000@growcapacity.info
SUMMARY:Data Storytelling Training
DESCRIPTION:You don’t want your nonprofit to be the best kept secret in your community! Attend this workshop to learn how to use your data to tell your nonprofit’s story of impact to funders and the community. You’ll learn the storytelling structure and the why behind communicating your data. Then you will be equipped to share with the community\, your clients\, partners and funders the important value you bring to the community!
URL:https://growcapacity.info/event/data-storytelling-training-2026/
LOCATION:Online
CATEGORIES:Nonprofit
ATTACH;FMTTYPE=image/webp:https://growcapacity.info/wp-content/uploads/2026/02/Data-Storytelling-Training.webp
END:VEVENT
BEGIN:VEVENT
DTSTART;TZID=America/Indiana/Indianapolis:20260511T140000
DTEND;TZID=America/Indiana/Indianapolis:20260511T160000
DTSTAMP:20260424T230841
CREATED:20260414T183953Z
LAST-MODIFIED:20260414T183953Z
UID:10000307-1778508000-1778515200@growcapacity.info
SUMMARY:SAVI Data Literacy Skills Training – Avoid Data Pitfalls
DESCRIPTION:Data is most powerful when you understand its limits. This module will give you the knowledge to think critically about data\, making you aware of what can cause noise in data and how to use data effectively despite these limitations. \nWHAT YOU WILL LEARN \n\nHow policy changes can affect the numbers\nHow factors outside your analysis can impact the data\nHow to judge the accuracy and reliability of data\n\nThis offering is hosted by The Polis Center\, the creators of SAVI. Through this offering\, they will use the Central Indiana map\, but the lessons remain the same for Southern Indiana region. \n 
URL:https://growcapacity.info/event/savi-data-literacy-skills-training-avoid-data-pitfalls-2/
LOCATION:Online
CATEGORIES:Community Stakeholder,Donor-Funder,Nonprofit
ATTACH;FMTTYPE=image/webp:https://growcapacity.info/wp-content/uploads/2024/01/Savi-data-literacy.webp
END:VEVENT
BEGIN:VEVENT
DTSTART;TZID=America/Indiana/Indianapolis:20260519T140000
DTEND;TZID=America/Indiana/Indianapolis:20260519T160000
DTSTAMP:20260424T230841
CREATED:20260414T184049Z
LAST-MODIFIED:20260414T184049Z
UID:10000308-1779199200-1779206400@growcapacity.info
SUMMARY:SAVI Data Literacy – Beyond the Numbers: The Power of Qualitative Data
DESCRIPTION:Quantitative data\, such as vital statistics\, often play a critical role in community analysis projects.  However\, the richness of qualitative data such as interviews and historical documents can offer deeper insights into community challenges and opportunities.   This workshop explores different types and sources of qualitative data and explores how they can be used to uncover themes and patterns that numbers alone may miss.     \nWHO SHOULD ATTEND?  \nThis workshop is relevant to anyone who wants to understand the potential of qualitative data.  \nWHAT YOU WILL LEARN  \n\nHow to distinguish between the many types and roles of qualitative data \n\n\nWhere to find existing qualitative data for Indiana and beyond \n\n\nHow qualitative data can be used to support community focused projects\n\nUSEFUL KNOWLEDGE TO HAVE BEFORE ATTENDING  \nNo prior knowledge is required\, but you may find it useful to attend the Module 2A SAVI Data\, Tools\, and Other Resources workshop prior to this one. In that workshop you learn about the data resources that SAVI provides. 
URL:https://growcapacity.info/event/savi-data-literacy-beyond-the-numbers-the-power-of-qualitative-data-2/
CATEGORIES:Nonprofit
ATTACH;FMTTYPE=image/webp:https://growcapacity.info/wp-content/uploads/2025/11/Savi-data-literacy-Beyond-the-Numbers.webp
END:VEVENT
END:VCALENDAR