BEGIN:VCALENDAR
VERSION:2.0
PRODID:-//Grow is a capacity building platform - ECPv6.15.20//NONSGML v1.0//EN
CALSCALE:GREGORIAN
METHOD:PUBLISH
X-ORIGINAL-URL:https://growcapacity.info
X-WR-CALDESC:Events for Grow is a capacity building platform
REFRESH-INTERVAL;VALUE=DURATION:PT1H
X-Robots-Tag:noindex
X-PUBLISHED-TTL:PT1H
BEGIN:VTIMEZONE
TZID:America/Chicago
BEGIN:DAYLIGHT
TZOFFSETFROM:-0600
TZOFFSETTO:-0500
TZNAME:CDT
DTSTART:20240310T080000
END:DAYLIGHT
BEGIN:STANDARD
TZOFFSETFROM:-0500
TZOFFSETTO:-0600
TZNAME:CST
DTSTART:20241103T070000
END:STANDARD
BEGIN:DAYLIGHT
TZOFFSETFROM:-0600
TZOFFSETTO:-0500
TZNAME:CDT
DTSTART:20250309T080000
END:DAYLIGHT
BEGIN:STANDARD
TZOFFSETFROM:-0500
TZOFFSETTO:-0600
TZNAME:CST
DTSTART:20251102T070000
END:STANDARD
BEGIN:DAYLIGHT
TZOFFSETFROM:-0600
TZOFFSETTO:-0500
TZNAME:CDT
DTSTART:20260308T080000
END:DAYLIGHT
BEGIN:STANDARD
TZOFFSETFROM:-0500
TZOFFSETTO:-0600
TZNAME:CST
DTSTART:20261101T070000
END:STANDARD
END:VTIMEZONE
BEGIN:VEVENT
DTSTART;TZID=America/Chicago:20251020T120000
DTEND;TZID=America/Chicago:20251020T140000
DTSTAMP:20260425T221614
CREATED:20241119T202838Z
LAST-MODIFIED:20250307T205055Z
UID:10000170-1760961600-1760968800@growcapacity.info
SUMMARY:SAVI Super User Data Literacy Series (Part 3 of 5)
DESCRIPTION:Participants will have the confidence to use SAVI and to provide limited technical assistance to others on the mechanics of SAVI\, as well as the basics of data literacy\, pitfalls\, sense-making\, storytelling\, and informed decision-making.
URL:https://growcapacity.info/event/savi-super-user-literacy-series-part-3-of-5/
LOCATION:Online
CATEGORIES:Community Stakeholder,Donor-Funder,Nonprofit
ATTACH;FMTTYPE=image/webp:https://growcapacity.info/wp-content/uploads/2023/10/Savi-data-literacy-1.webp
END:VEVENT
BEGIN:VEVENT
DTSTART;TZID=America/Chicago:20251022T130000
DTEND;TZID=America/Chicago:20251022T160000
DTSTAMP:20260425T221614
CREATED:20251008T173516Z
LAST-MODIFIED:20251008T173516Z
UID:10000237-1761138000-1761148800@growcapacity.info
SUMMARY:Excel Basics Workshop: Build a Strong Foundation
DESCRIPTION:Take the guesswork out of spreadsheets. This hands-on workshop introduces the essential tools and features of Microsoft Excel to help you become confident in organizing and analyzing data. You’ll learn how to navigate the interface\, format cells\, enter and manage data\, create simple formulas\, and design basic charts. Whether you’re brand new to Excel or looking to refresh your skills\, this session will equip you with the practical knowledge to use Excel more efficiently in your everyday work. \nKey skills you’ll gain: \n\nNavigating the Excel workspace with ease\nFormatting data for clarity and consistency\nUsing basic formulas and functions\nCreating simple tables and charts to visualize information\nCreate and modify illustrations\, logos\, shapes\nEnter and convert numerical and text data\, as well as perform calculations with dates and times\nArrange\, filter\, and sort lists of data by text\, color and custom criterions to keep data organized\n\nThis offering can be part of a 3 part series on Excel. 
URL:https://growcapacity.info/event/excel-basics-workshop-build-a-strong-foundation/
LOCATION:University of Evansville\, 1800 Lincoln Ave\, Evansville\, IN\, 47714\, United States
CATEGORIES:Community Stakeholder,Donor-Funder,Nonprofit
ATTACH;FMTTYPE=image/webp:https://growcapacity.info/wp-content/uploads/2025/10/Excel-Basic-Workshop.webp
END:VEVENT
END:VCALENDAR