BEGIN:VCALENDAR
VERSION:2.0
PRODID:-//Grow is a capacity building platform - ECPv6.15.20//NONSGML v1.0//EN
CALSCALE:GREGORIAN
METHOD:PUBLISH
X-WR-CALNAME:Grow is a capacity building platform
X-ORIGINAL-URL:https://growcapacity.info
X-WR-CALDESC:Events for Grow is a capacity building platform
REFRESH-INTERVAL;VALUE=DURATION:PT1H
X-Robots-Tag:noindex
X-PUBLISHED-TTL:PT1H
BEGIN:VTIMEZONE
TZID:America/Indiana/Indianapolis
BEGIN:DAYLIGHT
TZOFFSETFROM:-0500
TZOFFSETTO:-0400
TZNAME:EDT
DTSTART:20250309T070000
END:DAYLIGHT
BEGIN:STANDARD
TZOFFSETFROM:-0400
TZOFFSETTO:-0500
TZNAME:EST
DTSTART:20251102T060000
END:STANDARD
BEGIN:DAYLIGHT
TZOFFSETFROM:-0500
TZOFFSETTO:-0400
TZNAME:EDT
DTSTART:20260308T070000
END:DAYLIGHT
BEGIN:STANDARD
TZOFFSETFROM:-0400
TZOFFSETTO:-0500
TZNAME:EST
DTSTART:20261101T060000
END:STANDARD
BEGIN:DAYLIGHT
TZOFFSETFROM:-0500
TZOFFSETTO:-0400
TZNAME:EDT
DTSTART:20270314T070000
END:DAYLIGHT
BEGIN:STANDARD
TZOFFSETFROM:-0400
TZOFFSETTO:-0500
TZNAME:EST
DTSTART:20271107T060000
END:STANDARD
END:VTIMEZONE
BEGIN:VEVENT
DTSTART;TZID=America/Indiana/Indianapolis:20260107T083000
DTEND;TZID=America/Indiana/Indianapolis:20260108T163000
DTSTAMP:20260425T073111
CREATED:20251031T160005Z
LAST-MODIFIED:20251201T210027Z
UID:10000242-1767774600-1767889800@growcapacity.info
SUMMARY:ArcGIS Fundamentals
DESCRIPTION:This two-day\, hands-on workshop is designed for beginners and early-career professionals who want to build a strong foundation in Geographic Information Systems (GIS) using ArcGIS Pro. Through guided instruction and practical exercises\, participants will explore how GIS can be used to solve real-world problems and support decision-making across Indiana and beyond. \nDay 1 Topics\n\nGIS Fundamentals – Understand what GIS is and how it can solve problems and create opportunities in Indiana\nNavigating ArcGIS Pro – Learn the capabilities of ArcGIS Pro\, get started\, and navigate the interface\nCreating Maps – Learn to effectively communicate spatial information through well-designed maps\nData Fundamentals – Explore data types and tools for managing and documenting your data\n\nDay 2 Topics\n\nData Sources – Find and access a wealth of free GIS data in Indiana and beyond\nWorking with Tables – Utilize tools and techniques for working with tables\nThe Power of Selection – Answer questions based on data values and locations\nBeyond the Fundamentals – Preview online GIS\, advanced spatial analysis\, and more\nClass Project – Apply your skills with a realistic use case\nWrap-Up – Review and consolidate your learning\n\n  \nAbout the presenter: IN-GTA: Indiana Geospatial Training Academy \nThe Indiana Geospatial Training Academy (IN-GTA) is a collaborative initiative involving Indiana University\, Purdue University\, and Valparaiso University. IN-GTA’s mission is to provide accessible\, industry-ready geospatial training to professionals primarily based in Indiana. Our workshops are tailored to the state’s unique needs\, offering participants the opportunity to enhance their geospatial skills using tools\, data\, and practices prevalent in Indiana’s professional community.
URL:https://growcapacity.info/event/arcgis-fundamentals-2026/
LOCATION:Indiana University Indianapolis\, 420 University Blvd\, Indianapolis\, IN\, 46202\, United States
CATEGORIES:Community Stakeholder,Nonprofit
ATTACH;FMTTYPE=image/png:https://growcapacity.info/wp-content/uploads/2025/10/ArcGIS-Fundamentals.webp
END:VEVENT
END:VCALENDAR