BEGIN:VCALENDAR
VERSION:2.0
PRODID:-//Grow is a capacity building platform - ECPv6.15.20//NONSGML v1.0//EN
CALSCALE:GREGORIAN
METHOD:PUBLISH
X-WR-CALNAME:Grow is a capacity building platform
X-ORIGINAL-URL:https://growcapacity.info
X-WR-CALDESC:Events for Grow is a capacity building platform
REFRESH-INTERVAL;VALUE=DURATION:PT1H
X-Robots-Tag:noindex
X-PUBLISHED-TTL:PT1H
BEGIN:VTIMEZONE
TZID:America/Chicago
BEGIN:DAYLIGHT
TZOFFSETFROM:-0600
TZOFFSETTO:-0500
TZNAME:CDT
DTSTART:20230312T080000
END:DAYLIGHT
BEGIN:STANDARD
TZOFFSETFROM:-0500
TZOFFSETTO:-0600
TZNAME:CST
DTSTART:20231105T070000
END:STANDARD
BEGIN:DAYLIGHT
TZOFFSETFROM:-0600
TZOFFSETTO:-0500
TZNAME:CDT
DTSTART:20240310T080000
END:DAYLIGHT
BEGIN:STANDARD
TZOFFSETFROM:-0500
TZOFFSETTO:-0600
TZNAME:CST
DTSTART:20241103T070000
END:STANDARD
BEGIN:DAYLIGHT
TZOFFSETFROM:-0600
TZOFFSETTO:-0500
TZNAME:CDT
DTSTART:20250309T080000
END:DAYLIGHT
BEGIN:STANDARD
TZOFFSETFROM:-0500
TZOFFSETTO:-0600
TZNAME:CST
DTSTART:20251102T070000
END:STANDARD
END:VTIMEZONE
BEGIN:VEVENT
DTSTART;TZID=America/Chicago:20240926T113000
DTEND;TZID=America/Chicago:20240926T130000
DTSTAMP:20260423T151436
CREATED:20240816T204613Z
LAST-MODIFIED:20240816T210050Z
UID:10000144-1727350200-1727355600@growcapacity.info
SUMMARY:Building Effective Teams
DESCRIPTION:Price: $65\nDate: September 26\, 2024\nTime: 11:30 a.m. to 1:00 p.m.\nLocation: Eykamp Hall\, Room 252\, Ridgway University Center\nInstructor(s): Timothy A. Dickel\, PhD \nDescription: Leaders who build strong teams are able to accomplish much more than they can on their own. This workshop will help attendees understand how they can develop more effective teams by defining the purpose\, setting goals and expectations\, communicating\, and working through challenges. Lunch is provided. \nDr. Timothy A. (Tad) Dickel serves as the Executive in Residence in Leadership and the Faculty Director of the Master of Science in Leadership program at the University of Evansville. In addition\, he is the President of T.A. Dickel Group\, LLC and serves as a leadership and strategy consultant for businesses\, universities\, and nonprofits. \nRegister Here
URL:https://growcapacity.info/event/building-effective-teams/
LOCATION:University of Evansville\, 1800 Lincoln Ave\, Evansville\, IN\, 47714\, United States
CATEGORIES:Community Stakeholder,Nonprofit
ATTACH;FMTTYPE=image/webp:https://growcapacity.info/wp-content/uploads/2024/08/Building-Effective-TEams.webp
END:VEVENT
END:VCALENDAR