BEGIN:VCALENDAR
VERSION:2.0
PRODID:-//Grow is a capacity building platform - ECPv6.15.20//NONSGML v1.0//EN
CALSCALE:GREGORIAN
METHOD:PUBLISH
X-ORIGINAL-URL:https://growcapacity.info
X-WR-CALDESC:Events for Grow is a capacity building platform
REFRESH-INTERVAL;VALUE=DURATION:PT1H
X-Robots-Tag:noindex
X-PUBLISHED-TTL:PT1H
BEGIN:VTIMEZONE
TZID:America/Chicago
BEGIN:DAYLIGHT
TZOFFSETFROM:-0600
TZOFFSETTO:-0500
TZNAME:CDT
DTSTART:20240310T080000
END:DAYLIGHT
BEGIN:STANDARD
TZOFFSETFROM:-0500
TZOFFSETTO:-0600
TZNAME:CST
DTSTART:20241103T070000
END:STANDARD
BEGIN:DAYLIGHT
TZOFFSETFROM:-0600
TZOFFSETTO:-0500
TZNAME:CDT
DTSTART:20250309T080000
END:DAYLIGHT
BEGIN:STANDARD
TZOFFSETFROM:-0500
TZOFFSETTO:-0600
TZNAME:CST
DTSTART:20251102T070000
END:STANDARD
BEGIN:DAYLIGHT
TZOFFSETFROM:-0600
TZOFFSETTO:-0500
TZNAME:CDT
DTSTART:20260308T080000
END:DAYLIGHT
BEGIN:STANDARD
TZOFFSETFROM:-0500
TZOFFSETTO:-0600
TZNAME:CST
DTSTART:20261101T070000
END:STANDARD
END:VTIMEZONE
BEGIN:VEVENT
DTSTART;TZID=America/Chicago:20251201T080000
DTEND;TZID=America/Chicago:20251201T100000
DTSTAMP:20260425T190434
CREATED:20251029T202144Z
LAST-MODIFIED:20251029T202144Z
UID:10000241-1764576000-1764583200@growcapacity.info
SUMMARY:Unlocking the Power of Online GIS: Integrating Data and Creating Multimedia Stories
DESCRIPTION:This session will explore how GIS technology can help you bring data to life. Learn how to integrate data from multiple sources—including SAVI—create interactive maps and multimedia stories and uncover patterns and relationships through spatial analysis. If you’re curious about how tools like ArcGIS Online can support your organization’s storytelling and data-driven decision making\, this workshop is for you. Live demonstrations of ArcGIS Online’s capabilities will be included.
URL:https://growcapacity.info/event/unlocking-the-power-of-online-gis-integrating-data-and-creating-multimedia-stories/
CATEGORIES:Nonprofit
ATTACH;FMTTYPE=image/png:https://growcapacity.info/wp-content/uploads/2025/10/ArcGIS.webp
END:VEVENT
END:VCALENDAR