BEGIN:VCALENDAR
VERSION:2.0
PRODID:-//Grow is a capacity building platform - ECPv6.15.20//NONSGML v1.0//EN
CALSCALE:GREGORIAN
METHOD:PUBLISH
X-ORIGINAL-URL:https://growcapacity.info
X-WR-CALDESC:Events for Grow is a capacity building platform
REFRESH-INTERVAL;VALUE=DURATION:PT1H
X-Robots-Tag:noindex
X-PUBLISHED-TTL:PT1H
BEGIN:VTIMEZONE
TZID:America/Chicago
BEGIN:DAYLIGHT
TZOFFSETFROM:-0600
TZOFFSETTO:-0500
TZNAME:CDT
DTSTART:20230312T080000
END:DAYLIGHT
BEGIN:STANDARD
TZOFFSETFROM:-0500
TZOFFSETTO:-0600
TZNAME:CST
DTSTART:20231105T070000
END:STANDARD
BEGIN:DAYLIGHT
TZOFFSETFROM:-0600
TZOFFSETTO:-0500
TZNAME:CDT
DTSTART:20240310T080000
END:DAYLIGHT
BEGIN:STANDARD
TZOFFSETFROM:-0500
TZOFFSETTO:-0600
TZNAME:CST
DTSTART:20241103T070000
END:STANDARD
BEGIN:DAYLIGHT
TZOFFSETFROM:-0600
TZOFFSETTO:-0500
TZNAME:CDT
DTSTART:20250309T080000
END:DAYLIGHT
BEGIN:STANDARD
TZOFFSETFROM:-0500
TZOFFSETTO:-0600
TZNAME:CST
DTSTART:20251102T070000
END:STANDARD
END:VTIMEZONE
BEGIN:VEVENT
DTSTART;TZID=America/Chicago:20241017T083000
DTEND;TZID=America/Chicago:20241017T120000
DTSTAMP:20260422T232225
CREATED:20231218T184837Z
LAST-MODIFIED:20240419T142913Z
UID:10000075-1729153800-1729166400@growcapacity.info
SUMMARY:Next Generation Leadership Academy Alumni Continuing Education
DESCRIPTION:Are you an alumni participant of the Next Generation Leadership Academy? Stay connected and updated on important topics in the field. Contact Welborn Baptist Foundation for registration and details. \nHaven’t participated in the Next Generation Leadership Academy yet?  It is a customized\, local executive level education partnership with IU O’Neill School of Public and Environmental Affairs. This 6-linked module\, focusing on competency development in the areas of leading a nonprofit and is designed for new Executive Directors and next generation leaders (having 53 in our community who have benefitted since 2016).  Click here to learn more.
URL:https://growcapacity.info/event/next-generation-leadership-academy-4/
LOCATION:Welborn Community Room\, 20 NW Third St.\, Suite 1500\, Evansville\, 47708\, United States
CATEGORIES:Nonprofit
ATTACH;FMTTYPE=image/webp:https://growcapacity.info/wp-content/uploads/2023/12/Next-Gen-Leadership-Academy-Cont-Ed.webp
END:VEVENT
END:VCALENDAR