BEGIN:VCALENDAR
VERSION:2.0
PRODID:-//Grow is a capacity building platform - ECPv6.15.20//NONSGML v1.0//EN
CALSCALE:GREGORIAN
METHOD:PUBLISH
X-WR-CALNAME:Grow is a capacity building platform
X-ORIGINAL-URL:https://growcapacity.info
X-WR-CALDESC:Events for Grow is a capacity building platform
REFRESH-INTERVAL;VALUE=DURATION:PT1H
X-Robots-Tag:noindex
X-PUBLISHED-TTL:PT1H
BEGIN:VTIMEZONE
TZID:America/Chicago
BEGIN:DAYLIGHT
TZOFFSETFROM:-0600
TZOFFSETTO:-0500
TZNAME:CDT
DTSTART:20220313T080000
END:DAYLIGHT
BEGIN:STANDARD
TZOFFSETFROM:-0500
TZOFFSETTO:-0600
TZNAME:CST
DTSTART:20221106T070000
END:STANDARD
BEGIN:DAYLIGHT
TZOFFSETFROM:-0600
TZOFFSETTO:-0500
TZNAME:CDT
DTSTART:20230312T080000
END:DAYLIGHT
BEGIN:STANDARD
TZOFFSETFROM:-0500
TZOFFSETTO:-0600
TZNAME:CST
DTSTART:20231105T070000
END:STANDARD
BEGIN:DAYLIGHT
TZOFFSETFROM:-0600
TZOFFSETTO:-0500
TZNAME:CDT
DTSTART:20240310T080000
END:DAYLIGHT
BEGIN:STANDARD
TZOFFSETFROM:-0500
TZOFFSETTO:-0600
TZNAME:CST
DTSTART:20241103T070000
END:STANDARD
END:VTIMEZONE
BEGIN:VEVENT
DTSTART;TZID=America/Chicago:20231024T090000
DTEND;TZID=America/Chicago:20231024T110000
DTSTAMP:20260425T061447
CREATED:20231010T151931Z
LAST-MODIFIED:20250416T161242Z
UID:10000012-1698138000-1698145200@growcapacity.info
SUMMARY:SAVI Data Literacy Skills Training (Central Indiana) – Module 4A: Tell Stories with Data
DESCRIPTION:This is part of the SAVI Data Literacy Skills Training Series – A 6 Module Series\nThis workshop teaches the next steps of persuasively communicating what you have learned after gaining initial insight from data. You will learn the skills to put your analysis in the context of a compelling narrative and to build your argument logically and convincingly. Whatever your audience\, weaving the data into a story is what communicates your findings to others\, whether it be a small data set\, large data set\, or multiple data sets. \nWHO SHOULD ATTEND? \nAnyone interested in taking the next step from understanding their data and visualizing it\, to telling a cohesive story to others about their data. \nWHAT WILL YOU LEARN? \n\nTo find the compelling narrative in your data\nTo connect facts that build a compelling argument\nTo use compelling graphics to communicate your point\nTo tailor your delivery to your audiences needs\n\nUSEFUL KNOWLEDGE TO HAVE BEFORE ATTENDING \nNo prior knowledge is required\, but you may find it useful to attend the Module 1A: Framing the Problem workshop prior to this one. In that workshop you learn how to frame problems so that you have specific and measurable questions that can help you meet your goals. You may also want to consider attending the Module 2A: Finding Existing Data workshop which explores where to find existing data and how to choose the right data source for answering your questions.
URL:https://growcapacity.info/event/savi-data-literacy-skills-training-central-indiana-module-4a-tell-stories-with-data/
LOCATION:Online
CATEGORIES:Community Stakeholder,Donor-Funder,Nonprofit
ATTACH;FMTTYPE=image/webp:https://growcapacity.info/wp-content/uploads/2023/10/Savi-data-literacy-2.webp
END:VEVENT
END:VCALENDAR