BEGIN:VCALENDAR
VERSION:2.0
PRODID:-//Grow is a capacity building platform - ECPv6.15.20//NONSGML v1.0//EN
CALSCALE:GREGORIAN
METHOD:PUBLISH
X-ORIGINAL-URL:https://growcapacity.info
X-WR-CALDESC:Events for Grow is a capacity building platform
REFRESH-INTERVAL;VALUE=DURATION:PT1H
X-Robots-Tag:noindex
X-PUBLISHED-TTL:PT1H
BEGIN:VTIMEZONE
TZID:America/Chicago
BEGIN:DAYLIGHT
TZOFFSETFROM:-0600
TZOFFSETTO:-0500
TZNAME:CDT
DTSTART:20220313T080000
END:DAYLIGHT
BEGIN:STANDARD
TZOFFSETFROM:-0500
TZOFFSETTO:-0600
TZNAME:CST
DTSTART:20221106T070000
END:STANDARD
BEGIN:DAYLIGHT
TZOFFSETFROM:-0600
TZOFFSETTO:-0500
TZNAME:CDT
DTSTART:20230312T080000
END:DAYLIGHT
BEGIN:STANDARD
TZOFFSETFROM:-0500
TZOFFSETTO:-0600
TZNAME:CST
DTSTART:20231105T070000
END:STANDARD
BEGIN:DAYLIGHT
TZOFFSETFROM:-0600
TZOFFSETTO:-0500
TZNAME:CDT
DTSTART:20240310T080000
END:DAYLIGHT
BEGIN:STANDARD
TZOFFSETFROM:-0500
TZOFFSETTO:-0600
TZNAME:CST
DTSTART:20241103T070000
END:STANDARD
END:VTIMEZONE
BEGIN:VEVENT
DTSTART;TZID=America/Chicago:20231031T140000
DTEND;TZID=America/Chicago:20231031T153000
DTSTAMP:20260425T111843
CREATED:20231010T150229Z
LAST-MODIFIED:20250416T161243Z
UID:10000009-1698760800-1698766200@growcapacity.info
SUMMARY:SAVI Super User Learning Series – Module 4A: Tell Stories with Data
DESCRIPTION:This is part of the SAVI Super User Learning Series – A 6 Module Series (Sept 26-Nov 7)\nDescription of SAVI Super User Learning Series\nParticipants will have the confidence to use SAVI and to provide limited technical assistance to others on the mechanics of SAVI\, as well as the basics of data literacy\, pitfalls\, sense-making\, storytelling\, and informed decision-making. \nWho should attend?\nIdeal participants are those who are looking to have a more in-depth understanding of SAVI mechanics\, basics of data literacy\, pitfalls\, sensemaking\, storytelling\, and informed decision-making. \nUseful knowledge before attending?\nA basic understanding of how to use SAVI and some experience working with and using data may be helpful but is not required. \nAll training offerings will be virtual. A link will be sent via email to registrants & calendar invitations. \n* Following each session\, attendees will be asked to complete a brief survey.  The information will help Grow improve the support and education provided for SAVI. \n \nRegistration is currently closed for this series – please watch for future opportunities
URL:https://growcapacity.info/event/savi-super-user-learning-series-module-4a-tell-stories-with-data/
LOCATION:Online
CATEGORIES:Community Stakeholder,Donor-Funder,Nonprofit
ATTACH;FMTTYPE=image/webp:https://growcapacity.info/wp-content/uploads/2023/10/Savi-data-literacy-1.webp
END:VEVENT
BEGIN:VEVENT
DTSTART;TZID=America/Chicago:20231101T080000
DTEND;TZID=America/Chicago:20231101T100000
DTSTAMP:20260425T111843
CREATED:20231010T152523Z
LAST-MODIFIED:20250416T161242Z
UID:10000013-1698825600-1698832800@growcapacity.info
SUMMARY:SAVI Data Literacy Skills Training (Central Indiana) – Module 1A: Frame the Problem
DESCRIPTION:This is part of the SAVI Data Literacy Skills Training Series – A 6 Module Series\nBefore you can begin using data to inform decisions\, identify what you are trying to accomplish and determine how data can help you get there. This will determine what kind of data you need. What you will learn: \n\nTo identify what your goal is\nTo determine how to use data to help you meet your goal\nHow to form questions that are measurable\nTo determine what you need from your data (are you comparing across time\, comparing to other geographies\, individual level data\, aggregated groups\, comparing different groups\, etc.).
URL:https://growcapacity.info/event/savi-data-literacy-skills-training-central-indiana-module-1a-frame-the-problem/
LOCATION:Online
CATEGORIES:Community Stakeholder,Donor-Funder,Nonprofit
ATTACH;FMTTYPE=image/webp:https://growcapacity.info/wp-content/uploads/2023/10/Savi-data-literacy-2.webp
END:VEVENT
BEGIN:VEVENT
DTSTART;TZID=America/Chicago:20231102T100000
DTEND;TZID=America/Chicago:20231102T113000
DTSTAMP:20260425T111843
CREATED:20231019T141616Z
LAST-MODIFIED:20231019T160443Z
UID:10000020-1698919200-1698924600@growcapacity.info
SUMMARY:Using Data in Grantwriting
DESCRIPTION:Using Data in Grant Writing will help participants understand how to identify\, gather\, and use relevant data to support a successful grant application. Publicly available secondary data can help nonprofit organizations show the need for their programs and services. Data that organizations collect on their program implementation can help demonstrate how effectively they can meet the community need. We will give examples of how organizations can use data in the narrative of their grant application. Participants will learn how using data can help them make a successful case for funding. \nWho should attend?\nIdeal participants are those that are looking to learn how to build a compelling grant narrative using data and relevant information\, primarily using or leaning into the Grow/SAVI data tool for data usage. \n* Following each session\, attendees will be asked to complete a brief survey. \n  \nClick here to register
URL:https://growcapacity.info/event/using-data-in-grantwriting/
LOCATION:Online
CATEGORIES:Nonprofit
ATTACH;FMTTYPE=image/webp:https://growcapacity.info/wp-content/uploads/2023/10/Data-in-Grantwriting.webp
ORGANIZER;CN="Transform Consulting Group":MAILTO:admin@transformconsultinggroup.com
END:VEVENT
END:VCALENDAR