BEGIN:VCALENDAR
VERSION:2.0
PRODID:-//Grow is a capacity building platform - ECPv6.15.20//NONSGML v1.0//EN
CALSCALE:GREGORIAN
METHOD:PUBLISH
X-WR-CALNAME:Grow is a capacity building platform
X-ORIGINAL-URL:https://growcapacity.info
X-WR-CALDESC:Events for Grow is a capacity building platform
REFRESH-INTERVAL;VALUE=DURATION:PT1H
X-Robots-Tag:noindex
X-PUBLISHED-TTL:PT1H
BEGIN:VTIMEZONE
TZID:America/Chicago
BEGIN:DAYLIGHT
TZOFFSETFROM:-0600
TZOFFSETTO:-0500
TZNAME:CDT
DTSTART:20220313T080000
END:DAYLIGHT
BEGIN:STANDARD
TZOFFSETFROM:-0500
TZOFFSETTO:-0600
TZNAME:CST
DTSTART:20221106T070000
END:STANDARD
BEGIN:DAYLIGHT
TZOFFSETFROM:-0600
TZOFFSETTO:-0500
TZNAME:CDT
DTSTART:20230312T080000
END:DAYLIGHT
BEGIN:STANDARD
TZOFFSETFROM:-0500
TZOFFSETTO:-0600
TZNAME:CST
DTSTART:20231105T070000
END:STANDARD
BEGIN:DAYLIGHT
TZOFFSETFROM:-0600
TZOFFSETTO:-0500
TZNAME:CDT
DTSTART:20240310T080000
END:DAYLIGHT
BEGIN:STANDARD
TZOFFSETFROM:-0500
TZOFFSETTO:-0600
TZNAME:CST
DTSTART:20241103T070000
END:STANDARD
END:VTIMEZONE
BEGIN:VEVENT
DTSTART;TZID=America/Chicago:20231128T080000
DTEND;TZID=America/Chicago:20231128T100000
DTSTAMP:20260424T191230
CREATED:20231010T152810Z
LAST-MODIFIED:20250416T161242Z
UID:10000014-1701158400-1701165600@growcapacity.info
SUMMARY:SAVI Data Literacy Skills Training (Central Indiana) – Module 4B: Make Decisions with Data
DESCRIPTION:This is part of the SAVI Data Literacy Skills Training Series – A 6 Module Series\n\n\nThis workshop will help you apply the skills learned in other workshops to your own real-world\, data-informed project. The workshop instructor will reach out to you prior to the workshop to discuss your project and to help you identify the data and other information you will need to bring to this workshop to be successful. \nWHO SHOULD ATTEND? \nAnyone who wants to complete a data-driven project they are working on\, with assistance on how to apply their data skills to real-world solutions and informed decision making. \nWHAT WILL YOU LEARN? \n\nApply your critical data skills to decision-making\nLearn the limits of data in decision-making\nIncorporate qualitative information to improve decisions\n\nUSEFUL KNOWLEDGE TO HAVE BEFORE ATTENDING \nPrior to attending this workshop you should complete Module 1A: Framing the Problem\, Module 2A: Finding Existing Data and Module 3A: Analyze and Visualize with Charts
URL:https://growcapacity.info/event/savi-data-literacy-skills-training-central-indiana-module-4b-make-decisions-with-data/
LOCATION:Online
CATEGORIES:Community Stakeholder,Donor-Funder,Nonprofit
ATTACH;FMTTYPE=image/webp:https://growcapacity.info/wp-content/uploads/2023/10/Savi-data-literacy-2.webp
END:VEVENT
BEGIN:VEVENT
DTSTART;TZID=America/Chicago:20231128T083000
DTEND;TZID=America/Chicago:20231128T123000
DTSTAMP:20260424T191230
CREATED:20231019T183735Z
LAST-MODIFIED:20240920T155152Z
UID:10000025-1701160200-1701174600@growcapacity.info
SUMMARY:Board Champions 201
DESCRIPTION:201 Level Training: Habits and Practices of Healthy Boards\nTraining for those serving as board members who want to expand their understanding \nThe Board Champions ™ 201-level program provides an opportunity for Board members to explore the habits and practices of effective governance\, reflect on their strengths\, and emerge more energized\, engaged\, and prepared to excel. Board members will explore practical and refreshingly unique ways in which they can establish the habits and practices necessary for effective governance capable of translating bold vision into reality. Moving beyond a simple review of Board roles and responsibilities\, members will dive deep into the key practices of dynamic nonprofit Boards\, the lines of authority between Board and staff. potential pitfalls to avoid\, as well as current trends and hot topics. Board members will sharpen their skills and leave prepared to embody excellence in nonprofit governance. Specific topics covered include but are not limited to:   5 Habits of healthy Boards; DEI and Governance; Ethics in governance; Reimagining the traditional Board meeting; Cultivating productive committees; Addressing conflict productively. This will be offered as an open offering. Seating will be limited. Contracted consultant partner\, Greg Nielsen of Nielsen Training & Consulting\, LLC. \n  \nClick here to register
URL:https://growcapacity.info/event/board-champions-201/
LOCATION:Welborn Community Room\, 20 NW Third St.\, Suite 1500\, Evansville\, 47708\, United States
CATEGORIES:Community Stakeholder,Donor-Funder,Nonprofit
END:VEVENT
BEGIN:VEVENT
DTSTART;VALUE=DATE:20231129
DTEND;VALUE=DATE:20231130
DTSTAMP:20260424T191230
CREATED:20231019T184251Z
LAST-MODIFIED:20240920T151518Z
UID:10000026-1701216000-1701302399@growcapacity.info
SUMMARY:Fundamentals of Nonprofit Management
DESCRIPTION:The Fundamentals of Nonprofit Management course is designed to assist participants’ understanding in the foundational components of a nonprofit. Although staff and board members may have varying degrees of experience and expertise\, a shared learning experience on the essential framework can assist a collective approach with the desired outcome of increasing the ability to effectively manage a nonprofit\, thereby establishing and strengthening the organization. The intended audience is that of one consistent staff member (executive director) and a consistent board member (in most cases it will be the board chair) who partner through a “linked module” cohort learning of 6\, one-day sessions covering such areas as: Governance and Leadership\, Planning and Evaluation\, Marketing and Communication\, Fundraising\, Managing Human Resources & Compliance\, Volunteer Management and Finance. We hope for participants to engage with an inclusive lens so as to be mindful of their organization’s stakeholders and diverse potential client populations as they gain insight. \nDuration: 6\, 1-day sessions over 8 months\nParticipant: Staff & Board representation \n  \nClick here to learn more
URL:https://growcapacity.info/event/fundamentals-of-nonprofit-management/
LOCATION:Welborn Community Room\, 20 NW Third St.\, Suite 1500\, Evansville\, 47708\, United States
CATEGORIES:Nonprofit
END:VEVENT
END:VCALENDAR