BEGIN:VCALENDAR
VERSION:2.0
PRODID:-//Grow is a capacity building platform - ECPv6.15.20//NONSGML v1.0//EN
CALSCALE:GREGORIAN
METHOD:PUBLISH
X-ORIGINAL-URL:https://growcapacity.info
X-WR-CALDESC:Events for Grow is a capacity building platform
REFRESH-INTERVAL;VALUE=DURATION:PT1H
X-Robots-Tag:noindex
X-PUBLISHED-TTL:PT1H
BEGIN:VTIMEZONE
TZID:America/Chicago
BEGIN:DAYLIGHT
TZOFFSETFROM:-0600
TZOFFSETTO:-0500
TZNAME:CDT
DTSTART:20230312T080000
END:DAYLIGHT
BEGIN:STANDARD
TZOFFSETFROM:-0500
TZOFFSETTO:-0600
TZNAME:CST
DTSTART:20231105T070000
END:STANDARD
BEGIN:DAYLIGHT
TZOFFSETFROM:-0600
TZOFFSETTO:-0500
TZNAME:CDT
DTSTART:20240310T080000
END:DAYLIGHT
BEGIN:STANDARD
TZOFFSETFROM:-0500
TZOFFSETTO:-0600
TZNAME:CST
DTSTART:20241103T070000
END:STANDARD
BEGIN:DAYLIGHT
TZOFFSETFROM:-0600
TZOFFSETTO:-0500
TZNAME:CDT
DTSTART:20250309T080000
END:DAYLIGHT
BEGIN:STANDARD
TZOFFSETFROM:-0500
TZOFFSETTO:-0600
TZNAME:CST
DTSTART:20251102T070000
END:STANDARD
END:VTIMEZONE
BEGIN:VEVENT
DTSTART;TZID=America/Chicago:20240312T083000
DTEND;TZID=America/Chicago:20240312T123000
DTSTAMP:20260424T103502
CREATED:20231218T184736Z
LAST-MODIFIED:20240222T154938Z
UID:10000052-1710232200-1710246600@growcapacity.info
SUMMARY:Giving For Impact
DESCRIPTION:Level I\, Session I\nGiving for Impact – Evansville   |   Impact matters because simply doing good work does not equal changed lives \nAs a donor\, do you ever question whether your donations are having the impact you expect?  Do you often feel like you are just writing checks to organizations because they asked or because it makes you feel good? \nOver the past eight years\, our program\, Giving for Impact\, has made a tremendous difference in how people donate and partner with nonprofits. \nThe sole purpose of our training is to equip attendees with knowledge and help in developing relationships with the nonprofit community.  The training encourages individuals to learn more about who they are as donors by teaching them to identify their personal mission\, vision\, and core values to create charitable impact.  As a donor\, they will be equipped to know how to find fulfillment in their giving. \nOnce an individual understands who they are as a donor\, the program will build on that understanding by equipping them with knowledge of what a strong nonprofit organization looks like.  Donors will learn how to ask the right questions when meeting with a nonprofit and how to determine if they are actually making a difference.  Participants will learn what a healthy nonprofit partnership looks like and be able to create their own personal plan and philosophy of giving. \nGiving for Impact is a great training program for individual donors as well as family foundations\, financial advisors\, wealth managers\, CPA’s\, estate planners\, attorneys or trust advisors. Regardless if you donate $50.00 per year or $50\,000.00 per year\, Giving for Impact is for anyone who desires to have a clearer understanding of themselves as a donor and has a desire to make a greater impact through their giving. \nJamie D. Levy\, from JDLevy & Associates\, an international speaker\, consultant\, and adjunct professor at Indiana University School of Philanthropy\, IU Fund Raising School\, and IU Paul H. O’Neill School of Public and Environment Affairs (IU SPEA)\, will guide you through understanding the strategies involved in making wise decisions regarding your philanthropic giving.  To learn more about Mr. Levy and JDLevy & Associates visit their website www.JDLevyAssociates.com \nThis training is supported through donations from Jim and Carol Havens\, JDLevy & Associates\, Community Foundation Alliance\, and the Welborn Baptist Foundation.  These donations allow Giving for Impact to offer this series at no cost to you. \nIf you have questions or would like additional information please do not hesitate to contact: Carol Havens havenscs@gmail.com  812-453-8654  Cara Steinkuhl carasteinkuhl@gmail.com 812-455-4321 or Jamie Levy jlevy@jdlevyassociates.com \nInterested\, desire to learn more\, or want to register? Contact the event organizations here
URL:https://growcapacity.info/event/giving-for-impact/
LOCATION:Welborn Community Room\, 20 NW Third St.\, Suite 1500\, Evansville\, 47708\, United States
CATEGORIES:Community Stakeholder,Donor-Funder,Nonprofit
ATTACH;FMTTYPE=image/webp:https://growcapacity.info/wp-content/uploads/2023/12/Giving-For-Impact.webp
END:VEVENT
BEGIN:VEVENT
DTSTART;TZID=America/Chicago:20240313T074500
DTEND;TZID=America/Chicago:20240313T090000
DTSTAMP:20260424T103502
CREATED:20231218T184734Z
LAST-MODIFIED:20240920T151603Z
UID:10000049-1710315900-1710320400@growcapacity.info
SUMMARY:Evansville Area Fundraising Council Program
DESCRIPTION:The EAFC meets the second Wednesday of January\, February\, March\, April\, May\, September\, October\, November & December. All regular meetings begin with networking at 7:45 a.m. and the presentation begins at 8:00 a.m. The format varies between in-person and virtual\, depending on the presentation. Membership details are provided on the EAFC website.
URL:https://growcapacity.info/event/evansville-area-fundraising-council-program-4/
LOCATION:Welborn Community Room\, 20 NW Third St.\, Suite 1500\, Evansville\, 47708\, United States
CATEGORIES:Nonprofit
ATTACH;FMTTYPE=image/webp:https://growcapacity.info/wp-content/uploads/2023/12/Evansville-Area-Fundraising-Council-Program-1.webp
END:VEVENT
BEGIN:VEVENT
DTSTART;TZID=America/Chicago:20240314T083000
DTEND;TZID=America/Chicago:20240314T163000
DTSTAMP:20260424T103502
CREATED:20240207T170157Z
LAST-MODIFIED:20240207T174054Z
UID:10000098-1710405000-1710433800@growcapacity.info
SUMMARY:Next Generation Leadership Academy (6-Part Series)
DESCRIPTION:Next Generation Leadership Academy is a customized executive level education partnership with IU O’Neill School of Public and Environmental Affairs. This 6-linked module\, focusing on competency development in the areas of leading a nonprofit is designed for new Executive Directors and next generation leaders (having 53 in our community who have benefitted since 2016). \nThere is a registration deadline\, spots are available but limited. For registration and further information\, please visit the Welborn Baptist Foundation website.
URL:https://growcapacity.info/event/next-generation-leadership-academy-9/
LOCATION:Welborn Community Room\, 20 NW Third St.\, Suite 1500\, Evansville\, 47708\, United States
CATEGORIES:Nonprofit
ATTACH;FMTTYPE=image/webp:https://growcapacity.info/wp-content/uploads/2023/12/Next-Gen-Leadership-Academy.webp
END:VEVENT
BEGIN:VEVENT
DTSTART;TZID=America/Chicago:20240314T100000
DTEND;TZID=America/Chicago:20240314T120000
DTSTAMP:20260424T103502
CREATED:20240221T190210Z
LAST-MODIFIED:20240221T190210Z
UID:10000099-1710410400-1710417600@growcapacity.info
SUMMARY:Indiana Youth Institute's 2024 State of the Child - Dubois County
DESCRIPTION:About This Event\nJoin us for Indiana Youth Institute’s 2024 State of the Child presentation to learn about and connect around key data on Hoosier youth well-being from IYI’s recently released 2024 Indiana KIDS COUNT® Data Book. IYI’s 2024 KIDS COUNT® Data Book examines the overall well-being of Indiana kids\, including the impacts of the COVID-19 pandemic and continuation of racial and ethnic disparities in outcomes across four domains\, Family & Community\, Health\, Economic Well-Being\, and Education. \nThe Indiana KIDS COUNT Data Book is an annual snapshot of the most recent information and trends in Indiana child well-being. Access to reliable\, high-quality data and resources empowers and equips leaders\, policymakers\, youth workers\, and advocates with a go-to\, trusted source to create positive change for Indiana youth. \nThis year’s State of the Child will be an interactive event to dive into local youth-centered data and connect with those working in the youth-services field around how to use data for action. \nLearning Objectives: \n\nGain an understanding of the latest data on child well-being in Indiana\nLearn how to use the Indiana KIDS COUNT Data Book to identify actions you can take to support the youth constituents in your organization\, region\, and state\nTo discuss key data about kids in your county\, compared to the state of Indiana\nTo highlight how the Data Book and County Dashboard can empower you with data to inspire positive action/impact for Hoosier kids through your work\n\nPresenter: \n\nTaylor Johnson\, Policy & Data Advocacy Manager\, Indiana Youth Institute (IYI)\n\nIn Partnership with: \nSouthwest Dubois County School Corporation \nVincennes University Jasper \nCYC Domain \nApplied Human Development \nREGISTER HERE
URL:https://growcapacity.info/event/indiana-youth-institutes-2024-state-of-the-child-dubois-county/
LOCATION:Sisters of St. Benedict\, Ferdinand\, 802 E 10th St\, Ferdinand\, IN\, 47532\, United States
CATEGORIES:Community Stakeholder,Community Stakeholders,Donor-Funder,Donor-Funders,Nonprofit
ATTACH;FMTTYPE=image/webp:https://growcapacity.info/wp-content/uploads/2024/02/IYI-Events.webp
END:VEVENT
END:VCALENDAR