BEGIN:VCALENDAR
VERSION:2.0
PRODID:-//Grow is a capacity building platform - ECPv6.15.20//NONSGML v1.0//EN
CALSCALE:GREGORIAN
METHOD:PUBLISH
X-WR-CALNAME:Grow is a capacity building platform
X-ORIGINAL-URL:https://growcapacity.info
X-WR-CALDESC:Events for Grow is a capacity building platform
REFRESH-INTERVAL;VALUE=DURATION:PT1H
X-Robots-Tag:noindex
X-PUBLISHED-TTL:PT1H
BEGIN:VTIMEZONE
TZID:America/Chicago
BEGIN:DAYLIGHT
TZOFFSETFROM:-0600
TZOFFSETTO:-0500
TZNAME:CDT
DTSTART:20230312T080000
END:DAYLIGHT
BEGIN:STANDARD
TZOFFSETFROM:-0500
TZOFFSETTO:-0600
TZNAME:CST
DTSTART:20231105T070000
END:STANDARD
BEGIN:DAYLIGHT
TZOFFSETFROM:-0600
TZOFFSETTO:-0500
TZNAME:CDT
DTSTART:20240310T080000
END:DAYLIGHT
BEGIN:STANDARD
TZOFFSETFROM:-0500
TZOFFSETTO:-0600
TZNAME:CST
DTSTART:20241103T070000
END:STANDARD
BEGIN:DAYLIGHT
TZOFFSETFROM:-0600
TZOFFSETTO:-0500
TZNAME:CDT
DTSTART:20250309T080000
END:DAYLIGHT
BEGIN:STANDARD
TZOFFSETFROM:-0500
TZOFFSETTO:-0600
TZNAME:CST
DTSTART:20251102T070000
END:STANDARD
END:VTIMEZONE
BEGIN:VEVENT
DTSTART;TZID=America/Chicago:20240507T083000
DTEND;TZID=America/Chicago:20240507T123000
DTSTAMP:20260424T033525
CREATED:20231218T184807Z
LAST-MODIFIED:20231218T194423Z
UID:10000065-1715070600-1715085000@growcapacity.info
SUMMARY:Sustain Abilities
DESCRIPTION:This joint participation facilitates embedding the learnings into both staff and the full board. Each successive year builds on the basic topics covered in the year prior with the intention of building board culture and staff/board alignment. There are 4 “advancing” levels\, with an “alumni” opportunity which is an opportunity for agencies previously engaged to begin again if leadership has changed or if other members of leadership have been identified for attendance to assist the organization with embedding the learning. Two members (board president or designated board member and ED)\, partner through this cohort-based learning experience\, building communication effectiveness and implementation strength. In Sustain Abilities\, the focus is on more engaged boards\, building board culture\, deeper donor relationships\, with a financial plan developed by the end of the program\, working toward long-term sustainability. Such things as capital campaign readiness assessment\, donor communications\, and planned giving are discussed. The deliverables at the end of the program are a richer understanding of the success factors and an action plan for incorporating them into the board and staff “DNA”. (Outcome measurement provided by JDLA).
URL:https://growcapacity.info/event/sustain-abilities-6/
LOCATION:Welborn Community Room\, 20 NW Third St.\, Suite 1500\, Evansville\, 47708\, United States
CATEGORIES:Community Stakeholder,Nonprofit
ATTACH;FMTTYPE=image/webp:https://growcapacity.info/wp-content/uploads/2023/12/SustainAbilities.webp
END:VEVENT
BEGIN:VEVENT
DTSTART;TZID=America/Chicago:20240507T113000
DTEND;TZID=America/Chicago:20240507T133000
DTSTAMP:20260424T033525
CREATED:20240412T155848Z
LAST-MODIFIED:20240412T155848Z
UID:10000117-1715081400-1715088600@growcapacity.info
SUMMARY:Project Management Workshop – Practical Application of Project Management Principles: Five-Session Series
DESCRIPTION:Price: $395Date: Tuesday\, April 23\, 2024Time: 11:30 a.m. – 1:30 p.m.Location: University Libraries\, LI 203Instructor(s): Jesse Kauffman\, President\, Everyday Business Resilience Group\, LLC \nThis workshop series will focus on an overview of the Project Management Body of Knowledge and key Project Management concepts\, tools\, and methodologies and how to apply them to real world business situations. \nThis series begins on April 23\, 2024\, and meets again on April 30\, May 7\, May 14\, and May 21. \n\nWeek 1 – Project Management Introduction and System Overview\nWeek 2 – Project Management Body of Knowledge Introduction and Performance Domains\nWeek 3 – Project Management Tailoring\nWeek 4 – Project Management Models\, Methods\, and Artifacts\nWeek 5 – Course Wrap-up\n\nA 10% discount is available to organizations sending six or more participants. Call 812-488-1046 for more details. \nJesse Kauffman is the Lead Consultant for Everyday Business Resilience Group\, providing Business Continuity and Project Management services to local and global businesses alike. \nRegister Here
URL:https://growcapacity.info/event/project-management-workshop-practical-application-of-project-management-principles-five-session-series/2024-05-07/
LOCATION:University of Evansville\, 1800 Lincoln Ave\, Evansville\, IN\, 47714\, United States
CATEGORIES:Community Stakeholder,Community Stakeholders,Donor-Funder,Donor-Funders,Nonprofit
ATTACH;FMTTYPE=image/webp:https://growcapacity.info/wp-content/uploads/2024/04/UE-Project-Management-Workshop.webp
END:VEVENT
BEGIN:VEVENT
DTSTART;TZID=America/Chicago:20240509T113000
DTEND;TZID=America/Chicago:20240509T130000
DTSTAMP:20260424T033525
CREATED:20240416T143350Z
LAST-MODIFIED:20240416T143350Z
UID:10000121-1715254200-1715259600@growcapacity.info
SUMMARY:Current Market Trends
DESCRIPTION:Current Market Trends\nLunch-N-Learn\nThursday\, May 9\, 2024\n11:30am – 1:00pm\nEvansville Country Club\nCurrent Market Trends Flyer \nPlease join us over lunch for an opportunity to network and hear current trends across five different industries. \nRSVP to Register Today — Seating is Limited \nIT & CyberSecurity \nARE YOU ALREADY SECURE?\nBrian Burkett is the Business Development Manager for Lieberman Technologies\, a local firm founded in 1977 that provides a wide array of technology solutions including managed services\, cybersecurity\, custom software\, and web development. Lieberman Technologies is all about long-lasting\, mutually beneficial relationships\, prioritizing understanding their clients’ needs\, and making the same recommendations for them as they would for themselves if they were in the same situation. Brian believes in the importance of community service and is involved with several organizations\, including the Evansville Rotary and Evansville Economic Partnership. \nBrand/Marketing Communications \nMANAGING BRAND IN CHANGING TIMES\nEllen Browning is Brand Strategist and Creative Director at Ellen Browning Design & Associates. Ellen brings 20+ years of industry experience and 10+ years as a Professor of Visual Communications. Originating in Chicago\, Illinois\, Ellen Browning Design & Associates is an award-winning brand\, marketing communication\, and design firm. They successfully partner with clients in the education\, financial services\, health-care\, manufacturing\, and not-for-profit industries\, to name a few. Ellen Browning Design & Associates is audience-focused\, strategy- driven\, collaborative\, and experienced at establishing\, building\, and growing brands and collaborating with organizations of various sizes. \nEmployee Benefits Insurance \nTHE AMERICAN EMPLOYER MUST STEP UP TO CONTROL RISING HEALTHCARE COST\nJonathon Estes is an Employee Benefits advisor for Houchens Insurance Group\, the 46th largest independent insurance agency in the nation. Jonathon has been in healthcare for the last 20+ Years bringing innovative solutions to local groups that have proven to reduce healthcare costs by 20-40% while also improving benefits for employees. Jonathon is a forward-thinking antagonist of the traditional healthcare system where his objective is to help employer populations achieve better health outcomes. In 2019\, Jonathon joined a national movement of professionals driven to help systemically change the way healthcare coverage is purchased by employers throughout the country. The organization is known as Health Rosetta. \nBusiness Continuity \nUNPREDICTABLE CRISIS; A BUSINESS IMPACT ANALYSIS PREPARES ORGANIZATIONS\nJesse Kauffman is the President and Lead Consultant for Everyday Business Resilience Group. Jesse is a 17+ year veteran of the manufacturing world\, with expertise in Business Continuity Planning\, Crisis Management\, and Project Management. A mechanical engineer by training\, his wide-ranging career has spanned many well-known companies in the Evansville area\, including AstraZeneca\, Mead Johnson Nutrition\, Project Associates\, Inc.\, Whirlpool\, and Ilpea/Holm Industries. He now focuses on Business Continuity and Project Management training\, coaching\, and education with his company\, Everyday Business Resilience Group\, helping companies and organizations from small and local to large and global improve their resilience and their project execution. \nFinancial Services \nHOW TWO YEARS OF FINANCIAL UNCERTAINTY HAS CHANGED FINANCIAL PLANNING\nJonathon Dierlam\, a Financial Advisor at Rick Watkins Financial Services\, is committed to helping clients achieve their financial goals. Jonathan has 15+ years of industry experience and works with both individuals and small/medium-size businesses. Advisors at Rick Watkins Financial\, believe a plan is a powerful tool. Reaching your long-term financial objectives hinges on having the right plan — which fits your unique circumstances and grows with you.
URL:https://growcapacity.info/event/current-market-trends/
LOCATION:Evansville County Club\, 3810 Stringtown Rd\, Evansville\, IN\, 47711\, United States
CATEGORIES:Community Stakeholder,Community Stakeholders,Donor-Funder,Donor-Funders,Nonprofit
ATTACH;FMTTYPE=image/webp:https://growcapacity.info/wp-content/uploads/2024/04/Current-Market-Trends-2024.webp
END:VEVENT
END:VCALENDAR