BEGIN:VCALENDAR
VERSION:2.0
PRODID:-//Grow is a capacity building platform - ECPv6.15.20//NONSGML v1.0//EN
CALSCALE:GREGORIAN
METHOD:PUBLISH
X-WR-CALNAME:Grow is a capacity building platform
X-ORIGINAL-URL:https://growcapacity.info
X-WR-CALDESC:Events for Grow is a capacity building platform
REFRESH-INTERVAL;VALUE=DURATION:PT1H
X-Robots-Tag:noindex
X-PUBLISHED-TTL:PT1H
BEGIN:VTIMEZONE
TZID:America/Chicago
BEGIN:DAYLIGHT
TZOFFSETFROM:-0600
TZOFFSETTO:-0500
TZNAME:CDT
DTSTART:20230312T080000
END:DAYLIGHT
BEGIN:STANDARD
TZOFFSETFROM:-0500
TZOFFSETTO:-0600
TZNAME:CST
DTSTART:20231105T070000
END:STANDARD
BEGIN:DAYLIGHT
TZOFFSETFROM:-0600
TZOFFSETTO:-0500
TZNAME:CDT
DTSTART:20240310T080000
END:DAYLIGHT
BEGIN:STANDARD
TZOFFSETFROM:-0500
TZOFFSETTO:-0600
TZNAME:CST
DTSTART:20241103T070000
END:STANDARD
BEGIN:DAYLIGHT
TZOFFSETFROM:-0600
TZOFFSETTO:-0500
TZNAME:CDT
DTSTART:20250309T080000
END:DAYLIGHT
BEGIN:STANDARD
TZOFFSETFROM:-0500
TZOFFSETTO:-0600
TZNAME:CST
DTSTART:20251102T070000
END:STANDARD
END:VTIMEZONE
BEGIN:VEVENT
DTSTART;TZID=America/Chicago:20240527T120000
DTEND;TZID=America/Chicago:20240527T140000
DTSTAMP:20260424T022543
CREATED:20240219T165600Z
LAST-MODIFIED:20240219T165600Z
UID:10000083-1716811200-1716818400@growcapacity.info
SUMMARY:SAVI Data Literacy Skills Training – Module 2A: Finding Existing Data
DESCRIPTION:This VIRTUAL workshop will help you apply the skills learned in other workshops to your own real-world\, data-informed project. The workshop instructor will reach out to you prior to the workshop to discuss your project and to help you identify the data and other information you will need to bring to this workshop to be successful. \nThis offering is hosted by The Polis Center\, the creators of SAVI. Through this offering\, they will use the Central Indiana map\, but the lessons remain the same for Southern Indiana region. \nAnswering the questions necessary to achieve goals requires locating and using the right data and tools. This workshop covers the strengths\, weaknesses\, and costs of readily available data sets\, including SAVI\, so you have the information you need to locate the data that is right for you. Hands-on activities explore the many tools that SAVI provides for locating and exploring data.\n\n\n\n\nWHO SHOULD ATTEND? This workshop is perfect for anyone that wants to learn techniques for finding the right data to answer questions. \nWHAT YOU WILL LEARN \n\nBenefits and challenges associated with several types of data\nWhere to access readily available data sources\nHow to balance needs and priorities to choose the right dataset\nHow to choose a substitute dataset when the indicator you want to measure is not available\n\nUSEFUL KNOWLEDGE TO HAVE BEFORE ATTENDING \nNo prior knowledge is required\, but you may find it useful to attend the Module 1A: Framing the Problem workshop before attending this workshop. In that workshop you learn how to frame problems with specific and measurable questions that can help you meet your goals. \nRegister Here
URL:https://growcapacity.info/event/savi-data-literacy-skills-training-central-indiana-module-2a-finding-existing-data-3-2/
LOCATION:Online
CATEGORIES:Community Stakeholder,Donor-Funder,Nonprofit
ATTACH;FMTTYPE=image/webp:https://growcapacity.info/wp-content/uploads/2024/01/Savi-data-literacy.webp
END:VEVENT
BEGIN:VEVENT
DTSTART;TZID=America/Chicago:20240530T083000
DTEND;TZID=America/Chicago:20240530T113000
DTSTAMP:20260424T022543
CREATED:20231218T184807Z
LAST-MODIFIED:20231218T194444Z
UID:10000066-1717057800-1717068600@growcapacity.info
SUMMARY:Sustain Abilities
DESCRIPTION:This joint participation facilitates embedding the learnings into both staff and the full board. Each successive year builds on the basic topics covered in the year prior with the intention of building board culture and staff/board alignment. There are 4 “advancing” levels\, with an “alumni” opportunity which is an opportunity for agencies previously engaged to begin again if leadership has changed or if other members of leadership have been identified for attendance to assist the organization with embedding the learning. Two members (board president or designated board member and ED)\, partner through this cohort-based learning experience\, building communication effectiveness and implementation strength. In Sustain Abilities\, the focus is on more engaged boards\, building board culture\, deeper donor relationships\, with a financial plan developed by the end of the program\, working toward long-term sustainability. Such things as capital campaign readiness assessment\, donor communications\, and planned giving are discussed. The deliverables at the end of the program are a richer understanding of the success factors and an action plan for incorporating them into the board and staff “DNA”. (Outcome measurement provided by JDLA).
URL:https://growcapacity.info/event/sustain-abilities-7/
LOCATION:Welborn Community Room\, 20 NW Third St.\, Suite 1500\, Evansville\, 47708\, United States
CATEGORIES:Community Stakeholder,Nonprofit
ATTACH;FMTTYPE=image/webp:https://growcapacity.info/wp-content/uploads/2023/12/SustainAbilities.webp
END:VEVENT
END:VCALENDAR