BEGIN:VCALENDAR
VERSION:2.0
PRODID:-//Grow is a capacity building platform - ECPv6.15.20//NONSGML v1.0//EN
CALSCALE:GREGORIAN
METHOD:PUBLISH
X-WR-CALNAME:Grow is a capacity building platform
X-ORIGINAL-URL:https://growcapacity.info
X-WR-CALDESC:Events for Grow is a capacity building platform
REFRESH-INTERVAL;VALUE=DURATION:PT1H
X-Robots-Tag:noindex
X-PUBLISHED-TTL:PT1H
BEGIN:VTIMEZONE
TZID:America/Chicago
BEGIN:DAYLIGHT
TZOFFSETFROM:-0600
TZOFFSETTO:-0500
TZNAME:CDT
DTSTART:20230312T080000
END:DAYLIGHT
BEGIN:STANDARD
TZOFFSETFROM:-0500
TZOFFSETTO:-0600
TZNAME:CST
DTSTART:20231105T070000
END:STANDARD
BEGIN:DAYLIGHT
TZOFFSETFROM:-0600
TZOFFSETTO:-0500
TZNAME:CDT
DTSTART:20240310T080000
END:DAYLIGHT
BEGIN:STANDARD
TZOFFSETFROM:-0500
TZOFFSETTO:-0600
TZNAME:CST
DTSTART:20241103T070000
END:STANDARD
BEGIN:DAYLIGHT
TZOFFSETFROM:-0600
TZOFFSETTO:-0500
TZNAME:CDT
DTSTART:20250309T080000
END:DAYLIGHT
BEGIN:STANDARD
TZOFFSETFROM:-0500
TZOFFSETTO:-0600
TZNAME:CST
DTSTART:20251102T070000
END:STANDARD
END:VTIMEZONE
BEGIN:VEVENT
DTSTART;TZID=America/Chicago:20240603T120000
DTEND;TZID=America/Chicago:20240603T140000
DTSTAMP:20260423T165337
CREATED:20240125T195112Z
LAST-MODIFIED:20240219T170324Z
UID:10000085-1717416000-1717423200@growcapacity.info
SUMMARY:SAVI Data Literacy Skills Training – Module 2B: Avoid Data Pitfalls
DESCRIPTION:This VIRTUAL workshop will help you apply the skills learned in other workshops to your own real-world\, data-informed project. The workshop instructor will reach out to you prior to the workshop to discuss your project and to help you identify the data and other information you will need to bring to this workshop to be successful. \nThis offering is hosted by The Polis Center\, the creators of SAVI. Through this offering\, they will use the Central Indiana map\, but the lessons remain the same for Southern Indiana region. \nData is most powerful when you understand its limits. This module will give you the knowledge to think critically about data\, making you aware of what can cause noise in data and how to use data effectively despite these limitations.\n\n\nWHAT YOU WILL LEARN \n\nHow policy changes can affect the numbers\nHow factors outside your analysis can impact the data\nHow to judge the accuracy and reliability of data\n\n\n\nRegister Here
URL:https://growcapacity.info/event/savi-data-literacy-skills-training-central-indiana-module-2b-avoid-data-pitfalls-3/
LOCATION:Online
CATEGORIES:Community Stakeholder,Donor-Funder,Nonprofit
ATTACH;FMTTYPE=image/webp:https://growcapacity.info/wp-content/uploads/2024/01/Savi-data-literacy.webp
END:VEVENT
BEGIN:VEVENT
DTSTART;TZID=America/Chicago:20240605T083000
DTEND;TZID=America/Chicago:20240606T163000
DTSTAMP:20260423T165337
CREATED:20240207T165849Z
LAST-MODIFIED:20240207T174143Z
UID:10000096-1717576200-1717691400@growcapacity.info
SUMMARY:Next Generation Leadership Academy (6-Part Series)
DESCRIPTION:Next Generation Leadership Academy is a customized executive level education partnership with IU O’Neill School of Public and Environmental Affairs. This 6-linked module\, focusing on competency development in the areas of leading a nonprofit is designed for new Executive Directors and next generation leaders (having 53 in our community who have benefitted since 2016). \nThere is a registration deadline\, spots are available but limited. For registration and further information\, please visit the Welborn Baptist Foundation website.
URL:https://growcapacity.info/event/next-generation-leadership-academy-7/
LOCATION:Welborn Community Room\, 20 NW Third St.\, Suite 1500\, Evansville\, 47708\, United States
CATEGORIES:Nonprofit
ATTACH;FMTTYPE=image/webp:https://growcapacity.info/wp-content/uploads/2023/12/Next-Gen-Leadership-Academy.webp
END:VEVENT
BEGIN:VEVENT
DTSTART;TZID=America/Chicago:20240605T101500
DTEND;TZID=America/Chicago:20240605T114500
DTSTAMP:20260423T165337
CREATED:20231218T184736Z
LAST-MODIFIED:20240125T214900Z
UID:10000054-1717582500-1717587900@growcapacity.info
SUMMARY:Giving For Impact
DESCRIPTION:Level II\, Session I \nInterested\, desire to learn more\, or want to register? Contact the event organizations here
URL:https://growcapacity.info/event/giving-for-impact-3/
LOCATION:Welborn Community Room\, 20 NW Third St.\, Suite 1500\, Evansville\, 47708\, United States
CATEGORIES:Community Stakeholder,Donor-Funder,Nonprofit
ATTACH;FMTTYPE=image/webp:https://growcapacity.info/wp-content/uploads/2023/12/Giving-For-Impact.webp
END:VEVENT
END:VCALENDAR