BEGIN:VCALENDAR
VERSION:2.0
PRODID:-//Grow is a capacity building platform - ECPv6.15.20//NONSGML v1.0//EN
CALSCALE:GREGORIAN
METHOD:PUBLISH
X-ORIGINAL-URL:https://growcapacity.info
X-WR-CALDESC:Events for Grow is a capacity building platform
REFRESH-INTERVAL;VALUE=DURATION:PT1H
X-Robots-Tag:noindex
X-PUBLISHED-TTL:PT1H
BEGIN:VTIMEZONE
TZID:America/Chicago
BEGIN:DAYLIGHT
TZOFFSETFROM:-0600
TZOFFSETTO:-0500
TZNAME:CDT
DTSTART:20230312T080000
END:DAYLIGHT
BEGIN:STANDARD
TZOFFSETFROM:-0500
TZOFFSETTO:-0600
TZNAME:CST
DTSTART:20231105T070000
END:STANDARD
BEGIN:DAYLIGHT
TZOFFSETFROM:-0600
TZOFFSETTO:-0500
TZNAME:CDT
DTSTART:20240310T080000
END:DAYLIGHT
BEGIN:STANDARD
TZOFFSETFROM:-0500
TZOFFSETTO:-0600
TZNAME:CST
DTSTART:20241103T070000
END:STANDARD
BEGIN:DAYLIGHT
TZOFFSETFROM:-0600
TZOFFSETTO:-0500
TZNAME:CDT
DTSTART:20250309T080000
END:DAYLIGHT
BEGIN:STANDARD
TZOFFSETFROM:-0500
TZOFFSETTO:-0600
TZNAME:CST
DTSTART:20251102T070000
END:STANDARD
END:VTIMEZONE
BEGIN:VEVENT
DTSTART;TZID=America/Chicago:20240716T083000
DTEND;TZID=America/Chicago:20240716T120000
DTSTAMP:20260424T040410
CREATED:20231218T184821Z
LAST-MODIFIED:20231218T194633Z
UID:10000068-1721118600-1721131200@growcapacity.info
SUMMARY:Sustain Abilities
DESCRIPTION:This joint participation facilitates embedding the learnings into both staff and the full board. Each successive year builds on the basic topics covered in the year prior with the intention of building board culture and staff/board alignment. There are 4 “advancing” levels\, with an “alumni” opportunity which is an opportunity for agencies previously engaged to begin again if leadership has changed or if other members of leadership have been identified for attendance to assist the organization with embedding the learning. Two members (board president or designated board member and ED)\, partner through this cohort-based learning experience\, building communication effectiveness and implementation strength. In Sustain Abilities\, the focus is on more engaged boards\, building board culture\, deeper donor relationships\, with a financial plan developed by the end of the program\, working toward long-term sustainability. Such things as capital campaign readiness assessment\, donor communications\, and planned giving are discussed. The deliverables at the end of the program are a richer understanding of the success factors and an action plan for incorporating them into the board and staff “DNA”. (Outcome measurement provided by JDLA).
URL:https://growcapacity.info/event/sustain-abilities-9/
LOCATION:Welborn Community Room\, 20 NW Third St.\, Suite 1500\, Evansville\, 47708\, United States
CATEGORIES:Community Stakeholder,Nonprofit
ATTACH;FMTTYPE=image/webp:https://growcapacity.info/wp-content/uploads/2023/12/SustainAbilities.webp
END:VEVENT
BEGIN:VEVENT
DTSTART;TZID=America/Chicago:20240717T140000
DTEND;TZID=America/Chicago:20240717T150000
DTSTAMP:20260424T040410
CREATED:20240313T213819Z
LAST-MODIFIED:20240920T155434Z
UID:10000103-1721224800-1721228400@growcapacity.info
SUMMARY:SAVI 101: Introduction to Grow & SAVI Data Tools
DESCRIPTION:Participants will learn the basic mechanics of SAVI tools and feel excited to engage with the SAVI data system on the Grow platform. The presentation will be delivered by The Polis Center team from Indiana University – Indianapolis or the local Grow team. Who should attend? Anyone new to utilizing SAVI or a user who is interested in learning the mechanics of the system. Whether you are in the nonprofit\, donor-funder\, business sector or a curious citizen\, this introductory lesson to SAVI is for you. *In each offering\, Grow staff spend up to 10 min providing a high-level intro to Grow. Useful knowledge before attending? Visiting growcapacity.info and entering into SAVI may help with a basic understanding of the concepts presented but is not required for attending. **Following each session\, attendees will be asked to complete a brief survey. The information will help Grow improve the support and education provided for SAVI. \nClick here to register
URL:https://growcapacity.info/event/savi-101-introduction-to-grow-savi-data-tools-9/
LOCATION:Online
CATEGORIES:Community Stakeholder,Donor-Funder,Nonprofit
ATTACH;FMTTYPE=image/webp:https://growcapacity.info/wp-content/uploads/2023/10/Savi-101.webp
END:VEVENT
END:VCALENDAR