BEGIN:VCALENDAR
VERSION:2.0
PRODID:-//Grow is a capacity building platform - ECPv6.15.20//NONSGML v1.0//EN
CALSCALE:GREGORIAN
METHOD:PUBLISH
X-ORIGINAL-URL:https://growcapacity.info
X-WR-CALDESC:Events for Grow is a capacity building platform
REFRESH-INTERVAL;VALUE=DURATION:PT1H
X-Robots-Tag:noindex
X-PUBLISHED-TTL:PT1H
BEGIN:VTIMEZONE
TZID:America/Chicago
BEGIN:DAYLIGHT
TZOFFSETFROM:-0600
TZOFFSETTO:-0500
TZNAME:CDT
DTSTART:20230312T080000
END:DAYLIGHT
BEGIN:STANDARD
TZOFFSETFROM:-0500
TZOFFSETTO:-0600
TZNAME:CST
DTSTART:20231105T070000
END:STANDARD
BEGIN:DAYLIGHT
TZOFFSETFROM:-0600
TZOFFSETTO:-0500
TZNAME:CDT
DTSTART:20240310T080000
END:DAYLIGHT
BEGIN:STANDARD
TZOFFSETFROM:-0500
TZOFFSETTO:-0600
TZNAME:CST
DTSTART:20241103T070000
END:STANDARD
BEGIN:DAYLIGHT
TZOFFSETFROM:-0600
TZOFFSETTO:-0500
TZNAME:CDT
DTSTART:20250309T080000
END:DAYLIGHT
BEGIN:STANDARD
TZOFFSETFROM:-0500
TZOFFSETTO:-0600
TZNAME:CST
DTSTART:20251102T070000
END:STANDARD
END:VTIMEZONE
BEGIN:VEVENT
DTSTART;TZID=America/Chicago:20240910T083000
DTEND;TZID=America/Chicago:20240910T103000
DTSTAMP:20260423T182944
CREATED:20231211T181751Z
LAST-MODIFIED:20240819T172954Z
UID:10000038-1725957000-1725964200@growcapacity.info
SUMMARY:Evaluation 101
DESCRIPTION:This is a 4-part virtual workshop series with the ability to participate in the training subjects that interest you and your organization. Participants will learn the 4 components of a data-informed organization\, learning how to set up processes and structure\, as well as the why behind using the data as an asset for program improvement\, and external strategies shaping next steps instead of simply an obligation of compliance. Best practice approaches will be shared\, gaining templates\, and resources for practical use. EVALUATION 101 will review key competencies and elements to introduce participants to evaluation concepts. This training will be presented by Transform Consulting Group. \nRegister Here
URL:https://growcapacity.info/event/evaluation-101/
LOCATION:IN
CATEGORIES:Nonprofit
ATTACH;FMTTYPE=image/webp:https://growcapacity.info/wp-content/uploads/2023/12/Evaluation-1012.webp
END:VEVENT
BEGIN:VEVENT
DTSTART;TZID=America/Chicago:20240910T090000
DTEND;TZID=America/Chicago:20241022T120000
DTSTAMP:20260423T182944
CREATED:20240816T203754Z
LAST-MODIFIED:20240816T203754Z
UID:10000120-1725958800-1729598400@growcapacity.info
SUMMARY:Leadership Coaching Bootcamp (non-degree seeking): Four-Session Series
DESCRIPTION:Price: $395\nDates: September 10\, September 24\, October 8\, October 22\nTime: 9:00 a.m. – 12:00 p.m.Location: J. Henry Schroeder Boardroom\, Library Second FloorInstructor(s): Timothy A. Dickel\, PhD \nLeadership coaching is an effective approach to develop employees through customized development plans\, setting expectations\, providing regular feedback\, and having one on one conversations. The goal of this program is to apply a coaching approach to leadership that will build up the capacity of managers and supervisors to improve the performance of their direct reports. \nSESSION 1: \n\nIntroduction to leadership theory\nCharacteristics of effective leaders\nWhat is coaching? What is not coaching?\n\nSESSION 2: \n\nIntroduction to behavioral change\nHow leaders can help change behaviors\n\nSESSION 3: \n\nApplying effective leadership and behavioral change to coaching\nFramework for leadership coaching\n\nSESSION 4: \n\nApplication of leadership coaching\nProviding effective feedback\nTools for leadership coaching\n\nA 10% discount is available to organizations sending six or more participants. Call 812-488-1046 for more details. \nDr. Timothy A. (Tad) Dickel serves as the Executive in Residence in Leadership and is the interim faculty director of the Master of Science in Leadership program at the University of Evansville. In addition\, he is the President of T.A. Dickel Group\, LLC and serves as a leadership and strategy consultant for businesses\, universities\, and nonprofits. \nRegister Here
URL:https://growcapacity.info/event/leadership-coaching-bootcamp-non-degree-seeking-four-session-series/
LOCATION:University of Evansville\, 1800 Lincoln Ave\, Evansville\, IN\, 47714\, United States
CATEGORIES:Community Stakeholder,Community Stakeholders,Donor-Funder,Donor-Funders,Nonprofit
ATTACH;FMTTYPE=image/webp:https://growcapacity.info/wp-content/uploads/2024/04/UE-Leadership-Coaching-Bootcamp.webp
END:VEVENT
BEGIN:VEVENT
DTSTART;TZID=America/Chicago:20240910T130000
DTEND;TZID=America/Chicago:20240910T140000
DTSTAMP:20260423T182944
CREATED:20240326T204553Z
LAST-MODIFIED:20240910T135500Z
UID:10000108-1725973200-1725976800@growcapacity.info
SUMMARY:SAVI Super User 6-part data Literacy Series\, Module 1A
DESCRIPTION:Description of SAVI Super User Learning Series\nParticipants will have the confidence to use SAVI and to provide limited technical assistance to others on the mechanics of SAVI\, as well as the basics of data literacy\, pitfalls\, sense-making\, storytelling\, and informed decision-making. \nWho should attend?\nIdeal participants are those that are looking to have a more in-depth understanding of SAVI mechanics\, basics of data literacy\, pitfalls\, sensemaking\, storytelling and informed decision making. \nUseful knowledge before attending?\nSome experience working with data and familiarity with SAVI may be helpful. For those who wish to gain a deeper understanding of SAVI beforehand\, attending a SAVI 101 session is highly recommended. \nAll training offerings will be virtual. A link will be sent via email to registrants & calendar invitations. \n* Following each session\, attendees will be asked to complete a brief survey.  The information will help Grow improve the support and education provided for SAVI. \nSeries Dates:  \nModule 1A\, Ask the Right Questions: September 10\, 1:00 PM – 2:00 PM CT\nModule 2A\, Find Existing Data: September 16\, 1:00 PM – 2:30 PM CT\nModule 2B\, Avoid Data Pitfalls: September 24\, 1:00 PM – 2:30 PM CT\nModule 3A\, Analyze & Visualize with Charts\, October 2\, 1:00 PM – 3:00 PM CT\nModule 4A\, Writing Tips & Platforms\, October 10\, 1:00 PM – 3:00 PM CT\nModule 4B\, Make Decisions with Data\, October 15\, 1:00 PM – 3:00 PM CT \nRegistration is closed for this series. Please email mcraven@growcapacity.org if you are interested in the 2025 offering. 
URL:https://growcapacity.info/event/savi-super-user-6-part-data-literacy-series-module-1a/
LOCATION:Online
CATEGORIES:Community Stakeholder,Community Stakeholders,Donor-Funder,Donor-Funders,Nonprofit
ATTACH;FMTTYPE=image/webp:https://growcapacity.info/wp-content/uploads/2023/10/Savi-data-literacy-1.webp
END:VEVENT
END:VCALENDAR